Report for Digest-ECHO-0.04

Back
From: metabase:user:322078bc-2aae-11df-837a-5e0a49663a4f
Subject: PASS Digest-ECHO-0.04 v5.8.8 Mac OS X
Date: 2011-01-02T11:41:48Z

This distribution has been tested as part of the CPAN Testers
project, supporting the Perl programming language.  See
http://wiki.cpantesters.org/ for more information or email
questions to cpan-testers-discuss@perl.org


--

Dear gray,
    
This is a computer-generated error report created automatically by
CPANPLUS, version 0.9007. Testers personal comments may appear 
at the end of this report.

MAKE TEST passed: PERL_DL_NONLAZY=1 /Volumes/Media/smoke/bare/perl-5.8.8/bin/perl "-MExtUtils::Command::MM" "-e" "test_harness(0, 'blib/lib', 'blib/arch')" t/*.t
# Testing Digest::ECHO 0.04
t/00_load.t .. ok
t/01_new.t ... ok
t/224.t ...... ok
t/256.t ...... ok
t/384.t ...... ok
t/512.t ...... ok
All tests successful.
Files=6, Tests=292,  3 wallclock secs ( 0.55 usr  0.18 sys +  1.67 cusr  0.50 csys =  2.90 CPU)
Result: PASS

[MSG] [Sun Jan  2 11:43:24 2011] Sending test report for 'Digest-ECHO-0.04'

This report was machine-generated by CPANPLUS::Dist::YACSmoke 0.58.
Powered by minismokebox version 0.36

------------------------------
ENVIRONMENT AND OTHER CONTEXT
------------------------------

Environment variables:

    AUTOMATED_TESTING = 1
    PATH = /bin:/sbin:/usr/bin:/usr/sbin:/usr/local/bin:/usr/local/sbin
    PERL5LIB = :/Volumes/Media/smoke/bare/conf/perl-5.8.8/.cpanplus/5.8.8/build/Crypt-RIPEMD160-0.04/blib/lib:/Volumes/Media/smoke/bare/conf/perl-5.8.8/.cpanplus/5.8.8/build/Crypt-RIPEMD160-0.04/blib/arch:/Volumes/Media/smoke/bare/conf/perl-5.8.8/.cpanplus/5.8.8/build/parent-0.224/blib/lib:/Volumes/Media/smoke/bare/conf/perl-5.8.8/.cpanplus/5.8.8/build/parent-0.224/blib/arch:/Volumes/Media/smoke/bare/conf/perl-5.8.8/.cpanplus/5.8.8/build/Digest-BLAKE-0.04/blib/lib:/Volumes/Media/smoke/bare/conf/perl-5.8.8/.cpanplus/5.8.8/build/Digest-BLAKE-0.04/blib/arch:/Volumes/Media/smoke/bare/conf/perl-5.8.8/.cpanplus/5.8.8/build/Digest-BMW-0.04/blib/lib:/Volumes/Media/smoke/bare/conf/perl-5.8.8/.cpanplus/5.8.8/build/Digest-BMW-0.04/blib/arch:/Volumes/Media/smoke/bare/conf/perl-5.8.8/.cpanplus/5.8.8/build/Digest-ECHO-0.04/blib/lib:/Volumes/Media/smoke/bare/conf/perl-5.8.8/.cpanplus/5.8.8/build/Digest-ECHO-0.04/blib/arch
    PERL5_CPANPLUS_IS_RUNNING = 23912
    PERL5_CPANPLUS_IS_VERSION = 0.9007
    PERL5_MINISMOKEBOX = 0.36
    PERL5_YACSMOKE_BASE = /Volumes/Media/smoke/bare/conf/perl-5.8.8
    PERL_EXTUTILS_AUTOINSTALL = --defaultdeps
    PERL_MM_USE_DEFAULT = 1
    SHELL = /bin/bash
    TERM = screen

Perl special variables (and OS-specific diagnostics, for MSWin32):

    Perl: $^X = /Volumes/Media/smoke/bare/perl-5.8.8/bin/perl
    UID:  $<  = 502
    EUID: $>  = 502
    GID:  $(  = 502 502
    EGID: $)  = 502 502


-------------------------------


--

Summary of my perl5 (revision 5 version 8 subversion 8) configuration:
  Platform:
    osname=darwin, osvers=8.11.0, archname=darwin-2level
    uname='darwin afalglas.bingosnet.co.uk 8.11.0 darwin kernel version 8.11.0: wed oct 10 18:26:00 pdt 2007; root:xnu-792.24.17~1release_ppc power macintosh powerpc '
    config_args='-de -Dprefix=/Volumes/Media/smoke/bare/perl-5.8.8'
    hint=recommended, useposix=true, d_sigaction=define
    usethreads=undef use5005threads=undef useithreads=undef usemultiplicity=undef
    useperlio=define d_sfio=undef uselargefiles=define usesocks=undef
    use64bitint=undef use64bitall=undef uselongdouble=undef
    usemymalloc=n, bincompat5005=undef
  Compiler:
    cc='cc', ccflags ='-fno-common -DPERL_DARWIN -no-cpp-precomp -fno-strict-aliasing -pipe -Wdeclaration-after-statement -I/usr/local/include',
    optimize='-O3',
    cppflags='-no-cpp-precomp -fno-common -DPERL_DARWIN -no-cpp-precomp -fno-strict-aliasing -pipe -Wdeclaration-after-statement -I/usr/local/include'
    ccversion='', gccversion='4.0.1 (Apple Computer, Inc. build 5367)', gccosandvers=''
    intsize=4, longsize=4, ptrsize=4, doublesize=8, byteorder=4321
    d_longlong=define, longlongsize=8, d_longdbl=define, longdblsize=16
    ivtype='long', ivsize=4, nvtype='double', nvsize=8, Off_t='off_t', lseeksize=8
    alignbytes=8, prototype=define
  Linker and Libraries:
    ld='env MACOSX_DEPLOYMENT_TARGET=10.3 cc', ldflags =' -L/usr/local/lib'
    libpth=/usr/local/lib /usr/lib
    libs=-ldbm -ldl -lm -lc
    perllibs=-ldl -lm -lc
    libc=/usr/lib/libc.dylib, so=dylib, useshrplib=false, libperl=libperl.a
    gnulibc_version=''
  Dynamic Linking:
    dlsrc=dl_dlopen.xs, dlext=bundle, d_dlsymun=undef, ccdlflags=' '
    cccdlflags=' ', lddlflags=' -bundle -undefined dynamic_lookup -L/usr/local/lib'


Characteristics of this binary (from libperl): 
  Compile-time options: PERL_MALLOC_WRAP USE_LARGE_FILES USE_PERLIO
  Built under darwin
  Compiled at May  9 2009 22:09:25
  %ENV:
    PERL5LIB=":/Volumes/Media/smoke/bare/conf/perl-5.8.8/.cpanplus/5.8.8/build/Crypt-RIPEMD160-0.04/blib/lib:/Volumes/Media/smoke/bare/conf/perl-5.8.8/.cpanplus/5.8.8/build/Crypt-RIPEMD160-0.04/blib/arch:/Volumes/Media/smoke/bare/conf/perl-5.8.8/.cpanplus/5.8.8/build/parent-0.224/blib/lib:/Volumes/Media/smoke/bare/conf/perl-5.8.8/.cpanplus/5.8.8/build/parent-0.224/blib/arch:/Volumes/Media/smoke/bare/conf/perl-5.8.8/.cpanplus/5.8.8/build/Digest-BLAKE-0.04/blib/lib:/Volumes/Media/smoke/bare/conf/perl-5.8.8/.cpanplus/5.8.8/build/Digest-BLAKE-0.04/blib/arch:/Volumes/Media/smoke/bare/conf/perl-5.8.8/.cpanplus/5.8.8/build/Digest-BMW-0.04/blib/lib:/Volumes/Media/smoke/bare/conf/perl-5.8.8/.cpanplus/5.8.8/build/Digest-BMW-0.04/blib/arch:/Volumes/Media/smoke/bare/conf/perl-5.8.8/.cpanplus/5.8.8/build/Digest-ECHO-0.04/blib/lib:/Volumes/Media/smoke/bare/conf/perl-5.8.8/.cpanplus/5.8.8/build/Digest-ECHO-0.04/blib/arch"
    PERL5_CPANPLUS_IS_RUNNING="23912"
    PERL5_CPANPLUS_IS_VERSION="0.9007"
    PERL5_MINISMOKEBOX="0.36"
    PERL5_YACSMOKE_BASE="/Volumes/Media/smoke/bare/conf/perl-5.8.8"
    PERL_EXTUTILS_AUTOINSTALL="--defaultdeps"
    PERL_MM_USE_DEFAULT="1"
  @INC:
    /Volumes/Media/smoke/bare/conf/perl-5.8.8/.cpanplus/5.8.8/build/Crypt-RIPEMD160-0.04/blib/lib
    /Volumes/Media/smoke/bare/conf/perl-5.8.8/.cpanplus/5.8.8/build/Crypt-RIPEMD160-0.04/blib/arch
    /Volumes/Media/smoke/bare/conf/perl-5.8.8/.cpanplus/5.8.8/build/parent-0.224/blib/lib
    /Volumes/Media/smoke/bare/conf/perl-5.8.8/.cpanplus/5.8.8/build/parent-0.224/blib/arch
    /Volumes/Media/smoke/bare/conf/perl-5.8.8/.cpanplus/5.8.8/build/Digest-BLAKE-0.04/blib/lib
    /Volumes/Media/smoke/bare/conf/perl-5.8.8/.cpanplus/5.8.8/build/Digest-BLAKE-0.04/blib/arch
    /Volumes/Media/smoke/bare/conf/perl-5.8.8/.cpanplus/5.8.8/build/Digest-BMW-0.04/blib/lib
    /Volumes/Media/smoke/bare/conf/perl-5.8.8/.cpanplus/5.8.8/build/Digest-BMW-0.04/blib/arch
    /Volumes/Media/smoke/bare/conf/perl-5.8.8/.cpanplus/5.8.8/build/Digest-ECHO-0.04/blib/lib
    /Volumes/Media/smoke/bare/conf/perl-5.8.8/.cpanplus/5.8.8/build/Digest-ECHO-0.04/blib/arch
    /Volumes/Media/smoke/bare/perl-5.8.8/lib/5.8.8/darwin-2level
    /Volumes/Media/smoke/bare/perl-5.8.8/lib/5.8.8
    /Volumes/Media/smoke/bare/perl-5.8.8/lib/site_perl/5.8.8/darwin-2level
    /Volumes/Media/smoke/bare/perl-5.8.8/lib/site_perl/5.8.8
    /Volumes/Media/smoke/bare/perl-5.8.8/lib/site_perl
    .