Report for SmokeRunner-Multi-0.21

Back
From: metabase:user:314402c4-2aae-11df-837a-5e0a49663a4f
Subject: PASS SmokeRunner-Multi-0.21 v5.23.8 GNU/Linux
Date: 2016-02-23T00:20:45Z

This distribution has been tested as part of the CPAN Testers
project, supporting the Perl programming language.  See
http://wiki.cpantesters.org/ for more information or email
questions to cpan-testers-discuss@perl.org


--
Dear Yanick Champoux,

This is a computer-generated report for SmokeRunner-Multi-0.21
on perl 5.23.8, created by CPAN-Reporter-1.2015.

Thank you for uploading your work to CPAN.  Congratulations!
All tests were successful.

Sections of this report:

    * Tester comments
    * Program output
    * Prerequisites
    * Environment and other context

------------------------------
TESTER COMMENTS
------------------------------

Additional comments from tester:

none provided

------------------------------
PROGRAM OUTPUT
------------------------------

Output from '/usr/bin/make test':

PERL_DL_NONLAZY=1 "/bbbike/perl-5.23.8/bin/perl5.23.8" "-MExtUtils::Command::MM" "-MTest::Harness" "-e" "undef *Test::Harness::Switches; test_harness(0, 'blib/lib', 'blib/arch')" t/*.t t/Reporter/*.t t/Runner/*.t t/TestSet/*.t
t/00-compile.t ......... ok
# 
# Versions for all modules listed in MYMETA.json (including optional ones):
# 
# === Configure Requires ===
# 
#     Module              Want    Have
#     ------------------- ---- -------
#     ExtUtils::MakeMaker  any 7.10_01
# 
# === Build Requires ===
# 
#     Module              Want    Have
#     ------------------- ---- -------
#     ExtUtils::MakeMaker  any 7.10_01
# 
# === Test Requires ===
# 
#     Module              Want     Have
#     ------------------- ---- --------
#     ExtUtils::MakeMaker  any  7.10_01
#     File::Copy           any     2.30
#     File::Spec           any     3.62
#     IO::Handle           any     1.35
#     IPC::Open3           any     1.20
#     Test::More           any 1.001014
#     lib                  any     0.63
# 
# === Test Recommends ===
# 
#     Module         Want     Have
#     ---------- -------- --------
#     CPAN::Meta 2.120900 2.150005
# 
# === Runtime Requires ===
# 
#     Module                     Want     Have
#     -------------------------- ---- --------
#     Archive::Tar                any     2.04
#     Class::Accessor::Fast       any     0.34
#     Class::Factory::Util        any      1.7
#     Cwd                         any     3.62
#     DBD::SQLite                 any     1.50
#     DBI                         any    1.634
#     DateTime::Format::Strptime  any     1.63
#     Exporter                    any     5.72
#     File::Basename              any     2.85
#     File::Find::Rule            any     0.34
#     File::HomeDir               any     1.00
#     File::Path                  any     2.12
#     File::Spec                  any     3.62
#     File::Temp                  any   0.2304
#     File::Which                 any     1.19
#     File::chdir                 any   0.1010
#     IPC::Run3                   any    0.048
#     List::Util                  any  1.42_01
#     Moo                         any 2.000002
#     MooX::Singleton             any     1.20
#     Params::Validate            any     1.22
#     Scalar::Util                any  1.42_01
#     YAML::Syck                  any     1.29
#     base                        any     2.23
#     strict                      any     1.10
#     warnings                    any     1.35
# 
t/00-report-prereqs.t .. ok
t/Config.t ............. ok
t/DBI.t ................ ok
t/Multi.t .............. ok
t/pod-coverage.t ....... skipped: This test is only run for the module author
t/pod.t ................ skipped: This test is only run for the module author
t/Reporter.t ........... ok
t/Reporter/Screen.t .... ok
t/Reporter/Smolder.t ... ok
t/Runner.t ............. ok
t/Runner/Prove.t ....... ok
t/Runner/TAPArchive.t .. ok
t/smokerunner-multi.t .. ok
t/TestSet.t ............ ok
t/TestSet/SVN.t ........ ok
All tests successful.
Files=16, Tests=82,  7 wallclock secs ( 0.04 usr  0.08 sys +  2.74 cusr  0.79 csys =  3.65 CPU)
Result: PASS

------------------------------
PREREQUISITES
------------------------------

Prerequisite modules loaded:

requires:

    Module                     Need  Have    
    -------------------------- ----- --------
    Archive::Tar               0     2.04    
    base                       0     2.23    
    Class::Accessor::Fast      0     0.34    
    Class::Factory::Util       0     1.7     
    Cwd                        0     3.62    
    DateTime::Format::Strptime 0     1.63    
    DBD::SQLite                0     1.50    
    DBI                        0     1.634   
    Exporter                   0     5.72    
    File::Basename             0     2.85    
    File::chdir                0     0.1010  
    File::Find::Rule           0     0.34    
    File::HomeDir              0     1.00    
    File::Path                 0     2.12    
    File::Spec                 0     3.62    
    File::Temp                 0     0.2304  
    File::Which                0     1.19    
    IPC::Run3                  0     0.048   
    List::Util                 0     1.42_01 
    Moo                        0     2.000002
    MooX::Singleton            0     1.20    
    Params::Validate           0     1.22    
    perl                       5.006 5.023008
    Scalar::Util               0     1.42_01 
    strict                     0     1.10    
    warnings                   0     1.35    
    YAML::Syck                 0     1.29    

build_requires:

    Module                     Need  Have    
    -------------------------- ----- --------
    ExtUtils::MakeMaker        0     7.10_01 
    File::Copy                 0     2.30    
    File::Spec                 0     3.62    
    IO::Handle                 0     1.35    
    IPC::Open3                 0     1.20    
    lib                        0     0.63    
    Test::More                 0     1.001014

configure_requires:

    Module                     Need  Have    
    -------------------------- ----- --------
    ExtUtils::MakeMaker        0     7.10_01 


------------------------------
ENVIRONMENT AND OTHER CONTEXT
------------------------------

Environment variables:

    LANG = C
    LC_ALL = de_DE.UTF-8
    PATH = /usr/local/bin:/usr/bin:/bin:/usr/local/sbin:/usr/sbin:/sbin:/home/cpansand/bin/linux-gnu:/home/cpansand/bin/sh:/home/cpansand/bin:/usr/games:/home/cpansand/devel:/home/eserte/src/srezic-misc/scripts
    PERL5LIB = 
    PERL5OPT = 
    PERL5_CPANPLUS_IS_RUNNING = 12344
    PERL5_CPAN_IS_RUNNING = 12344
    PERL5_CPAN_IS_RUNNING_IN_RECURSION = 2530,12344
    PERLDOC = -MPod::Perldoc::ToTextOverstrike
    PERL_BATCH = yes
    PERL_CANARY_STABILITY_NOPROMPT = 1
    PERL_CPAN_REPORTER_CONFIG = /var/tmp/cpansmoker-1023/2016022218/cpanreporter_002_config.ini
    PERL_EXTUTILS_AUTOINSTALL = --defaultdeps
    PERL_PARALLEL_SMOKER = yes
    SHELL = /bin/zsh
    TERM = screen
    TMPDIR = /var/tmp/cpansmoker-1023/2016022218

Perl special variables (and OS-specific diagnostics, for MSWin32):

    $^X = /bbbike/perl-5.23.8/bin/perl5.23.8
    $UID/$EUID = 1023 / 1023
    $GID = 1023 1023
    $EGID = 1023 1023

Perl module toolchain versions installed:

    Module              Have    
    ------------------- --------
    CPAN                2.11    
    CPAN::Meta          2.150005
    Cwd                 3.62    
    ExtUtils::CBuilder  0.280224
    ExtUtils::Command   7.10    
    ExtUtils::Install   2.04    
    ExtUtils::MakeMaker 7.10_01 
    ExtUtils::Manifest  1.70    
    ExtUtils::ParseXS   3.30    
    File::Spec          3.62    
    JSON                2.90    
    JSON::PP            2.27300 
    Module::Build       0.4216  
    Module::Signature   0.79    
    Parse::CPAN::Meta   1.4417  
    Test::Harness       3.36    
    Test::More          1.001014
    YAML                1.15    
    YAML::Syck          1.29    
    version             0.9913  


--

Summary of my perl5 (revision 5 version 23 subversion 8) configuration:
   
  Platform:
    osname=linux, osvers=3.2.0-4-amd64, archname=x86_64-linux
    uname='linux eserte 3.2.0-4-amd64 #1 smp debian 3.2.73-2+deb7u2 x86_64 gnulinux '
    config_args='-ds -e -Dprefix=/opt/perl-5.23.8 -Dusedevel -Dusemallocwrap=no -Dcf_email=srezic@cpan.org'
    hint=recommended, useposix=true, d_sigaction=define
    useithreads=undef, usemultiplicity=undef
    use64bitint=define, use64bitall=define, uselongdouble=undef
    usemymalloc=n, bincompat5005=undef
  Compiler:
    cc='cc', ccflags ='-fwrapv -fno-strict-aliasing -pipe -fstack-protector -I/usr/local/include -D_LARGEFILE_SOURCE -D_FILE_OFFSET_BITS=64 -D_FORTIFY_SOURCE=2',
    optimize='-O2',
    cppflags='-fwrapv -fno-strict-aliasing -pipe -fstack-protector -I/usr/local/include'
    ccversion='', gccversion='4.7.2', gccosandvers=''
    intsize=4, longsize=8, ptrsize=8, doublesize=8, byteorder=12345678, doublekind=3
    d_longlong=define, longlongsize=8, d_longdbl=define, longdblsize=16, longdblkind=3
    ivtype='long', ivsize=8, nvtype='double', nvsize=8, Off_t='off_t', lseeksize=8
    alignbytes=8, prototype=define
  Linker and Libraries:
    ld='cc', ldflags =' -fstack-protector -L/usr/local/lib'
    libpth=/usr/local/lib /usr/lib/gcc/x86_64-linux-gnu/4.7/include-fixed /usr/include/x86_64-linux-gnu /usr/lib /lib/x86_64-linux-gnu /lib/../lib /usr/lib/x86_64-linux-gnu /usr/lib/../lib /lib
    libs=-lpthread -lnsl -ldb -ldl -lm -lcrypt -lutil -lc
    perllibs=-lpthread -lnsl -ldl -lm -lcrypt -lutil -lc
    libc=libc-2.13.so, so=so, useshrplib=false, libperl=libperl.a
    gnulibc_version='2.13'
  Dynamic Linking:
    dlsrc=dl_dlopen.xs, dlext=so, d_dlsymun=undef, ccdlflags='-Wl,-E'
    cccdlflags='-fPIC', lddlflags='-shared -O2 -L/usr/local/lib -fstack-protector'


Characteristics of this binary (from libperl): 
  Compile-time options: HAS_TIMES PERLIO_LAYERS PERL_COPY_ON_WRITE
                        PERL_DONT_CREATE_GVSV
                        PERL_HASH_FUNC_ONE_AT_A_TIME_HARD PERL_PRESERVE_IVUV
                        PERL_USE_DEVEL USE_64_BIT_ALL USE_64_BIT_INT
                        USE_LARGE_FILES USE_LOCALE USE_LOCALE_COLLATE
                        USE_LOCALE_CTYPE USE_LOCALE_NUMERIC USE_LOCALE_TIME
                        USE_PERLIO USE_PERL_ATOF
  Built under linux
  Compiled at Feb 21 2016 07:00:19
  %ENV:
    PERL5LIB=""
    PERL5OPT=""
    PERL5_CPANPLUS_IS_RUNNING="12344"
    PERL5_CPAN_IS_RUNNING="12344"
    PERL5_CPAN_IS_RUNNING_IN_RECURSION="2530,12344"
    PERLDOC="-MPod::Perldoc::ToTextOverstrike"
    PERL_BATCH="yes"
    PERL_CANARY_STABILITY_NOPROMPT="1"
    PERL_CPAN_REPORTER_CONFIG="/var/tmp/cpansmoker-1023/2016022218/cpanreporter_002_config.ini"
    PERL_EXTUTILS_AUTOINSTALL="--defaultdeps"
    PERL_PARALLEL_SMOKER="yes"
  @INC:
    /opt/perl-5.23.8/lib/site_perl/5.23.8/x86_64-linux
    /opt/perl-5.23.8/lib/site_perl/5.23.8
    /opt/perl-5.23.8/lib/5.23.8/x86_64-linux
    /opt/perl-5.23.8/lib/5.23.8
    .