Dist-Zilla-PluginBundle-Author-TEAM v0.005 Perl 5 v5.30.3 sparc64-openbsd
- Status
- Pass
- From
- Dist
-
Dist-Zilla-PluginBundle-Author-TEAM v0.005
- Platform
- Perl 5 v5.30.3 sparc64-openbsd
- Date
- 2021-01-02 20:01:19
- ID
- 47ca1c30-4d35-11eb-bd90-c0e3f779e05f
This distribution has been tested as part of the CPAN Testers
project, supporting the Perl programming language. See
http://wiki.cpantesters.org/ for more information or email
questions to cpan-testers-discuss@perl.org
--
Dear Tom Molesworth,
This is a computer-generated report for Dist-Zilla-PluginBundle-Author-TEAM-0.005
on perl 5.30.3, created by CPAN-Reporter-1.2018.
Thank you for uploading your work to CPAN. Congratulations!
All tests were successful.
Sections of this report:
* Tester comments
* Program output
* Prerequisites
* Environment and other context
------------------------------
TESTER COMMENTS
------------------------------
Additional comments from tester:
this report is from an automated smoke testing program
and was not reviewed by a human for accuracy
------------------------------
PROGRAM OUTPUT
------------------------------
Output from '/usr/bin/make test':
PERL_DL_NONLAZY=1 "/usr/bin/perl" "-MExtUtils::Command::MM" "-MTest::Harness" "-e" "undef *Test::Harness::Switches; test_harness(0, 'blib/lib', 'blib/arch')" t/*.t
t/00-check-deps.t ...... ok
t/00-compile.t ......... ok
#
# Versions for all modules listed in MYMETA.json (including optional ones):
#
# === Configure Requires ===
#
# Module Want Have
# ------------------- ---- ----
# ExtUtils::MakeMaker any 7.58
#
# === Build Requires ===
#
# Module Want Have
# ------------------- ---- ----
# ExtUtils::MakeMaker any 7.58
#
# === Test Requires ===
#
# Module Want Have
# ------------------- ----- --------
# ExtUtils::MakeMaker any 7.58
# File::Spec any 3.78
# IO::Handle any 1.40
# IPC::Open3 any 1.20
# Test::CheckDeps 0.010 0.010
# Test::More 0.94 1.302183
#
# === Test Recommends ===
#
# Module Want Have
# ---------- -------- --------
# CPAN::Meta 2.120900 2.150010
#
# === Runtime Requires ===
#
# Module Want Have
# ------------------------------------------------ ----- --------
# Dist::Zilla::Plugin::ArchiveRelease any 6.000
# Dist::Zilla::Plugin::Authority any 1.009
# Dist::Zilla::Plugin::AutoPrereqs any 6.017
# Dist::Zilla::Plugin::CheckChangesHasContent any 0.011
# Dist::Zilla::Plugin::CheckExtraTests any 0.029
# Dist::Zilla::Plugin::CheckPrereqsIndexed any 0.020
# Dist::Zilla::Plugin::ConfirmRelease any 6.017
# Dist::Zilla::Plugin::CopyFilesFromBuild any 0.170880
# Dist::Zilla::Plugin::ExecDir any 6.017
# Dist::Zilla::Plugin::Git::Check any 2.047
# Dist::Zilla::Plugin::Git::Commit any 2.047
# Dist::Zilla::Plugin::Git::CommitBuild any 2.047
# Dist::Zilla::Plugin::Git::Contributors any 0.036
# Dist::Zilla::Plugin::Git::GatherDir any 2.047
# Dist::Zilla::Plugin::Git::Push any 2.047
# Dist::Zilla::Plugin::Git::Tag any 2.047
# Dist::Zilla::Plugin::GithubMeta any 0.58
# Dist::Zilla::Plugin::InsertExample any 0.09
# Dist::Zilla::Plugin::Keywords any 0.007
# Dist::Zilla::Plugin::License any 6.017
# Dist::Zilla::Plugin::Manifest any 6.017
# Dist::Zilla::Plugin::ManifestSkip any 6.017
# Dist::Zilla::Plugin::MetaJSON any 6.017
# Dist::Zilla::Plugin::MetaNoIndex any 6.017
# Dist::Zilla::Plugin::MetaProvides::Package any 2.004003
# Dist::Zilla::Plugin::MetaTests any 6.017
# Dist::Zilla::Plugin::MetaYAML any 6.017
# Dist::Zilla::Plugin::MojibakeTests any 0.8
# Dist::Zilla::Plugin::NextRelease any 6.017
# Dist::Zilla::Plugin::OurPkgVersion any 0.21
# Dist::Zilla::Plugin::OverridePkgVersion any 0.002
# Dist::Zilla::Plugin::PodCoverageTests any 6.017
# Dist::Zilla::Plugin::PodInherit 0.008 0.009
# Dist::Zilla::Plugin::PodSyntaxTests any 6.017
# Dist::Zilla::Plugin::Prereqs::AuthorDeps any 0.007
# Dist::Zilla::Plugin::Prereqs::FromCPANfile any 0.08
# Dist::Zilla::Plugin::PruneCruft any 6.017
# Dist::Zilla::Plugin::PruneFiles any 6.017
# Dist::Zilla::Plugin::ReadmeAnyFromPod any 0.163250
# Dist::Zilla::Plugin::ReversionOnRelease any 0.06
# Dist::Zilla::Plugin::RunExtraTests any 0.029
# Dist::Zilla::Plugin::ShareDir any 6.017
# Dist::Zilla::Plugin::SpellingCommonMistakesTests any 1.001000
# Dist::Zilla::Plugin::Test::CPAN::Changes any 0.012
# Dist::Zilla::Plugin::Test::CheckDeps any 0.014
# Dist::Zilla::Plugin::Test::Compile any 2.058
# Dist::Zilla::Plugin::Test::EOL any 0.19
# Dist::Zilla::Plugin::Test::MinimumVersion any 2.000010
# Dist::Zilla::Plugin::Test::NoTabs any 0.15
# Dist::Zilla::Plugin::Test::Pod::No404s any 1.004
# Dist::Zilla::Plugin::Test::Portability any 2.001000
# Dist::Zilla::Plugin::Test::ReportPrereqs any 0.028
# Dist::Zilla::Plugin::Test::Version any 1.09
# Dist::Zilla::Plugin::TestRelease any 6.017
# Dist::Zilla::Plugin::UploadToCPAN any 6.017
# Dist::Zilla::Plugin::VersionFromModule any 0.08
# Dist::Zilla::Role::PluginBundle::Config::Slicer any 0.202
# Dist::Zilla::Role::PluginBundle::Easy any 6.017
# Dist::Zilla::Role::PluginBundle::PluginRemover any 0.105
# Dist::Zilla::Util any 6.017
# Moose any 2.2013
# Perl::Version any 1.013
# Test::CPAN::Meta any 0.25
# Test::CPANfile any 0.08
# Test::CheckDeps 0.010 0.010
# strict any 1.11
# warnings any 1.44
#
t/00-report-prereqs.t .. ok
All tests successful.
Files=3, Tests=78, 4 wallclock secs ( 0.10 usr 0.12 sys + 3.49 cusr 0.66 csys = 4.37 CPU)
Result: PASS
------------------------------
PREREQUISITES
------------------------------
Prerequisite modules loaded:
requires:
Module Need Have
------------------------------------------------ -------- --------
Dist::Zilla::Plugin::ArchiveRelease 0 6.000
Dist::Zilla::Plugin::Authority 0 1.009
Dist::Zilla::Plugin::AutoPrereqs 0 6.017
Dist::Zilla::Plugin::CheckChangesHasContent 0 0.011
Dist::Zilla::Plugin::CheckExtraTests 0 0.029
Dist::Zilla::Plugin::CheckPrereqsIndexed 0 0.020
Dist::Zilla::Plugin::ConfirmRelease 0 6.017
Dist::Zilla::Plugin::CopyFilesFromBuild 0 0.170880
Dist::Zilla::Plugin::ExecDir 0 6.017
Dist::Zilla::Plugin::Git::Check 0 2.047
Dist::Zilla::Plugin::Git::Commit 0 2.047
Dist::Zilla::Plugin::Git::CommitBuild 0 2.047
Dist::Zilla::Plugin::Git::Contributors 0 0.036
Dist::Zilla::Plugin::Git::GatherDir 0 2.047
Dist::Zilla::Plugin::Git::Push 0 2.047
Dist::Zilla::Plugin::Git::Tag 0 2.047
Dist::Zilla::Plugin::GithubMeta 0 0.58
Dist::Zilla::Plugin::InsertExample 0 0.09
Dist::Zilla::Plugin::Keywords 0 0.007
Dist::Zilla::Plugin::License 0 6.017
Dist::Zilla::Plugin::Manifest 0 6.017
Dist::Zilla::Plugin::ManifestSkip 0 6.017
Dist::Zilla::Plugin::MetaJSON 0 6.017
Dist::Zilla::Plugin::MetaNoIndex 0 6.017
Dist::Zilla::Plugin::MetaProvides::Package 0 2.004003
Dist::Zilla::Plugin::MetaTests 0 6.017
Dist::Zilla::Plugin::MetaYAML 0 6.017
Dist::Zilla::Plugin::MojibakeTests 0 0.8
Dist::Zilla::Plugin::NextRelease 0 6.017
Dist::Zilla::Plugin::OurPkgVersion 0 0.21
Dist::Zilla::Plugin::OverridePkgVersion 0 0.002
Dist::Zilla::Plugin::PodCoverageTests 0 6.017
Dist::Zilla::Plugin::PodInherit 0.008 0.009
Dist::Zilla::Plugin::PodSyntaxTests 0 6.017
Dist::Zilla::Plugin::Prereqs::AuthorDeps 0 0.007
Dist::Zilla::Plugin::Prereqs::FromCPANfile 0 0.08
Dist::Zilla::Plugin::PruneCruft 0 6.017
Dist::Zilla::Plugin::PruneFiles 0 6.017
Dist::Zilla::Plugin::ReadmeAnyFromPod 0 0.163250
Dist::Zilla::Plugin::ReversionOnRelease 0 0.06
Dist::Zilla::Plugin::RunExtraTests 0 0.029
Dist::Zilla::Plugin::ShareDir 0 6.017
Dist::Zilla::Plugin::SpellingCommonMistakesTests 0 1.001000
Dist::Zilla::Plugin::Test::CheckDeps 0 0.014
Dist::Zilla::Plugin::Test::Compile 0 2.058
Dist::Zilla::Plugin::Test::CPAN::Changes 0 0.012
Dist::Zilla::Plugin::Test::EOL 0 0.19
Dist::Zilla::Plugin::Test::MinimumVersion 0 2.000010
Dist::Zilla::Plugin::Test::NoTabs 0 0.15
Dist::Zilla::Plugin::Test::Pod::No404s 0 1.004
Dist::Zilla::Plugin::Test::Portability 0 2.001000
Dist::Zilla::Plugin::Test::ReportPrereqs 0 0.028
Dist::Zilla::Plugin::Test::Version 0 1.09
Dist::Zilla::Plugin::TestRelease 0 6.017
Dist::Zilla::Plugin::UploadToCPAN 0 6.017
Dist::Zilla::Plugin::VersionFromModule 0 0.08
Dist::Zilla::Role::PluginBundle::Config::Slicer 0 0.202
Dist::Zilla::Role::PluginBundle::Easy 0 6.017
Dist::Zilla::Role::PluginBundle::PluginRemover 0 0.105
Dist::Zilla::Util 0 6.017
Moose 0 2.2013
perl 5.014 5.030003
Perl::Version 0 1.013
strict 0 1.11
Test::CheckDeps 0.010 0.010
Test::CPAN::Meta 0 0.25
Test::CPANfile 0 0.08
warnings 0 1.44
build_requires:
Module Need Have
------------------------------------------------ -------- --------
ExtUtils::MakeMaker 0 7.58
File::Spec 0 3.78
IO::Handle 0 1.40
IPC::Open3 0 1.20
Test::CheckDeps 0.010 0.010
Test::More 0.94 1.302183
configure_requires:
Module Need Have
------------------------------------------------ -------- --------
ExtUtils::MakeMaker 0 7.58
perl 5.014 5.030003
opt_build_requires:
Module Need Have
------------------------------------------------ -------- --------
CPAN::Meta 2.120900 2.150010
------------------------------
ENVIRONMENT AND OTHER CONTEXT
------------------------------
Environment variables:
AUTOMATED_TESTING = 1
NONINTERACTIVE_TESTING = 1
PATH = /home/smoker/perl/system/bin:/home/smoker/.plenv/libexec:/home/smoker/.plenv/plugins/perl-build/bin:/home/smoker/.plenv/plugins/plenv-contrib/bin:/home/smoker/.plenv/shims:/home/smoker/.plenv/bin:/home/smoker/bin:/bin:/sbin:/usr/bin:/usr/sbin:/usr/X11R6/bin:/usr/local/bin:/usr/local/sbin:/usr/games
PERL5LIB = /home/smoker/perl/system/lib/perl5
PERL5OPT =
PERL5_CPANPLUS_IS_RUNNING = 80772
PERL5_CPAN_IS_RUNNING = 80772
PERL5_CPAN_IS_RUNNING_IN_RECURSION = 379,80772
PERL_CARTON_PATH = /home/afresh1/cpan-smoker-setup/local/system
PERL_CR_SMOKER_CURRENT = Dist-Zilla-PluginBundle-Author-TEAM-0.005
PERL_EXTUTILS_AUTOINSTALL = --defaultdeps
PERL_LOCAL_LIB_ROOT = /home/smoker/perl/system
PERL_MB_OPT = --install_base '/home/smoker/perl/system'
PERL_MM_OPT = INSTALL_BASE=/home/smoker/perl/system
PERL_MM_USE_DEFAULT = 1
PERL_USE_UNSAFE_INC = 1
SHELL = /bin/ksh
TERM = screen
Perl special variables (and OS-specific diagnostics, for MSWin32):
$^X = /usr/bin/perl
$UID/$EUID = 900 / 900
$GID = 900 900
$EGID = 900 900
Perl module toolchain versions installed:
Module Have
------------------- --------
CPAN 2.22
CPAN::Meta 2.150010
Cwd 3.78
ExtUtils::CBuilder 0.280231
ExtUtils::Command 7.58
ExtUtils::Install 2.20
ExtUtils::MakeMaker 7.58
ExtUtils::Manifest 1.72
ExtUtils::ParseXS 3.40
File::Spec 3.78
JSON 4.02
JSON::PP 4.05
Module::Build 0.4231
Module::Signature 0.87
Parse::CPAN::Meta 2.150010
Test::Harness 3.42
Test::More 1.302183
YAML 1.30
YAML::Syck 1.34
version 0.9924
--
Summary of my perl5 (revision 5 version 30 subversion 3) configuration:
Platform:
osname=openbsd
osvers=6.8
archname=sparc64-openbsd
uname='openbsd'
config_args='-dse -Dopenbsd_distribution=defined -Dmksymlinks'
hint=recommended
useposix=true
d_sigaction=define
useithreads=undef
usemultiplicity=undef
use64bitint=define
use64bitall=define
uselongdouble=undef
usemymalloc=n
default_inc_excludes_dot=define
bincompat5005=undef
Compiler:
cc='cc'
ccflags ='-DNO_LOCALE_NUMERIC -DNO_LOCALE_COLLATE -fno-strict-aliasing -fno-delete-null-pointer-checks -pipe -fstack-protector-strong -D_FORTIFY_SOURCE=2 -I/usr/local/include'
optimize='-O2'
cppflags='-DBIG_TIME -DNO_LOCALE_NUMERIC -DNO_LOCALE_COLLATE -fno-strict-aliasing -fno-delete-null-pointer-checks -pipe -fstack-protector-strong -I/usr/local/include'
ccversion=''
gccversion='4.2.1 20070719 '
gccosandvers='openbsd6.8'
intsize=4
longsize=8
ptrsize=8
doublesize=8
byteorder=87654321
doublekind=4
d_longlong=define
longlongsize=8
d_longdbl=define
longdblsize=16
longdblkind=2
ivtype='long'
ivsize=8
nvtype='double'
nvsize=8
Off_t='off_t'
lseeksize=8
alignbytes=8
prototype=define
Linker and Libraries:
ld='cc'
ldflags ='-Wl,-E -fstack-protector-strong -L/usr/local/lib'
libpth=/usr/lib /usr/lib
libs=-lm -lc
perllibs=-lm -lc
libc=/usr/lib/libc.so.96.0
so=so
useshrplib=true
libperl=libperl.so.20.0
gnulibc_version=''
Dynamic Linking:
dlsrc=dl_dlopen.xs
dlext=so
d_dlsymun=undef
ccdlflags='-Wl,-R/usr/libdata/perl5/sparc64-openbsd/CORE'
cccdlflags='-DPIC -fPIC '
lddlflags='-shared -fPIC -fstack-protector-strong -L/usr/local/lib'
Characteristics of this binary (from libperl):
Compile-time options:
HAS_TIMES
PERLIO_LAYERS
PERL_COPY_ON_WRITE
PERL_DONT_CREATE_GVSV
PERL_MALLOC_WRAP
PERL_OP_PARENT
PERL_PRESERVE_IVUV
USE_64_BIT_ALL
USE_64_BIT_INT
USE_LARGE_FILES
USE_LOCALE
USE_LOCALE_CTYPE
USE_LOCALE_TIME
USE_PERLIO
USE_PERL_ATOF
Built under openbsd
%ENV:
PERL5LIB="/home/smoker/perl/system/lib/perl5"
PERL5OPT=""
PERL5_CPANPLUS_IS_RUNNING="80772"
PERL5_CPAN_IS_RUNNING="80772"
PERL5_CPAN_IS_RUNNING_IN_RECURSION="379,80772"
PERL_CARTON_PATH="/home/afresh1/cpan-smoker-setup/local/system"
PERL_CR_SMOKER_CURRENT="Dist-Zilla-PluginBundle-Author-TEAM-0.005"
PERL_EXTUTILS_AUTOINSTALL="--defaultdeps"
PERL_LOCAL_LIB_ROOT="/home/smoker/perl/system"
PERL_MB_OPT="--install_base '/home/smoker/perl/system'"
PERL_MM_OPT="INSTALL_BASE=/home/smoker/perl/system"
PERL_MM_USE_DEFAULT="1"
PERL_USE_UNSAFE_INC="1"
@INC:
/home/smoker/perl/system/lib/perl5/sparc64-openbsd
/home/smoker/perl/system/lib/perl5
/usr/local/libdata/perl5/site_perl/sparc64-openbsd
/usr/local/libdata/perl5/site_perl
/usr/libdata/perl5/sparc64-openbsd
/usr/libdata/perl5
.