Email-Abstract v3.010 Perl 5 v5.39.2 darwin-2level
        
            - Status
 
            - Pass
 
            - From
 
            - John SJ Anderson
 
            - Dist
 
            - 
                Email-Abstract v3.010
            
 
            - Platform
 
            - Perl 5 v5.39.2 darwin-2level
 
            - Date
 
            - 2023-09-08 16:46:38
 
            - ID
 
            - 479d9f30-4e67-11ee-a611-ecbac7a14367
 
        
        This distribution has been tested as part of the CPAN Testers
project, supporting the Perl programming language.  See
http://wiki.cpantesters.org/ for more information or email
questions to cpan-testers-discuss@perl.org
--
Dear RJBS,
This is a computer-generated report for Email-Abstract-3.010
on perl 5.39.2, created by App::cpanminus::reporter 0.21 (1.7047).
Thank you for uploading your work to CPAN.  Congratulations!
All tests were successful.
Sections of this report:
    * Tester comments
    * Program output
    * Prerequisites
    * Environment and other context
------------------------------
TESTER COMMENTS
------------------------------
Additional comments from tester:
none provided
------------------------------
PROGRAM OUTPUT
------------------------------
Output from '':
Building and testing Email-Abstract-3.010
cp lib/Email/Abstract.pm blib/lib/Email/Abstract.pm
cp lib/Email/Abstract/EmailSimple.pm blib/lib/Email/Abstract/EmailSimple.pm
cp lib/Email/Abstract/MailMessage.pm blib/lib/Email/Abstract/MailMessage.pm
cp lib/Email/Abstract/Plugin.pm blib/lib/Email/Abstract/Plugin.pm
cp lib/Email/Abstract/MailInternet.pm blib/lib/Email/Abstract/MailInternet.pm
cp lib/Email/Abstract/EmailMIME.pm blib/lib/Email/Abstract/EmailMIME.pm
cp lib/Email/Abstract/MIMEEntity.pm blib/lib/Email/Abstract/MIMEEntity.pm
PERL_DL_NONLAZY=1 "/opt/plenv/versions/5.39.2/bin/perl5.39.2" "-MExtUtils::Command::MM" "-MTest::Harness" "-e" "undef *Test::Harness::Switches; test_harness(0, 'blib/lib', 'blib/arch')" t/*.t
# 
# Versions for all modules listed in MYMETA.json (including optional ones):
# 
# === Configure Requires ===
# 
#     Module              Want Have
#     ------------------- ---- ----
#     ExtUtils::MakeMaker 6.78 7.70
# 
# === Build Requires ===
# 
#     Module              Want Have
#     ------------------- ---- ----
#     ExtUtils::MakeMaker  any 7.70
# 
# === Test Requires ===
# 
#     Module              Want     Have
#     ------------------- ---- --------
#     ExtUtils::MakeMaker  any     7.70
#     File::Spec           any     3.90
#     Test::More          0.96 1.302195
#     lib                  any     0.65
# 
# === Test Recommends ===
# 
#     Module         Want     Have
#     ---------- -------- --------
#     CPAN::Meta 2.120900 2.150010
# 
# === Runtime Requires ===
# 
#     Module             Want     Have
#     ----------------- ----- --------
#     Carp                any     1.54
#     Email::Simple     1.998    2.218
#     MRO::Compat         any     0.15
#     Module::Pluggable   1.5      5.2
#     Scalar::Util        any     1.63
#     perl              5.006 5.039002
#     strict              any     1.13
#     warnings            any     1.67
# 
t/00-report-prereqs.t .. ok
# testing Email::MIME with 1.953
# testing Email::Simple with 2.218
# testing Mail::Internet with 2.21
# testing Email::MIME with 1.953
t/abstractions.t ....... ok
t/subclass.t ........... ok
t/unknown.t ............ ok
All tests successful.
Files=4, Tests=174,  1 wallclock secs ( 0.03 usr  0.01 sys +  0.37 cusr  0.07 csys =  0.48 CPU)
Result: PASS
------------------------------
PREREQUISITES
------------------------------
Prerequisite modules loaded:
runtime:
    Module              Need  Have    
    ------------------- ----- --------
    Carp                0     1.54    
    Email::Simple       1.998 2.218   
    Module::Pluggable   1.5   5.2     
    MRO::Compat         0     0.15    
    perl                5.006 5.039002
    Scalar::Util        0     1.63    
    strict              0     1.13    
    warnings            0     1.67    
build:
    Module              Need  Have    
    ------------------- ----- --------
    ExtUtils::MakeMaker 0     7.70    
configure:
    Module              Need  Have    
    ------------------- ----- --------
    ExtUtils::MakeMaker 6.78  7.70    
------------------------------
ENVIRONMENT AND OTHER CONTEXT
------------------------------
Environment variables:
    LANG = en_US.UTF-8
    LC_ALL = en_US.UTF-8
    LC_TERMINAL = iTerm2
    LC_TERMINAL_VERSION = 3.4.20
    PATH = /opt/plenv/versions/5.39.2/bin:/opt/plenv/libexec:/opt/plenv/plugins/Perl-Build/bin:/Users/genehack/bin:/opt/plenv/shims:/opt/plenv/bin:/opt/git/bin:/opt/local/bin:/usr/local/bin:/usr/local/sbin:/usr/bin:/bin:/usr/sbin:/sbin:/opt/rust/cargo/bin:/usr/local/opt/fzf/bin/
    PERL_CPANM_OPT = --skip-installed --prompt
    SHELL = /bin/zsh
    TERM = screen-256color
    TMPDIR = /var/folders/2s/9hc8cgcd2h7dglxq0j84ybwr0000gn/T/
Perl special variables (and OS-specific diagnostics, for MSWin32):
    EGID = 20 20 12 61 79 80 81 98 701 33 100 204 250 395 398 399 400
    EUID = 501
    EXECUTABLE_NAME = /opt/plenv/versions/5.39.2/bin/perl5.39.2
    GID = 20 20 12 61 79 80 81 98 701 33 100 204 250 395 398 399 400
    UID = 501
Perl module toolchain versions installed:
    Module              Have    
    ------------------- --------
    CPAN                2.36    
    CPAN::Meta          2.150010
    Cwd                 3.90    
    ExtUtils::CBuilder  0.280239
    ExtUtils::Command   7.70    
    ExtUtils::Install   2.22    
    ExtUtils::MakeMaker 7.70    
    ExtUtils::Manifest  1.75    
    ExtUtils::ParseXS   3.51    
    File::Spec          3.90    
    JSON                4.10    
    JSON::PP            4.16    
    Module::Build       0.4234  
    Module::Signature   n/a     
    Parse::CPAN::Meta   2.150010
    Test::Harness       3.47    
    Test::More          1.302195
    YAML                1.30    
    YAML::Syck          n/a     
    version             0.9929  
--
Summary of my perl5 (revision 5 version 39 subversion 2) configuration:
   
  Platform:
    osname=darwin
    osvers=22.6.0
    archname=darwin-2level
    uname='darwin bumfit.home.genehack.org 22.6.0 darwin kernel version 22.6.0: wed jul 5 22:21:56 pdt 2023; root:xnu-8796.141.3~6release_x86_64 x86_64 i386 macbookpro16,2 darwin '
    config_args='-Dprefix=/opt/plenv/versions/5.39.2 -de -Dversiononly -Dusedevel -A'eval:scriptdir=/opt/plenv/versions/5.39.2/bin''
    hint=recommended
    useposix=true
    d_sigaction=define
    useithreads=undef
    usemultiplicity=undef
    use64bitint=define
    use64bitall=define
    uselongdouble=undef
    usemymalloc=n
    default_inc_excludes_dot=define
  Compiler:
    cc='cc'
    ccflags ='-fno-common -DPERL_DARWIN -mmacosx-version-min=13.5 -DNO_THREAD_SAFE_QUERYLOCALE -fno-strict-aliasing -pipe -fstack-protector-strong -I/usr/local/include'
    optimize='-O3'
    cppflags='-fno-common -DPERL_DARWIN -mmacosx-version-min=13.5 -DNO_THREAD_SAFE_QUERYLOCALE -fno-strict-aliasing -pipe -fstack-protector-strong -I/usr/local/include'
    ccversion=''
    gccversion='Apple LLVM 14.0.3 (clang-1403.0.22.14.1)'
    gccosandvers=''
    intsize=4
    longsize=8
    ptrsize=8
    doublesize=8
    byteorder=12345678
    doublekind=3
    d_longlong=define
    longlongsize=8
    d_longdbl=define
    longdblsize=16
    longdblkind=3
    ivtype='long'
    ivsize=8
    nvtype='double'
    nvsize=8
    Off_t='off_t'
    lseeksize=8
    alignbytes=8
    prototype=define
  Linker and Libraries:
    ld='cc'
    ldflags =' -mmacosx-version-min=13.5 -fstack-protector-strong -L/usr/local/lib'
    libpth=/usr/local/lib /Library/Developer/CommandLineTools/usr/lib/clang/14.0.3/lib /Library/Developer/CommandLineTools/SDKs/MacOSX13.3.sdk/usr/lib /Library/Developer/CommandLineTools/usr/lib /usr/lib
    libs=-lgdbm
    perllibs=
    libc=
    so=dylib
    useshrplib=false
    libperl=libperl.a
    gnulibc_version=''
  Dynamic Linking:
    dlsrc=dl_dlopen.xs
    dlext=bundle
    d_dlsymun=undef
    ccdlflags=' '
    cccdlflags=' '
    lddlflags=' -mmacosx-version-min=13.5 -bundle -undefined dynamic_lookup -L/usr/local/lib -fstack-protector-strong'
Characteristics of this binary (from libperl): 
  Compile-time options:
    HAS_LONG_DOUBLE
    HAS_STRTOLD
    HAS_TIMES
    PERLIO_LAYERS
    PERL_COPY_ON_WRITE
    PERL_DONT_CREATE_GVSV
    PERL_HASH_FUNC_SIPHASH13
    PERL_HASH_USE_SBOX32
    PERL_MALLOC_WRAP
    PERL_OP_PARENT
    PERL_PRESERVE_IVUV
    PERL_USE_DEVEL
    PERL_USE_SAFE_PUTENV
    USE_64_BIT_ALL
    USE_64_BIT_INT
    USE_LARGE_FILES
    USE_LOCALE
    USE_LOCALE_COLLATE
    USE_LOCALE_CTYPE
    USE_LOCALE_NUMERIC
    USE_LOCALE_TIME
    USE_PERLIO
    USE_PERL_ATOF
  Built under darwin
  Compiled at Aug 21 2023 10:48:45
  %ENV:
    PERL_CPANM_OPT="--skip-installed --prompt"
  @INC:
    /opt/plenv/versions/5.39.2/lib/perl5/site_perl/5.39.2/darwin-2level
    /opt/plenv/versions/5.39.2/lib/perl5/site_perl/5.39.2
    /opt/plenv/versions/5.39.2/lib/perl5/5.39.2/darwin-2level
    /opt/plenv/versions/5.39.2/lib/perl5/5.39.2