Interchange6-Schema v0.133 Perl 5 v5.36.1 RC3 x86_64-linux

Status
Pass
From
Andreas J. König (ANDK)
Dist
Interchange6-Schema v0.133
Platform
Perl 5 v5.36.1 RC3 x86_64-linux
Date
2023-04-20 02:08:45
ID
479d0702-df20-11ed-8d09-3f2034e91fe4
This distribution has been tested as part of the CPAN Testers
project, supporting the Perl programming language.  See
http://wiki.cpantesters.org/ for more information or email
questions to cpan-testers-discuss@perl.org


--
Dear Stefan Hornburg (Racke),

This is a computer-generated report for Interchange6-Schema-0.133
on perl 5.36.1, created by CPAN-Reporter-1.2018.

Thank you for uploading your work to CPAN.  Congratulations!
All tests were successful.

Sections of this report:

    * Tester comments
    * Program output
    * Prerequisites
    * Environment and other context

------------------------------
TESTER COMMENTS
------------------------------

Additional comments from tester:

this report is from an automated smoke testing program
and was not reviewed by a human for accuracy

------------------------------
PROGRAM OUTPUT
------------------------------

Output from '/usr/bin/make test':

PERL_DL_NONLAZY=1 "/tmp/basesmoker-reloperl-0VZE/bin/perl" "-MExtUtils::Command::MM" "-MTest::Harness" "-e" "undef *Test::Harness::Switches; test_harness(0, 'blib/lib', 'blib/arch')" t/*.t
t/inflatecolumn_datetime.t .. ok
t/load.t .................... ok
t/manifest.t ................ skipped: Author tests not required for installation
t/pod-coverage.t ............ skipped: Author tests not required for installation
t/pod.t ..................... skipped: Author tests not required for installation
t/schema_sanity.t ........... skipped: Author tests not required for installation
t/test_mysql.t .............. skipped: Init database failed: could not find mysqld, please set appropriate PATH at /tmp/loop_over_bdir-2017365-UE6AA0/Interchange6-Schema-0.133-0/blib/lib/Interchange6/Test/Role/MySQL.pm line 48.
t/test_postgresql.t ......... skipped: DBD::Pg >= 3.0.0 required to run these tests
    # using: DBD::SQLite 1.72
    # db: SQLite library version: 3.39.4
t/test_sqlite.t ............. ok
All tests successful.
Files=9, Tests=54, 76 wallclock secs ( 0.18 usr  0.04 sys + 73.84 cusr  1.52 csys = 75.58 CPU)
Result: PASS

------------------------------
PREREQUISITES
------------------------------

Prerequisite modules loaded:

requires:

    Module                                         Need     Have    
    ---------------------------------------------- -------- --------
    Class::Method::Modifiers                       0        2.15    
    Data::UUID                                     0        1.226   
    DateTime                                       0        1.59    
    DBIx::Class                                    0        0.082843
    DBIx::Class::Candy                             0.002104 0.005003
    DBIx::Class::Helpers                           2.024001 2.036000
    DBIx::Class::InflateColumn::DateTime           0        0       
    DBIx::Class::InflateColumn::DateTime::Duration 0        0.01002 
    DBIx::Class::PassphraseColumn                  0.02     0.05    
    DBIx::Class::Schema::Config                    0.001011 0.001014
    DBIx::Class::TimeStamp                         0        0.14    
    DBIx::Class::Tree                              0        0.03003 
    Digest::MD5                                    0        2.58    
    Encode                                         0        3.19    
    Locale::SubCountry                             1.64     2.07    
    namespace::clean                               0        0.27    
    Session::Token                                 1.008    1.503   
    SQL::Translator                                0.11018  1.63    
    Sub::Quote                                     1.004006 2.006008
    Test::Roo                                      1.003    1.004   
    Time::Duration::Parse                          0        0.16    
    Try::Tiny                                      0        0.31    

build_requires:

    Module                                         Need     Have    
    ---------------------------------------------- -------- --------
    Data::Dumper::Concise                          0        2.023   
    DBD::SQLite                                    1.3801   1.72    
    File::Temp                                     0        0.2311  
    Test::MockTime                                 0        0.17    
    Test::More                                     0        1.302194
    Test::Most                                     0.33     0.38    
    Test::Warnings                                 0        0.031   
    YAML                                           0        1.30    

configure_requires:

    Module                                         Need     Have    
    ---------------------------------------------- -------- --------
    DBIx::Class                                    0        0.082843
    ExtUtils::MakeMaker                            0        7.70    


------------------------------
ENVIRONMENT AND OTHER CONTEXT
------------------------------

Environment variables:

    AUTOMATED_TESTING = 1
    LANG = en_US.UTF-8
    LC_ADDRESS = de_DE.UTF-8
    LC_IDENTIFICATION = de_DE.UTF-8
    LC_MEASUREMENT = de_DE.UTF-8
    LC_MONETARY = de_DE.UTF-8
    LC_NAME = de_DE.UTF-8
    LC_NUMERIC = de_DE.UTF-8
    LC_PAPER = de_DE.UTF-8
    LC_TELEPHONE = de_DE.UTF-8
    LC_TIME = de_DE.UTF-8
    PATH = /home/sand/bin:/usr/local/bin:/usr/local/sbin:/usr/sbin:/usr/bin:/sbin:/bin:/usr/games:/usr/local/games:/snap/bin:/usr/local/perl/bin:/usr/X11/bin
    PERL5LIB = 
    PERL5OPT = 
    PERL5_CPANPLUS_IS_RUNNING = 2017404
    PERL5_CPAN_IS_RUNNING = 2017404
    PERL_CANARY_STABILITY_NOPROMPT = 1
    PERL_MM_USE_DEFAULT = 1
    PERL_USE_UNSAFE_INC = 1
    SHELL = /usr/bin/zsh
    TERM = screen

Perl special variables (and OS-specific diagnostics, for MSWin32):

    $^X = /tmp/basesmoker-reloperl-0VZE/bin/perl
    $UID/$EUID = 1005 / 1005
    $GID = 1005 1005
    $EGID = 1005 1005

Perl module toolchain versions installed:

    Module              Have    
    ------------------- --------
    CPAN                2.34    
    CPAN::Meta          2.150010
    Cwd                 3.84    
    ExtUtils::CBuilder  0.280236
    ExtUtils::Command   7.70    
    ExtUtils::Install   2.22    
    ExtUtils::MakeMaker 7.70    
    ExtUtils::Manifest  1.73    
    ExtUtils::ParseXS   3.45    
    File::Spec          3.84    
    JSON                4.10    
    JSON::PP            4.16    
    Module::Build       0.4232  
    Module::Signature   0.88    
    Parse::CPAN::Meta   2.150010
    Test::Harness       3.44    
    Test::More          1.302194
    YAML                1.30    
    YAML::Syck          1.34    
    version             0.9929  


--

Summary of my perl5 (revision 5 version 36 subversion 1) configuration:
  Commit id: 66cefb00b475e1b321ab2a1aa8e66a7ae14334c2
  Platform:
    osname=linux
    osvers=5.19.0-38-generic
    archname=x86_64-linux
    uname='linux k93jammy 5.19.0-38-generic #39~22.04.1-ubuntu smp preempt_dynamic fri mar 17 21:16:15 utc 2 x86_64 x86_64 x86_64 gnulinux '
    config_args='-Dprefix=/home/sand/src/perl/repoperls/installed-perls/host/k93jammy/v5.36.1-RC3/6567 -Dmyhostname=k93jammy -Dinstallusrbinperl=n -Uversiononly -Dusedevel -des -Ui_db -Dlibswanted=cl pthread socket inet nsl gdbm dbm malloc dl ld sun m crypt sec util c cposix posix ucb BSD gdbm_compat -Uuseithreads -Uuselongdouble -DEBUGGING=-g'
    hint=recommended
    useposix=true
    d_sigaction=define
    useithreads=undef
    usemultiplicity=undef
    use64bitint=define
    use64bitall=define
    uselongdouble=undef
    usemymalloc=n
    default_inc_excludes_dot=define
  Compiler:
    cc='cc'
    ccflags ='-fwrapv -fno-strict-aliasing -pipe -fstack-protector-strong -I/usr/local/include -D_LARGEFILE_SOURCE -D_FILE_OFFSET_BITS=64'
    optimize='-O2 -g'
    cppflags='-fwrapv -fno-strict-aliasing -pipe -fstack-protector-strong -I/usr/local/include'
    ccversion=''
    gccversion='11.3.0'
    gccosandvers=''
    intsize=4
    longsize=8
    ptrsize=8
    doublesize=8
    byteorder=12345678
    doublekind=3
    d_longlong=define
    longlongsize=8
    d_longdbl=define
    longdblsize=16
    longdblkind=3
    ivtype='long'
    ivsize=8
    nvtype='double'
    nvsize=8
    Off_t='off_t'
    lseeksize=8
    alignbytes=8
    prototype=define
  Linker and Libraries:
    ld='cc'
    ldflags =' -fstack-protector-strong -L/usr/local/lib'
    libpth=/usr/local/lib /usr/lib/x86_64-linux-gnu /usr/lib /usr/lib64
    libs=-lpthread -lnsl -ldl -lm -lcrypt -lutil -lc
    perllibs=-lpthread -lnsl -ldl -lm -lcrypt -lutil -lc
    libc=/lib/x86_64-linux-gnu/libc.so.6
    so=so
    useshrplib=false
    libperl=libperl.a
    gnulibc_version='2.35'
  Dynamic Linking:
    dlsrc=dl_dlopen.xs
    dlext=so
    d_dlsymun=undef
    ccdlflags='-Wl,-E'
    cccdlflags='-fPIC'
    lddlflags='-shared -O2 -g -L/usr/local/lib -fstack-protector-strong'


Characteristics of this binary (from libperl): 
  Compile-time options:
    HAS_TIMES
    PERLIO_LAYERS
    PERL_COPY_ON_WRITE
    PERL_DONT_CREATE_GVSV
    PERL_MALLOC_WRAP
    PERL_OP_PARENT
    PERL_PRESERVE_IVUV
    PERL_USE_DEVEL
    USE_64_BIT_ALL
    USE_64_BIT_INT
    USE_LARGE_FILES
    USE_LOCALE
    USE_LOCALE_COLLATE
    USE_LOCALE_CTYPE
    USE_LOCALE_NUMERIC
    USE_LOCALE_TIME
    USE_PERLIO
    USE_PERL_ATOF
  Locally applied patches:
    RC3
  Built under linux
  Compiled at Apr 16 2023 17:59:23
  %ENV:
    PERL5LIB=""
    PERL5OPT=""
    PERL5_CPANPLUS_IS_RUNNING="2017404"
    PERL5_CPAN_IS_RUNNING="2017404"
    PERL_CANARY_STABILITY_NOPROMPT="1"
    PERL_MM_USE_DEFAULT="1"
    PERL_USE_UNSAFE_INC="1"
  @INC:
    /home/sand/src/perl/repoperls/installed-perls/host/k93jammy/v5.36.1-RC3/6567/lib/site_perl/5.36.1/x86_64-linux
    /home/sand/src/perl/repoperls/installed-perls/host/k93jammy/v5.36.1-RC3/6567/lib/site_perl/5.36.1
    /home/sand/src/perl/repoperls/installed-perls/host/k93jammy/v5.36.1-RC3/6567/lib/5.36.1/x86_64-linux
    /home/sand/src/perl/repoperls/installed-perls/host/k93jammy/v5.36.1-RC3/6567/lib/5.36.1
    .