Module-FromPerlVer v0.030000 Perl 5 v5.31.4 x86_64-linux-thread-multi-ld
- Status
- Pass
- From
- Andreas J. König (ANDK)
- Dist
-
Module-FromPerlVer v0.030000
- Platform
- Perl 5 v5.31.4 x86_64-linux-thread-multi-ld
- Date
- 2019-09-28 08:52:19
- ID
- 47532f1e-e1cd-11e9-9449-4508c424d6e8
This distribution has been tested as part of the CPAN Testers
project, supporting the Perl programming language. See
http://wiki.cpantesters.org/ for more information or email
questions to cpan-testers-discuss@perl.org
--
Dear Steven Lembark,
This is a computer-generated report for Module-FromPerlVer-0.030000
on perl 5.31.4, created by CPAN-Reporter-1.2018.
Thank you for uploading your work to CPAN. Congratulations!
All tests were successful.
Sections of this report:
* Tester comments
* Program output
* Prerequisites
* Environment and other context
------------------------------
TESTER COMMENTS
------------------------------
Additional comments from tester:
this report is from an automated smoke testing program
and was not reviewed by a human for accuracy
------------------------------
PROGRAM OUTPUT
------------------------------
Output from '/usr/bin/make test':
PERL_DL_NONLAZY=1 "/tmp/basesmoker-reloperl-gXNa/bin/perl" "-MExtUtils::Command::MM" "-MTest::Harness" "-e" "undef *Test::Harness::Switches; test_harness(0, 'blib/lib', 'blib/arch')" t/*.t t/dynamic/*.t
# Working dir: '/tmp/loop_over_bdir-1588-Bwo9Wu/Module-FromPerlVer-0.030000-0'
# Executable: 't/00-usable.t'
# Found 'lib' directory
# Search: '/tmp/loop_over_bdir-1588-Bwo9Wu/Module-FromPerlVer-0.030000-0' for files with 'File::Copy::Recursive'
# Module-FromPerlVer-0.030000-0/MYMETA.yml 23 : ' File::Copy::Recursive::Reduced: '0.006000'
# '
# Module-FromPerlVer-0.030000-0/MYMETA.yml 41 : ' File::Copy::Recursive::Reduced: '0.006000'
# '
# Module-FromPerlVer-0.030000-0/Makefile 19 : '# META_MERGE => { CONFIGURE_REQUIRES=>{ ExtUtils::MakeMaker=>undef, strict=>q[0], version=>q[0] }, TEST_REQUIRES=>{ Archive::Tar=>q[0], Cwd=>q[3.073000], File::Basename=>q[0], File::Copy::Recursive::Reduced=>q[0.006000], File::Find=>q[0], File::Spec::Functions=>q[0], File::Temp=>q[0], FindBin=>q[0], List::MoreUtils=>q[0], List::Util=>q[1.046000], Symbol=>q[0], Test::Deep=>q[0], Test::More=>q[0], lib=>q[0], strict=>q[0], version=>q[0] }, dynamic_config=>q[1], meta-spec=>{ version=>q[2] } }
# '
# Module-FromPerlVer-0.030000-0/Makefile 21 : '# PREREQ_PM => { Cwd=>q[3.073000], File::Basename=>q[0], File::Copy::Recursive::Reduced=>q[0.006000], File::Find=>q[0], File::Spec::Functions=>q[0], FindBin=>q[0], List::Util=>q[1.046000], Symbol=>q[0], Test::More=>q[0], strict=>q[0], version=>q[0] }
# '
# Module-FromPerlVer-0.030000-0/Makefile 511 : ' $(NOECHO) $(ECHO) ' File::Copy::Recursive::Reduced: '\''0.006000'\''' >> META_new.yml
# '
# Module-FromPerlVer-0.030000-0/Makefile 529 : ' $(NOECHO) $(ECHO) ' File::Copy::Recursive::Reduced: '\''0.006000'\''' >> META_new.yml
# '
# Module-FromPerlVer-0.030000-0/Makefile 581 : ' $(NOECHO) $(ECHO) ' "File::Copy::Recursive::Reduced" : "0.006000",' >> META_new.json
# '
# Module-FromPerlVer-0.030000-0/Makefile 604 : ' $(NOECHO) $(ECHO) ' "File::Copy::Recursive::Reduced" : "0.006000",' >> META_new.json
# '
# Module-FromPerlVer-0.030000-0/Makefile 933 : ' $(NOECHO) $(ECHO) ' <REQUIRE NAME="File::Copy::Recursive::Reduced" VERSION="0.006000" />' >> Module-FromPerlVer.ppd
# '
# Module-FromPerlVer-0.030000-0/CHANGES 5 : ' out File::Copy::Recursive, which is not used in the Makefile.PL,
# '
# Module-FromPerlVer-0.030000-0/CHANGES 6 : ' module, or test code. File::Copy::Recursive is not installed
# '
# Module-FromPerlVer-0.030000-0/CHANGES 13 : ' "File::Copy::Recursive" and dumping the result along with
# '
# Module-FromPerlVer-0.030000-0/CHANGES 27 : ' File::Copy::Recursive may still have problems; revert to
# '
# Module-FromPerlVer-0.030000-0/CHANGES 28 : ' File::Copy::Recursive::Reduced.
# '
# Module-FromPerlVer-0.030000-0/MYMETA.json 37 : ' "File::Copy::Recursive::Reduced" : "0.006000",
# '
# Module-FromPerlVer-0.030000-0/MYMETA.json 60 : ' "File::Copy::Recursive::Reduced" : "0.006000",
# '
# Module-FromPerlVer-0.030000-0/Makefile.PL 81 : ' [ qw( File::Copy::Recursive::Reduced v0.6.0 ) ],
# '
# Module-FromPerlVer-0.030000-0/Makefile.PL 112 : ' [ qw( File::Copy::Recursive::Reduced v0.6.0 ) ],
# '
# Module-FromPerlVer-0.030000-0/META.json 37 : ' "File::Copy::Recursive::Reduced" : "0.006000",
# '
# Module-FromPerlVer-0.030000-0/META.json 60 : ' "File::Copy::Recursive::Reduced" : "0.006000",
# '
# Module-FromPerlVer-0.030000-0/META.yml 23 : ' File::Copy::Recursive::Reduced: '0.006000'
# '
# Module-FromPerlVer-0.030000-0/META.yml 41 : ' File::Copy::Recursive::Reduced: '0.006000'
# '
# man3/Module::FromPerlVer.3 421 : '.IP "File::Copy::Recursive" 4
# '
# man3/Module::FromPerlVer.3 422 : '.IX Item "File::Copy::Recursive"
# '
# Module/FromPerlVer.pm 6 : '# File::Copy::Recursive & friends -- yeah, ancient.
# '
# Module/FromPerlVer.pm 21 : 'use File::Copy::Recursive::Reduced qw( dircopy );
# '
# Module/FromPerlVer.pm 460 : ' # this returns the count from File::Copy::Recursive,
# '
# Module/FromPerlVer.pm 828 : '=item File::Copy::Recursive
# '
# Module/FromPerlVer.pm 6 : '# File::Copy::Recursive & friends -- yeah, ancient.
# '
# Module/FromPerlVer.pm 21 : 'use File::Copy::Recursive::Reduced qw( dircopy );
# '
# Module/FromPerlVer.pm 460 : ' # this returns the count from File::Copy::Recursive,
# '
# Module/FromPerlVer.pm 828 : '=item File::Copy::Recursive
# '
# t/00-usable.t 39 : ' -1 < index $line, 'File::Copy::Recursive'
# '
# t/00-usable.t 50 : 'diag "Search: '$cwd' for files with 'File::Copy::Recursive'";
# '
t/00-usable.t ................................ ok
# Search: 't' (/tmp/loop_over_bdir-1588-Bwo9Wu/Module-FromPerlVer-0.030000-0/t)
# Created: '/tmp/loop_over_bdir-1588-Bwo9Wu/Module-FromPerlVer-0.030000-0/t/sandbox'.
# Search: 't' (/tmp/loop_over_bdir-1588-Bwo9Wu/Module-FromPerlVer-0.030000-0/t)
# Existing: '/tmp/loop_over_bdir-1588-Bwo9Wu/Module-FromPerlVer-0.030000-0/t/sandbox'.
# Work dir: 't/sandbox/10-perl-version.t-L02u't/10-perl-version.t .......................... ok
# Search: 't' (/tmp/loop_over_bdir-1588-Bwo9Wu/Module-FromPerlVer-0.030000-0/t)
# Existing: '/tmp/loop_over_bdir-1588-Bwo9Wu/Module-FromPerlVer-0.030000-0/t/sandbox'.
# Search: 't' (/tmp/loop_over_bdir-1588-Bwo9Wu/Module-FromPerlVer-0.030000-0/t)
# Existing: '/tmp/loop_over_bdir-1588-Bwo9Wu/Module-FromPerlVer-0.030000-0/t/sandbox'.
# Work dir: 't/sandbox/11-env-version.t-XtWE't/11-env-version.t ........................... ok
# Search: 't' (/tmp/loop_over_bdir-1588-Bwo9Wu/Module-FromPerlVer-0.030000-0/t)
# Existing: '/tmp/loop_over_bdir-1588-Bwo9Wu/Module-FromPerlVer-0.030000-0/t/sandbox'.
# Search: 't' (/tmp/loop_over_bdir-1588-Bwo9Wu/Module-FromPerlVer-0.030000-0/t)
# Existing: '/tmp/loop_over_bdir-1588-Bwo9Wu/Module-FromPerlVer-0.030000-0/t/sandbox'.
# Work dir: 't/sandbox/12-path-version.t-pkha't/12-path-version.t .......................... ok
t/13-reject-bogus-no-5.0.t ................... ok
# Search: 't' (/tmp/loop_over_bdir-1588-Bwo9Wu/Module-FromPerlVer-0.030000-0/t)
# Existing: '/tmp/loop_over_bdir-1588-Bwo9Wu/Module-FromPerlVer-0.030000-0/t/sandbox'.
# Search: 't' (/tmp/loop_over_bdir-1588-Bwo9Wu/Module-FromPerlVer-0.030000-0/t)
# Existing: '/tmp/loop_over_bdir-1588-Bwo9Wu/Module-FromPerlVer-0.030000-0/t/sandbox'.
# Work dir: 't/sandbox/20-file-defaults-5.0.1.t-m7A5'
# Testing perl version: '5.0.1' (20-file-defaults-5.0.1).
t/dynamic/20-file-defaults-5.0.1.t ........... ok
# Search: 't' (/tmp/loop_over_bdir-1588-Bwo9Wu/Module-FromPerlVer-0.030000-0/t)
# Existing: '/tmp/loop_over_bdir-1588-Bwo9Wu/Module-FromPerlVer-0.030000-0/t/sandbox'.
# Search: 't' (/tmp/loop_over_bdir-1588-Bwo9Wu/Module-FromPerlVer-0.030000-0/t)
# Existing: '/tmp/loop_over_bdir-1588-Bwo9Wu/Module-FromPerlVer-0.030000-0/t/sandbox'.
# Work dir: 't/sandbox/20-file-defaults-5.000.001.t-g0Aj'
# Testing perl version: '5.000.001' (20-file-defaults-5.000.001).
t/dynamic/20-file-defaults-5.000.001.t ....... ok
# Search: 't' (/tmp/loop_over_bdir-1588-Bwo9Wu/Module-FromPerlVer-0.030000-0/t)
# Existing: '/tmp/loop_over_bdir-1588-Bwo9Wu/Module-FromPerlVer-0.030000-0/t/sandbox'.
# Search: 't' (/tmp/loop_over_bdir-1588-Bwo9Wu/Module-FromPerlVer-0.030000-0/t)
# Existing: '/tmp/loop_over_bdir-1588-Bwo9Wu/Module-FromPerlVer-0.030000-0/t/sandbox'.
# Work dir: 't/sandbox/20-file-defaults-5.000001.t-zay1'
# Testing perl version: '5.000001' (20-file-defaults-5.000001).
t/dynamic/20-file-defaults-5.000001.t ........ ok
# Search: 't' (/tmp/loop_over_bdir-1588-Bwo9Wu/Module-FromPerlVer-0.030000-0/t)
# Existing: '/tmp/loop_over_bdir-1588-Bwo9Wu/Module-FromPerlVer-0.030000-0/t/sandbox'.
# Search: 't' (/tmp/loop_over_bdir-1588-Bwo9Wu/Module-FromPerlVer-0.030000-0/t)
# Existing: '/tmp/loop_over_bdir-1588-Bwo9Wu/Module-FromPerlVer-0.030000-0/t/sandbox'.
# Work dir: 't/sandbox/20-file-defaults-5.000_001.t-FZxk'
# Testing perl version: '5.000_001' (20-file-defaults-5.000_001).
t/dynamic/20-file-defaults-5.000_001.t ....... ok
# Search: 't' (/tmp/loop_over_bdir-1588-Bwo9Wu/Module-FromPerlVer-0.030000-0/t)
# Existing: '/tmp/loop_over_bdir-1588-Bwo9Wu/Module-FromPerlVer-0.030000-0/t/sandbox'.
# Search: 't' (/tmp/loop_over_bdir-1588-Bwo9Wu/Module-FromPerlVer-0.030000-0/t)
# Existing: '/tmp/loop_over_bdir-1588-Bwo9Wu/Module-FromPerlVer-0.030000-0/t/sandbox'.
# Work dir: 't/sandbox/20-file-defaults-5.006.000.t-FcdZ'
# Testing perl version: '5.006.000' (20-file-defaults-5.006.000).
t/dynamic/20-file-defaults-5.006.000.t ....... ok
# Search: 't' (/tmp/loop_over_bdir-1588-Bwo9Wu/Module-FromPerlVer-0.030000-0/t)
# Existing: '/tmp/loop_over_bdir-1588-Bwo9Wu/Module-FromPerlVer-0.030000-0/t/sandbox'.
# Search: 't' (/tmp/loop_over_bdir-1588-Bwo9Wu/Module-FromPerlVer-0.030000-0/t)
# Existing: '/tmp/loop_over_bdir-1588-Bwo9Wu/Module-FromPerlVer-0.030000-0/t/sandbox'.
# Work dir: 't/sandbox/20-file-defaults-5.006000.t-oP0r'
# Testing perl version: '5.006000' (20-file-defaults-5.006000).
t/dynamic/20-file-defaults-5.006000.t ........ ok
# Search: 't' (/tmp/loop_over_bdir-1588-Bwo9Wu/Module-FromPerlVer-0.030000-0/t)
# Existing: '/tmp/loop_over_bdir-1588-Bwo9Wu/Module-FromPerlVer-0.030000-0/t/sandbox'.
# Search: 't' (/tmp/loop_over_bdir-1588-Bwo9Wu/Module-FromPerlVer-0.030000-0/t)
# Existing: '/tmp/loop_over_bdir-1588-Bwo9Wu/Module-FromPerlVer-0.030000-0/t/sandbox'.
# Work dir: 't/sandbox/20-file-defaults-5.006_000.t-H1Qb'
# Testing perl version: '5.006_000' (20-file-defaults-5.006_000).
t/dynamic/20-file-defaults-5.006_000.t ....... ok
# Search: 't' (/tmp/loop_over_bdir-1588-Bwo9Wu/Module-FromPerlVer-0.030000-0/t)
# Existing: '/tmp/loop_over_bdir-1588-Bwo9Wu/Module-FromPerlVer-0.030000-0/t/sandbox'.
# Search: 't' (/tmp/loop_over_bdir-1588-Bwo9Wu/Module-FromPerlVer-0.030000-0/t)
# Existing: '/tmp/loop_over_bdir-1588-Bwo9Wu/Module-FromPerlVer-0.030000-0/t/sandbox'.
# Work dir: 't/sandbox/20-file-defaults-5.008.008.t-yYfA'
# Testing perl version: '5.008.008' (20-file-defaults-5.008.008).
t/dynamic/20-file-defaults-5.008.008.t ....... ok
# Search: 't' (/tmp/loop_over_bdir-1588-Bwo9Wu/Module-FromPerlVer-0.030000-0/t)
# Existing: '/tmp/loop_over_bdir-1588-Bwo9Wu/Module-FromPerlVer-0.030000-0/t/sandbox'.
# Search: 't' (/tmp/loop_over_bdir-1588-Bwo9Wu/Module-FromPerlVer-0.030000-0/t)
# Existing: '/tmp/loop_over_bdir-1588-Bwo9Wu/Module-FromPerlVer-0.030000-0/t/sandbox'.
# Work dir: 't/sandbox/20-file-defaults-5.008008.t-bPLr'
# Testing perl version: '5.008008' (20-file-defaults-5.008008).
t/dynamic/20-file-defaults-5.008008.t ........ ok
# Search: 't' (/tmp/loop_over_bdir-1588-Bwo9Wu/Module-FromPerlVer-0.030000-0/t)
# Existing: '/tmp/loop_over_bdir-1588-Bwo9Wu/Module-FromPerlVer-0.030000-0/t/sandbox'.
# Search: 't' (/tmp/loop_over_bdir-1588-Bwo9Wu/Module-FromPerlVer-0.030000-0/t)
# Existing: '/tmp/loop_over_bdir-1588-Bwo9Wu/Module-FromPerlVer-0.030000-0/t/sandbox'.
# Work dir: 't/sandbox/20-file-defaults-5.008_008.t-GAGI'
# Testing perl version: '5.008_008' (20-file-defaults-5.008_008).
t/dynamic/20-file-defaults-5.008_008.t ....... ok
# Search: 't' (/tmp/loop_over_bdir-1588-Bwo9Wu/Module-FromPerlVer-0.030000-0/t)
# Existing: '/tmp/loop_over_bdir-1588-Bwo9Wu/Module-FromPerlVer-0.030000-0/t/sandbox'.
# Search: 't' (/tmp/loop_over_bdir-1588-Bwo9Wu/Module-FromPerlVer-0.030000-0/t)
# Existing: '/tmp/loop_over_bdir-1588-Bwo9Wu/Module-FromPerlVer-0.030000-0/t/sandbox'.
# Work dir: 't/sandbox/20-file-defaults-5.6.0.t-96Sv'
# Testing perl version: '5.6.0' (20-file-defaults-5.6.0).
t/dynamic/20-file-defaults-5.6.0.t ........... ok
# Search: 't' (/tmp/loop_over_bdir-1588-Bwo9Wu/Module-FromPerlVer-0.030000-0/t)
# Existing: '/tmp/loop_over_bdir-1588-Bwo9Wu/Module-FromPerlVer-0.030000-0/t/sandbox'.
# Search: 't' (/tmp/loop_over_bdir-1588-Bwo9Wu/Module-FromPerlVer-0.030000-0/t)
# Existing: '/tmp/loop_over_bdir-1588-Bwo9Wu/Module-FromPerlVer-0.030000-0/t/sandbox'.
# Work dir: 't/sandbox/20-file-defaults-5.8.8.t-CsM_'
# Testing perl version: '5.8.8' (20-file-defaults-5.8.8).
t/dynamic/20-file-defaults-5.8.8.t ........... ok
# Search: 't' (/tmp/loop_over_bdir-1588-Bwo9Wu/Module-FromPerlVer-0.030000-0/t)
# Existing: '/tmp/loop_over_bdir-1588-Bwo9Wu/Module-FromPerlVer-0.030000-0/t/sandbox'.
# Search: 't' (/tmp/loop_over_bdir-1588-Bwo9Wu/Module-FromPerlVer-0.030000-0/t)
# Existing: '/tmp/loop_over_bdir-1588-Bwo9Wu/Module-FromPerlVer-0.030000-0/t/sandbox'.
# Work dir: 't/sandbox/20-file-defaults-5.888.888.t-VtXy'
# Testing perl version: '5.888.888' (20-file-defaults-5.888.888).
t/dynamic/20-file-defaults-5.888.888.t ....... ok
# Search: 't' (/tmp/loop_over_bdir-1588-Bwo9Wu/Module-FromPerlVer-0.030000-0/t)
# Existing: '/tmp/loop_over_bdir-1588-Bwo9Wu/Module-FromPerlVer-0.030000-0/t/sandbox'.
# Search: 't' (/tmp/loop_over_bdir-1588-Bwo9Wu/Module-FromPerlVer-0.030000-0/t)
# Existing: '/tmp/loop_over_bdir-1588-Bwo9Wu/Module-FromPerlVer-0.030000-0/t/sandbox'.
# Work dir: 't/sandbox/20-file-defaults-5.888888.t-AFSi'
# Testing perl version: '5.888888' (20-file-defaults-5.888888).
t/dynamic/20-file-defaults-5.888888.t ........ ok
# Search: 't' (/tmp/loop_over_bdir-1588-Bwo9Wu/Module-FromPerlVer-0.030000-0/t)
# Existing: '/tmp/loop_over_bdir-1588-Bwo9Wu/Module-FromPerlVer-0.030000-0/t/sandbox'.
# Search: 't' (/tmp/loop_over_bdir-1588-Bwo9Wu/Module-FromPerlVer-0.030000-0/t)
# Existing: '/tmp/loop_over_bdir-1588-Bwo9Wu/Module-FromPerlVer-0.030000-0/t/sandbox'.
# Work dir: 't/sandbox/20-file-defaults-5.888_888.t-N_10'
# Testing perl version: '5.888_888' (20-file-defaults-5.888_888).
t/dynamic/20-file-defaults-5.888_888.t ....... ok
# Search: 't' (/tmp/loop_over_bdir-1588-Bwo9Wu/Module-FromPerlVer-0.030000-0/t)
# Existing: '/tmp/loop_over_bdir-1588-Bwo9Wu/Module-FromPerlVer-0.030000-0/t/sandbox'.
# Search: 't' (/tmp/loop_over_bdir-1588-Bwo9Wu/Module-FromPerlVer-0.030000-0/t)
# Existing: '/tmp/loop_over_bdir-1588-Bwo9Wu/Module-FromPerlVer-0.030000-0/t/sandbox'.
# Work dir: 't/sandbox/20-file-defaults-5.999.999.t-yCDh'
# Testing perl version: '5.999.999' (20-file-defaults-5.999.999).
t/dynamic/20-file-defaults-5.999.999.t ....... ok
# Search: 't' (/tmp/loop_over_bdir-1588-Bwo9Wu/Module-FromPerlVer-0.030000-0/t)
# Existing: '/tmp/loop_over_bdir-1588-Bwo9Wu/Module-FromPerlVer-0.030000-0/t/sandbox'.
# Search: 't' (/tmp/loop_over_bdir-1588-Bwo9Wu/Module-FromPerlVer-0.030000-0/t)
# Existing: '/tmp/loop_over_bdir-1588-Bwo9Wu/Module-FromPerlVer-0.030000-0/t/sandbox'.
# Work dir: 't/sandbox/20-file-defaults-5.999999.t-Es7x'
# Testing perl version: '5.999999' (20-file-defaults-5.999999).
t/dynamic/20-file-defaults-5.999999.t ........ ok
# Search: 't' (/tmp/loop_over_bdir-1588-Bwo9Wu/Module-FromPerlVer-0.030000-0/t)
# Existing: '/tmp/loop_over_bdir-1588-Bwo9Wu/Module-FromPerlVer-0.030000-0/t/sandbox'.
# Search: 't' (/tmp/loop_over_bdir-1588-Bwo9Wu/Module-FromPerlVer-0.030000-0/t)
# Existing: '/tmp/loop_over_bdir-1588-Bwo9Wu/Module-FromPerlVer-0.030000-0/t/sandbox'.
# Work dir: 't/sandbox/20-file-defaults-5.999_999.t-WaoA'
# Testing perl version: '5.999_999' (20-file-defaults-5.999_999).
t/dynamic/20-file-defaults-5.999_999.t ....... ok
# Search: 't' (/tmp/loop_over_bdir-1588-Bwo9Wu/Module-FromPerlVer-0.030000-0/t)
# Existing: '/tmp/loop_over_bdir-1588-Bwo9Wu/Module-FromPerlVer-0.030000-0/t/sandbox'.
# Search: 't' (/tmp/loop_over_bdir-1588-Bwo9Wu/Module-FromPerlVer-0.030000-0/t)
# Existing: '/tmp/loop_over_bdir-1588-Bwo9Wu/Module-FromPerlVer-0.030000-0/t/sandbox'.
# Work dir: 't/sandbox/20-file-defaults-v5.0.1.t-Z0kI'
# Testing perl version: 'v5.0.1' (20-file-defaults-v5.0.1).
t/dynamic/20-file-defaults-v5.0.1.t .......... ok
# Search: 't' (/tmp/loop_over_bdir-1588-Bwo9Wu/Module-FromPerlVer-0.030000-0/t)
# Existing: '/tmp/loop_over_bdir-1588-Bwo9Wu/Module-FromPerlVer-0.030000-0/t/sandbox'.
# Search: 't' (/tmp/loop_over_bdir-1588-Bwo9Wu/Module-FromPerlVer-0.030000-0/t)
# Existing: '/tmp/loop_over_bdir-1588-Bwo9Wu/Module-FromPerlVer-0.030000-0/t/sandbox'.
# Work dir: 't/sandbox/20-file-defaults-v5.000.001.t-C4oA'
# Testing perl version: 'v5.000.001' (20-file-defaults-v5.000.001).
t/dynamic/20-file-defaults-v5.000.001.t ...... ok
# Search: 't' (/tmp/loop_over_bdir-1588-Bwo9Wu/Module-FromPerlVer-0.030000-0/t)
# Existing: '/tmp/loop_over_bdir-1588-Bwo9Wu/Module-FromPerlVer-0.030000-0/t/sandbox'.
# Search: 't' (/tmp/loop_over_bdir-1588-Bwo9Wu/Module-FromPerlVer-0.030000-0/t)
# Existing: '/tmp/loop_over_bdir-1588-Bwo9Wu/Module-FromPerlVer-0.030000-0/t/sandbox'.
# Work dir: 't/sandbox/20-file-defaults-v5.000001.t-KNTs'
# Testing perl version: 'v5.000001' (20-file-defaults-v5.000001).
t/dynamic/20-file-defaults-v5.000001.t ....... ok
# Search: 't' (/tmp/loop_over_bdir-1588-Bwo9Wu/Module-FromPerlVer-0.030000-0/t)
# Existing: '/tmp/loop_over_bdir-1588-Bwo9Wu/Module-FromPerlVer-0.030000-0/t/sandbox'.
# Search: 't' (/tmp/loop_over_bdir-1588-Bwo9Wu/Module-FromPerlVer-0.030000-0/t)
# Existing: '/tmp/loop_over_bdir-1588-Bwo9Wu/Module-FromPerlVer-0.030000-0/t/sandbox'.
# Work dir: 't/sandbox/20-file-defaults-v5.000_001.t-0V_w'
# Testing perl version: 'v5.000_001' (20-file-defaults-v5.000_001).
t/dynamic/20-file-defaults-v5.000_001.t ...... ok
# Search: 't' (/tmp/loop_over_bdir-1588-Bwo9Wu/Module-FromPerlVer-0.030000-0/t)
# Existing: '/tmp/loop_over_bdir-1588-Bwo9Wu/Module-FromPerlVer-0.030000-0/t/sandbox'.
# Search: 't' (/tmp/loop_over_bdir-1588-Bwo9Wu/Module-FromPerlVer-0.030000-0/t)
# Existing: '/tmp/loop_over_bdir-1588-Bwo9Wu/Module-FromPerlVer-0.030000-0/t/sandbox'.
# Work dir: 't/sandbox/20-file-defaults-v5.006.000.t-NjAn'
# Testing perl version: 'v5.006.000' (20-file-defaults-v5.006.000).
t/dynamic/20-file-defaults-v5.006.000.t ...... ok
# Search: 't' (/tmp/loop_over_bdir-1588-Bwo9Wu/Module-FromPerlVer-0.030000-0/t)
# Existing: '/tmp/loop_over_bdir-1588-Bwo9Wu/Module-FromPerlVer-0.030000-0/t/sandbox'.
# Search: 't' (/tmp/loop_over_bdir-1588-Bwo9Wu/Module-FromPerlVer-0.030000-0/t)
# Existing: '/tmp/loop_over_bdir-1588-Bwo9Wu/Module-FromPerlVer-0.030000-0/t/sandbox'.
# Work dir: 't/sandbox/20-file-defaults-v5.006000.t-E4j7'
# Testing perl version: 'v5.006000' (20-file-defaults-v5.006000).
t/dynamic/20-file-defaults-v5.006000.t ....... ok
# Search: 't' (/tmp/loop_over_bdir-1588-Bwo9Wu/Module-FromPerlVer-0.030000-0/t)
# Existing: '/tmp/loop_over_bdir-1588-Bwo9Wu/Module-FromPerlVer-0.030000-0/t/sandbox'.
# Search: 't' (/tmp/loop_over_bdir-1588-Bwo9Wu/Module-FromPerlVer-0.030000-0/t)
# Existing: '/tmp/loop_over_bdir-1588-Bwo9Wu/Module-FromPerlVer-0.030000-0/t/sandbox'.
# Work dir: 't/sandbox/20-file-defaults-v5.006_000.t-tlDw'
# Testing perl version: 'v5.006_000' (20-file-defaults-v5.006_000).
t/dynamic/20-file-defaults-v5.006_000.t ...... ok
# Search: 't' (/tmp/loop_over_bdir-1588-Bwo9Wu/Module-FromPerlVer-0.030000-0/t)
# Existing: '/tmp/loop_over_bdir-1588-Bwo9Wu/Module-FromPerlVer-0.030000-0/t/sandbox'.
# Search: 't' (/tmp/loop_over_bdir-1588-Bwo9Wu/Module-FromPerlVer-0.030000-0/t)
# Existing: '/tmp/loop_over_bdir-1588-Bwo9Wu/Module-FromPerlVer-0.030000-0/t/sandbox'.
# Work dir: 't/sandbox/20-file-defaults-v5.008.008.t-DenB'
# Testing perl version: 'v5.008.008' (20-file-defaults-v5.008.008).
t/dynamic/20-file-defaults-v5.008.008.t ...... ok
# Search: 't' (/tmp/loop_over_bdir-1588-Bwo9Wu/Module-FromPerlVer-0.030000-0/t)
# Existing: '/tmp/loop_over_bdir-1588-Bwo9Wu/Module-FromPerlVer-0.030000-0/t/sandbox'.
# Search: 't' (/tmp/loop_over_bdir-1588-Bwo9Wu/Module-FromPerlVer-0.030000-0/t)
# Existing: '/tmp/loop_over_bdir-1588-Bwo9Wu/Module-FromPerlVer-0.030000-0/t/sandbox'.
# Work dir: 't/sandbox/20-file-defaults-v5.008008.t-EuV4'
# Testing perl version: 'v5.008008' (20-file-defaults-v5.008008).
t/dynamic/20-file-defaults-v5.008008.t ....... ok
# Search: 't' (/tmp/loop_over_bdir-1588-Bwo9Wu/Module-FromPerlVer-0.030000-0/t)
# Existing: '/tmp/loop_over_bdir-1588-Bwo9Wu/Module-FromPerlVer-0.030000-0/t/sandbox'.
# Search: 't' (/tmp/loop_over_bdir-1588-Bwo9Wu/Module-FromPerlVer-0.030000-0/t)
# Existing: '/tmp/loop_over_bdir-1588-Bwo9Wu/Module-FromPerlVer-0.030000-0/t/sandbox'.
# Work dir: 't/sandbox/20-file-defaults-v5.008_008.t-CZ_L'
# Testing perl version: 'v5.008_008' (20-file-defaults-v5.008_008).
t/dynamic/20-file-defaults-v5.008_008.t ...... ok
# Search: 't' (/tmp/loop_over_bdir-1588-Bwo9Wu/Module-FromPerlVer-0.030000-0/t)
# Existing: '/tmp/loop_over_bdir-1588-Bwo9Wu/Module-FromPerlVer-0.030000-0/t/sandbox'.
# Search: 't' (/tmp/loop_over_bdir-1588-Bwo9Wu/Module-FromPerlVer-0.030000-0/t)
# Existing: '/tmp/loop_over_bdir-1588-Bwo9Wu/Module-FromPerlVer-0.030000-0/t/sandbox'.
# Work dir: 't/sandbox/20-file-defaults-v5.6.0.t-TiQY'
# Testing perl version: 'v5.6.0' (20-file-defaults-v5.6.0).
t/dynamic/20-file-defaults-v5.6.0.t .......... ok
# Search: 't' (/tmp/loop_over_bdir-1588-Bwo9Wu/Module-FromPerlVer-0.030000-0/t)
# Existing: '/tmp/loop_over_bdir-1588-Bwo9Wu/Module-FromPerlVer-0.030000-0/t/sandbox'.
# Search: 't' (/tmp/loop_over_bdir-1588-Bwo9Wu/Module-FromPerlVer-0.030000-0/t)
# Existing: '/tmp/loop_over_bdir-1588-Bwo9Wu/Module-FromPerlVer-0.030000-0/t/sandbox'.
# Work dir: 't/sandbox/20-file-defaults-v5.8.8.t-jRiv'
# Testing perl version: 'v5.8.8' (20-file-defaults-v5.8.8).
t/dynamic/20-file-defaults-v5.8.8.t .......... ok
# Search: 't' (/tmp/loop_over_bdir-1588-Bwo9Wu/Module-FromPerlVer-0.030000-0/t)
# Existing: '/tmp/loop_over_bdir-1588-Bwo9Wu/Module-FromPerlVer-0.030000-0/t/sandbox'.
# Search: 't' (/tmp/loop_over_bdir-1588-Bwo9Wu/Module-FromPerlVer-0.030000-0/t)
# Existing: '/tmp/loop_over_bdir-1588-Bwo9Wu/Module-FromPerlVer-0.030000-0/t/sandbox'.
# Work dir: 't/sandbox/20-file-defaults-v5.888.888.t-L_kR'
# Testing perl version: 'v5.888.888' (20-file-defaults-v5.888.888).
t/dynamic/20-file-defaults-v5.888.888.t ...... ok
# Search: 't' (/tmp/loop_over_bdir-1588-Bwo9Wu/Module-FromPerlVer-0.030000-0/t)
# Existing: '/tmp/loop_over_bdir-1588-Bwo9Wu/Module-FromPerlVer-0.030000-0/t/sandbox'.
# Search: 't' (/tmp/loop_over_bdir-1588-Bwo9Wu/Module-FromPerlVer-0.030000-0/t)
# Existing: '/tmp/loop_over_bdir-1588-Bwo9Wu/Module-FromPerlVer-0.030000-0/t/sandbox'.
# Work dir: 't/sandbox/20-file-defaults-v5.888888.t-zOLk'
# Testing perl version: 'v5.888888' (20-file-defaults-v5.888888).
t/dynamic/20-file-defaults-v5.888888.t ....... ok
# Search: 't' (/tmp/loop_over_bdir-1588-Bwo9Wu/Module-FromPerlVer-0.030000-0/t)
# Existing: '/tmp/loop_over_bdir-1588-Bwo9Wu/Module-FromPerlVer-0.030000-0/t/sandbox'.
# Search: 't' (/tmp/loop_over_bdir-1588-Bwo9Wu/Module-FromPerlVer-0.030000-0/t)
# Existing: '/tmp/loop_over_bdir-1588-Bwo9Wu/Module-FromPerlVer-0.030000-0/t/sandbox'.
# Work dir: 't/sandbox/20-file-defaults-v5.888_888.t-_lSs'
# Testing perl version: 'v5.888_888' (20-file-defaults-v5.888_888).
t/dynamic/20-file-defaults-v5.888_888.t ...... ok
# Search: 't' (/tmp/loop_over_bdir-1588-Bwo9Wu/Module-FromPerlVer-0.030000-0/t)
# Existing: '/tmp/loop_over_bdir-1588-Bwo9Wu/Module-FromPerlVer-0.030000-0/t/sandbox'.
# Search: 't' (/tmp/loop_over_bdir-1588-Bwo9Wu/Module-FromPerlVer-0.030000-0/t)
# Existing: '/tmp/loop_over_bdir-1588-Bwo9Wu/Module-FromPerlVer-0.030000-0/t/sandbox'.
# Work dir: 't/sandbox/20-file-defaults-v5.999.999.t-L2gQ'
# Testing perl version: 'v5.999.999' (20-file-defaults-v5.999.999).
t/dynamic/20-file-defaults-v5.999.999.t ...... ok
# Search: 't' (/tmp/loop_over_bdir-1588-Bwo9Wu/Module-FromPerlVer-0.030000-0/t)
# Existing: '/tmp/loop_over_bdir-1588-Bwo9Wu/Module-FromPerlVer-0.030000-0/t/sandbox'.
# Search: 't' (/tmp/loop_over_bdir-1588-Bwo9Wu/Module-FromPerlVer-0.030000-0/t)
# Existing: '/tmp/loop_over_bdir-1588-Bwo9Wu/Module-FromPerlVer-0.030000-0/t/sandbox'.
# Work dir: 't/sandbox/20-file-defaults-v5.999999.t-F6S4'
# Testing perl version: 'v5.999999' (20-file-defaults-v5.999999).
t/dynamic/20-file-defaults-v5.999999.t ....... ok
# Search: 't' (/tmp/loop_over_bdir-1588-Bwo9Wu/Module-FromPerlVer-0.030000-0/t)
# Existing: '/tmp/loop_over_bdir-1588-Bwo9Wu/Module-FromPerlVer-0.030000-0/t/sandbox'.
# Search: 't' (/tmp/loop_over_bdir-1588-Bwo9Wu/Module-FromPerlVer-0.030000-0/t)
# Existing: '/tmp/loop_over_bdir-1588-Bwo9Wu/Module-FromPerlVer-0.030000-0/t/sandbox'.
# Work dir: 't/sandbox/20-file-defaults-v5.999_999.t-Uzwk'
# Testing perl version: 'v5.999_999' (20-file-defaults-v5.999_999).
t/dynamic/20-file-defaults-v5.999_999.t ...... ok
# Search: 't' (/tmp/loop_over_bdir-1588-Bwo9Wu/Module-FromPerlVer-0.030000-0/t)
# Existing: '/tmp/loop_over_bdir-1588-Bwo9Wu/Module-FromPerlVer-0.030000-0/t/sandbox'.
# Search: 't' (/tmp/loop_over_bdir-1588-Bwo9Wu/Module-FromPerlVer-0.030000-0/t)
# Existing: '/tmp/loop_over_bdir-1588-Bwo9Wu/Module-FromPerlVer-0.030000-0/t/sandbox'.
# Work dir: 't/sandbox/30-file-version-from-5.0.1.t-Bjfq'
# Testing perl version: '5.0.1' (30-file-version-from-5.0.1).
# Search: 'sandbox' (/tmp/loop_over_bdir-1588-Bwo9Wu/Module-FromPerlVer-0.030000-0/t/sandbox)t/dynamic/30-file-version-from-5.0.1.t ....... ok
# Search: 't' (/tmp/loop_over_bdir-1588-Bwo9Wu/Module-FromPerlVer-0.030000-0/t)
# Existing: '/tmp/loop_over_bdir-1588-Bwo9Wu/Module-FromPerlVer-0.030000-0/t/sandbox'.
# Search: 't' (/tmp/loop_over_bdir-1588-Bwo9Wu/Module-FromPerlVer-0.030000-0/t)
# Existing: '/tmp/loop_over_bdir-1588-Bwo9Wu/Module-FromPerlVer-0.030000-0/t/sandbox'.
# Work dir: 't/sandbox/30-file-version-from-5.000.001.t-b8aZ'
# Testing perl version: '5.000.001' (30-file-version-from-5.000.001).
# Search: 'sandbox' (/tmp/loop_over_bdir-1588-Bwo9Wu/Module-FromPerlVer-0.030000-0/t/sandbox)t/dynamic/30-file-version-from-5.000.001.t ... ok
# Search: 't' (/tmp/loop_over_bdir-1588-Bwo9Wu/Module-FromPerlVer-0.030000-0/t)
# Existing: '/tmp/loop_over_bdir-1588-Bwo9Wu/Module-FromPerlVer-0.030000-0/t/sandbox'.
# Search: 't' (/tmp/loop_over_bdir-1588-Bwo9Wu/Module-FromPerlVer-0.030000-0/t)
# Existing: '/tmp/loop_over_bdir-1588-Bwo9Wu/Module-FromPerlVer-0.030000-0/t/sandbox'.
# Work dir: 't/sandbox/30-file-version-from-5.000001.t-ClGQ'
# Testing perl version: '5.000001' (30-file-version-from-5.000001).
# Search: 'sandbox' (/tmp/loop_over_bdir-1588-Bwo9Wu/Module-FromPerlVer-0.030000-0/t/sandbox)t/dynamic/30-file-version-from-5.000001.t .... ok
# Search: 't' (/tmp/loop_over_bdir-1588-Bwo9Wu/Module-FromPerlVer-0.030000-0/t)
# Existing: '/tmp/loop_over_bdir-1588-Bwo9Wu/Module-FromPerlVer-0.030000-0/t/sandbox'.
# Search: 't' (/tmp/loop_over_bdir-1588-Bwo9Wu/Module-FromPerlVer-0.030000-0/t)
# Existing: '/tmp/loop_over_bdir-1588-Bwo9Wu/Module-FromPerlVer-0.030000-0/t/sandbox'.
# Work dir: 't/sandbox/30-file-version-from-5.000_001.t-TYLC'
# Testing perl version: '5.000_001' (30-file-version-from-5.000_001).
# Search: 'sandbox' (/tmp/loop_over_bdir-1588-Bwo9Wu/Module-FromPerlVer-0.030000-0/t/sandbox)t/dynamic/30-file-version-from-5.000_001.t ... ok
# Search: 't' (/tmp/loop_over_bdir-1588-Bwo9Wu/Module-FromPerlVer-0.030000-0/t)
# Existing: '/tmp/loop_over_bdir-1588-Bwo9Wu/Module-FromPerlVer-0.030000-0/t/sandbox'.
# Search: 't' (/tmp/loop_over_bdir-1588-Bwo9Wu/Module-FromPerlVer-0.030000-0/t)
# Existing: '/tmp/loop_over_bdir-1588-Bwo9Wu/Module-FromPerlVer-0.030000-0/t/sandbox'.
# Work dir: 't/sandbox/30-file-version-from-5.006.000.t-D9B5'
# Testing perl version: '5.006.000' (30-file-version-from-5.006.000).
# Search: 'sandbox' (/tmp/loop_over_bdir-1588-Bwo9Wu/Module-FromPerlVer-0.030000-0/t/sandbox)t/dynamic/30-file-version-from-5.006.000.t ... ok
# Search: 't' (/tmp/loop_over_bdir-1588-Bwo9Wu/Module-FromPerlVer-0.030000-0/t)
# Existing: '/tmp/loop_over_bdir-1588-Bwo9Wu/Module-FromPerlVer-0.030000-0/t/sandbox'.
# Search: 't' (/tmp/loop_over_bdir-1588-Bwo9Wu/Module-FromPerlVer-0.030000-0/t)
# Existing: '/tmp/loop_over_bdir-1588-Bwo9Wu/Module-FromPerlVer-0.030000-0/t/sandbox'.
# Work dir: 't/sandbox/30-file-version-from-5.006000.t-qvwt'
# Testing perl version: '5.006000' (30-file-version-from-5.006000).
# Search: 'sandbox' (/tmp/loop_over_bdir-1588-Bwo9Wu/Module-FromPerlVer-0.030000-0/t/sandbox)t/dynamic/30-file-version-from-5.006000.t .... ok
# Search: 't' (/tmp/loop_over_bdir-1588-Bwo9Wu/Module-FromPerlVer-0.030000-0/t)
# Existing: '/tmp/loop_over_bdir-1588-Bwo9Wu/Module-FromPerlVer-0.030000-0/t/sandbox'.
# Search: 't' (/tmp/loop_over_bdir-1588-Bwo9Wu/Module-FromPerlVer-0.030000-0/t)
# Existing: '/tmp/loop_over_bdir-1588-Bwo9Wu/Module-FromPerlVer-0.030000-0/t/sandbox'.
# Work dir: 't/sandbox/30-file-version-from-5.006_000.t-8kn7'
# Testing perl version: '5.006_000' (30-file-version-from-5.006_000).
# Search: 'sandbox' (/tmp/loop_over_bdir-1588-Bwo9Wu/Module-FromPerlVer-0.030000-0/t/sandbox)t/dynamic/30-file-version-from-5.006_000.t ... ok
# Search: 't' (/tmp/loop_over_bdir-1588-Bwo9Wu/Module-FromPerlVer-0.030000-0/t)
# Existing: '/tmp/loop_over_bdir-1588-Bwo9Wu/Module-FromPerlVer-0.030000-0/t/sandbox'.
# Search: 't' (/tmp/loop_over_bdir-1588-Bwo9Wu/Module-FromPerlVer-0.030000-0/t)
# Existing: '/tmp/loop_over_bdir-1588-Bwo9Wu/Module-FromPerlVer-0.030000-0/t/sandbox'.
# Work dir: 't/sandbox/30-file-version-from-5.008.008.t-frqd'
# Testing perl version: '5.008.008' (30-file-version-from-5.008.008).
# Search: 'sandbox' (/tmp/loop_over_bdir-1588-Bwo9Wu/Module-FromPerlVer-0.030000-0/t/sandbox)t/dynamic/30-file-version-from-5.008.008.t ... ok
# Search: 't' (/tmp/loop_over_bdir-1588-Bwo9Wu/Module-FromPerlVer-0.030000-0/t)
# Existing: '/tmp/loop_over_bdir-1588-Bwo9Wu/Module-FromPerlVer-0.030000-0/t/sandbox'.
# Search: 't' (/tmp/loop_over_bdir-1588-Bwo9Wu/Module-FromPerlVer-0.030000-0/t)
# Existing: '/tmp/loop_over_bdir-1588-Bwo9Wu/Module-FromPerlVer-0.030000-0/t/sandbox'.
# Work dir: 't/sandbox/30-file-version-from-5.008008.t-EzpG'
# Testing perl version: '5.008008' (30-file-version-from-5.008008).
# Search: 'sandbox' (/tmp/loop_over_bdir-1588-Bwo9Wu/Module-FromPerlVer-0.030000-0/t/sandbox)t/dynamic/30-file-version-from-5.008008.t .... ok
# Search: 't' (/tmp/loop_over_bdir-1588-Bwo9Wu/Module-FromPerlVer-0.030000-0/t)
# Existing: '/tmp/loop_over_bdir-1588-Bwo9Wu/Module-FromPerlVer-0.030000-0/t/sandbox'.
# Search: 't' (/tmp/loop_over_bdir-1588-Bwo9Wu/Module-FromPerlVer-0.030000-0/t)
# Existing: '/tmp/loop_over_bdir-1588-Bwo9Wu/Module-FromPerlVer-0.030000-0/t/sandbox'.
# Work dir: 't/sandbox/30-file-version-from-5.008_008.t-I9SP'
# Testing perl version: '5.008_008' (30-file-version-from-5.008_008).
# Search: 'sandbox' (/tmp/loop_over_bdir-1588-Bwo9Wu/Module-FromPerlVer-0.030000-0/t/sandbox)t/dynamic/30-file-version-from-5.008_008.t ... ok
# Search: 't' (/tmp/loop_over_bdir-1588-Bwo9Wu/Module-FromPerlVer-0.030000-0/t)
# Existing: '/tmp/loop_over_bdir-1588-Bwo9Wu/Module-FromPerlVer-0.030000-0/t/sandbox'.
# Search: 't' (/tmp/loop_over_bdir-1588-Bwo9Wu/Module-FromPerlVer-0.030000-0/t)
# Existing: '/tmp/loop_over_bdir-1588-Bwo9Wu/Module-FromPerlVer-0.030000-0/t/sandbox'.
# Work dir: 't/sandbox/30-file-version-from-5.6.0.t-7oLT'
# Testing perl version: '5.6.0' (30-file-version-from-5.6.0).
# Search: 'sandbox' (/tmp/loop_over_bdir-1588-Bwo9Wu/Module-FromPerlVer-0.030000-0/t/sandbox)t/dynamic/30-file-version-from-5.6.0.t ....... ok
# Search: 't' (/tmp/loop_over_bdir-1588-Bwo9Wu/Module-FromPerlVer-0.030000-0/t)
# Existing: '/tmp/loop_over_bdir-1588-Bwo9Wu/Module-FromPerlVer-0.030000-0/t/sandbox'.
# Search: 't' (/tmp/loop_over_bdir-1588-Bwo9Wu/Module-FromPerlVer-0.030000-0/t)
# Existing: '/tmp/loop_over_bdir-1588-Bwo9Wu/Module-FromPerlVer-0.030000-0/t/sandbox'.
# Work dir: 't/sandbox/30-file-version-from-5.8.8.t-VoME'
# Testing perl version: '5.8.8' (30-file-version-from-5.8.8).
# Search: 'sandbox' (/tmp/loop_over_bdir-1588-Bwo9Wu/Module-FromPerlVer-0.030000-0/t/sandbox)t/dynamic/30-file-version-from-5.8.8.t ....... ok
# Search: 't' (/tmp/loop_over_bdir-1588-Bwo9Wu/Module-FromPerlVer-0.030000-0/t)
# Existing: '/tmp/loop_over_bdir-1588-Bwo9Wu/Module-FromPerlVer-0.030000-0/t/sandbox'.
# Search: 't' (/tmp/loop_over_bdir-1588-Bwo9Wu/Module-FromPerlVer-0.030000-0/t)
# Existing: '/tmp/loop_over_bdir-1588-Bwo9Wu/Module-FromPerlVer-0.030000-0/t/sandbox'.
# Work dir: 't/sandbox/30-file-version-from-5.888.888.t-lOPW'
# Testing perl version: '5.888.888' (30-file-version-from-5.888.888).
# Search: 'sandbox' (/tmp/loop_over_bdir-1588-Bwo9Wu/Module-FromPerlVer-0.030000-0/t/sandbox)t/dynamic/30-file-version-from-5.888.888.t ... ok
# Search: 't' (/tmp/loop_over_bdir-1588-Bwo9Wu/Module-FromPerlVer-0.030000-0/t)
# Existing: '/tmp/loop_over_bdir-1588-Bwo9Wu/Module-FromPerlVer-0.030000-0/t/sandbox'.
# Search: 't' (/tmp/loop_over_bdir-1588-Bwo9Wu/Module-FromPerlVer-0.030000-0/t)
# Existing: '/tmp/loop_over_bdir-1588-Bwo9Wu/Module-FromPerlVer-0.030000-0/t/sandbox'.
# Work dir: 't/sandbox/30-file-version-from-5.888888.t-sjBm'
# Testing perl version: '5.888888' (30-file-version-from-5.888888).
# Search: 'sandbox' (/tmp/loop_over_bdir-1588-Bwo9Wu/Module-FromPerlVer-0.030000-0/t/sandbox)t/dynamic/30-file-version-from-5.888888.t .... ok
# Search: 't' (/tmp/loop_over_bdir-1588-Bwo9Wu/Module-FromPerlVer-0.030000-0/t)
# Existing: '/tmp/loop_over_bdir-1588-Bwo9Wu/Module-FromPerlVer-0.030000-0/t/sandbox'.
# Search: 't' (/tmp/loop_over_bdir-1588-Bwo9Wu/Module-FromPerlVer-0.030000-0/t)
# Existing: '/tmp/loop_over_bdir-1588-Bwo9Wu/Module-FromPerlVer-0.030000-0/t/sandbox'.
# Work dir: 't/sandbox/30-file-version-from-5.888_888.t-riol'
# Testing perl version: '5.888_888' (30-file-version-from-5.888_888).
# Search: 'sandbox' (/tmp/loop_over_bdir-1588-Bwo9Wu/Module-FromPerlVer-0.030000-0/t/sandbox)t/dynamic/30-file-version-from-5.888_888.t ... ok
# Search: 't' (/tmp/loop_over_bdir-1588-Bwo9Wu/Module-FromPerlVer-0.030000-0/t)
# Existing: '/tmp/loop_over_bdir-1588-Bwo9Wu/Module-FromPerlVer-0.030000-0/t/sandbox'.
# Search: 't' (/tmp/loop_over_bdir-1588-Bwo9Wu/Module-FromPerlVer-0.030000-0/t)
# Existing: '/tmp/loop_over_bdir-1588-Bwo9Wu/Module-FromPerlVer-0.030000-0/t/sandbox'.
# Work dir: 't/sandbox/30-file-version-from-5.999.999.t-71so'
# Testing perl version: '5.999.999' (30-file-version-from-5.999.999).
# Search: 'sandbox' (/tmp/loop_over_bdir-1588-Bwo9Wu/Module-FromPerlVer-0.030000-0/t/sandbox)t/dynamic/30-file-version-from-5.999.999.t ... ok
# Search: 't' (/tmp/loop_over_bdir-1588-Bwo9Wu/Module-FromPerlVer-0.030000-0/t)
# Existing: '/tmp/loop_over_bdir-1588-Bwo9Wu/Module-FromPerlVer-0.030000-0/t/sandbox'.
# Search: 't' (/tmp/loop_over_bdir-1588-Bwo9Wu/Module-FromPerlVer-0.030000-0/t)
# Existing: '/tmp/loop_over_bdir-1588-Bwo9Wu/Module-FromPerlVer-0.030000-0/t/sandbox'.
# Work dir: 't/sandbox/30-file-version-from-5.999999.t-uTcU'
# Testing perl version: '5.999999' (30-file-version-from-5.999999).
# Search: 'sandbox' (/tmp/loop_over_bdir-1588-Bwo9Wu/Module-FromPerlVer-0.030000-0/t/sandbox)t/dynamic/30-file-version-from-5.999999.t .... ok
# Search: 't' (/tmp/loop_over_bdir-1588-Bwo9Wu/Module-FromPerlVer-0.030000-0/t)
# Existing: '/tmp/loop_over_bdir-1588-Bwo9Wu/Module-FromPerlVer-0.030000-0/t/sandbox'.
# Search: 't' (/tmp/loop_over_bdir-1588-Bwo9Wu/Module-FromPerlVer-0.030000-0/t)
# Existing: '/tmp/loop_over_bdir-1588-Bwo9Wu/Module-FromPerlVer-0.030000-0/t/sandbox'.
# Work dir: 't/sandbox/30-file-version-from-5.999_999.t-1evy'
# Testing perl version: '5.999_999' (30-file-version-from-5.999_999).
# Search: 'sandbox' (/tmp/loop_over_bdir-1588-Bwo9Wu/Module-FromPerlVer-0.030000-0/t/sandbox)t/dynamic/30-file-version-from-5.999_999.t ... ok
# Search: 't' (/tmp/loop_over_bdir-1588-Bwo9Wu/Module-FromPerlVer-0.030000-0/t)
# Existing: '/tmp/loop_over_bdir-1588-Bwo9Wu/Module-FromPerlVer-0.030000-0/t/sandbox'.
# Search: 't' (/tmp/loop_over_bdir-1588-Bwo9Wu/Module-FromPerlVer-0.030000-0/t)
# Existing: '/tmp/loop_over_bdir-1588-Bwo9Wu/Module-FromPerlVer-0.030000-0/t/sandbox'.
# Work dir: 't/sandbox/30-file-version-from-v5.0.1.t-NoaP'
# Testing perl version: 'v5.0.1' (30-file-version-from-v5.0.1).
# Search: 'sandbox' (/tmp/loop_over_bdir-1588-Bwo9Wu/Module-FromPerlVer-0.030000-0/t/sandbox)t/dynamic/30-file-version-from-v5.0.1.t ...... ok
# Search: 't' (/tmp/loop_over_bdir-1588-Bwo9Wu/Module-FromPerlVer-0.030000-0/t)
# Existing: '/tmp/loop_over_bdir-1588-Bwo9Wu/Module-FromPerlVer-0.030000-0/t/sandbox'.
# Search: 't' (/tmp/loop_over_bdir-1588-Bwo9Wu/Module-FromPerlVer-0.030000-0/t)
# Existing: '/tmp/loop_over_bdir-1588-Bwo9Wu/Module-FromPerlVer-0.030000-0/t/sandbox'.
# Work dir: 't/sandbox/30-file-version-from-v5.000.001.t-A7eX'
# Testing perl version: 'v5.000.001' (30-file-version-from-v5.000.001).
# Search: 'sandbox' (/tmp/loop_over_bdir-1588-Bwo9Wu/Module-FromPerlVer-0.030000-0/t/sandbox)t/dynamic/30-file-version-from-v5.000.001.t .. ok
# Search: 't' (/tmp/loop_over_bdir-1588-Bwo9Wu/Module-FromPerlVer-0.030000-0/t)
# Existing: '/tmp/loop_over_bdir-1588-Bwo9Wu/Module-FromPerlVer-0.030000-0/t/sandbox'.
# Search: 't' (/tmp/loop_over_bdir-1588-Bwo9Wu/Module-FromPerlVer-0.030000-0/t)
# Existing: '/tmp/loop_over_bdir-1588-Bwo9Wu/Module-FromPerlVer-0.030000-0/t/sandbox'.
# Work dir: 't/sandbox/30-file-version-from-v5.000001.t-H_VL'
# Testing perl version: 'v5.000001' (30-file-version-from-v5.000001).
# Search: 'sandbox' (/tmp/loop_over_bdir-1588-Bwo9Wu/Module-FromPerlVer-0.030000-0/t/sandbox)t/dynamic/30-file-version-from-v5.000001.t ... ok
# Search: 't' (/tmp/loop_over_bdir-1588-Bwo9Wu/Module-FromPerlVer-0.030000-0/t)
# Existing: '/tmp/loop_over_bdir-1588-Bwo9Wu/Module-FromPerlVer-0.030000-0/t/sandbox'.
# Search: 't' (/tmp/loop_over_bdir-1588-Bwo9Wu/Module-FromPerlVer-0.030000-0/t)
# Existing: '/tmp/loop_over_bdir-1588-Bwo9Wu/Module-FromPerlVer-0.030000-0/t/sandbox'.
# Work dir: 't/sandbox/30-file-version-from-v5.000_001.t-nRwY'
# Testing perl version: 'v5.000_001' (30-file-version-from-v5.000_001).
# Search: 'sandbox' (/tmp/loop_over_bdir-1588-Bwo9Wu/Module-FromPerlVer-0.030000-0/t/sandbox)t/dynamic/30-file-version-from-v5.000_001.t .. ok
# Search: 't' (/tmp/loop_over_bdir-1588-Bwo9Wu/Module-FromPerlVer-0.030000-0/t)
# Existing: '/tmp/loop_over_bdir-1588-Bwo9Wu/Module-FromPerlVer-0.030000-0/t/sandbox'.
# Search: 't' (/tmp/loop_over_bdir-1588-Bwo9Wu/Module-FromPerlVer-0.030000-0/t)
# Existing: '/tmp/loop_over_bdir-1588-Bwo9Wu/Module-FromPerlVer-0.030000-0/t/sandbox'.
# Work dir: 't/sandbox/30-file-version-from-v5.006.000.t-ccY3'
# Testing perl version: 'v5.006.000' (30-file-version-from-v5.006.000).
# Search: 'sandbox' (/tmp/loop_over_bdir-1588-Bwo9Wu/Module-FromPerlVer-0.030000-0/t/sandbox)t/dynamic/30-file-version-from-v5.006.000.t .. ok
# Search: 't' (/tmp/loop_over_bdir-1588-Bwo9Wu/Module-FromPerlVer-0.030000-0/t)
# Existing: '/tmp/loop_over_bdir-1588-Bwo9Wu/Module-FromPerlVer-0.030000-0/t/sandbox'.
# Search: 't' (/tmp/loop_over_bdir-1588-Bwo9Wu/Module-FromPerlVer-0.030000-0/t)
# Existing: '/tmp/loop_over_bdir-1588-Bwo9Wu/Module-FromPerlVer-0.030000-0/t/sandbox'.
# Work dir: 't/sandbox/30-file-version-from-v5.006000.t-4aBd'
# Testing perl version: 'v5.006000' (30-file-version-from-v5.006000).
# Search: 'sandbox' (/tmp/loop_over_bdir-1588-Bwo9Wu/Module-FromPerlVer-0.030000-0/t/sandbox)t/dynamic/30-file-version-from-v5.006000.t ... ok
# Search: 't' (/tmp/loop_over_bdir-1588-Bwo9Wu/Module-FromPerlVer-0.030000-0/t)
# Existing: '/tmp/loop_over_bdir-1588-Bwo9Wu/Module-FromPerlVer-0.030000-0/t/sandbox'.
# Search: 't' (/tmp/loop_over_bdir-1588-Bwo9Wu/Module-FromPerlVer-0.030000-0/t)
# Existing: '/tmp/loop_over_bdir-1588-Bwo9Wu/Module-FromPerlVer-0.030000-0/t/sandbox'.
# Work dir: 't/sandbox/30-file-version-from-v5.006_000.t-xPxT'
# Testing perl version: 'v5.006_000' (30-file-version-from-v5.006_000).
# Search: 'sandbox' (/tmp/loop_over_bdir-1588-Bwo9Wu/Module-FromPerlVer-0.030000-0/t/sandbox)t/dynamic/30-file-version-from-v5.006_000.t .. ok
# Search: 't' (/tmp/loop_over_bdir-1588-Bwo9Wu/Module-FromPerlVer-0.030000-0/t)
# Existing: '/tmp/loop_over_bdir-1588-Bwo9Wu/Module-FromPerlVer-0.030000-0/t/sandbox'.
# Search: 't' (/tmp/loop_over_bdir-1588-Bwo9Wu/Module-FromPerlVer-0.030000-0/t)
# Existing: '/tmp/loop_over_bdir-1588-Bwo9Wu/Module-FromPerlVer-0.030000-0/t/sandbox'.
# Work dir: 't/sandbox/30-file-version-from-v5.008.008.t-ZbF_'
# Testing perl version: 'v5.008.008' (30-file-version-from-v5.008.008).
# Search: 'sandbox' (/tmp/loop_over_bdir-1588-Bwo9Wu/Module-FromPerlVer-0.030000-0/t/sandbox)t/dynamic/30-file-version-from-v5.008.008.t .. ok
# Search: 't' (/tmp/loop_over_bdir-1588-Bwo9Wu/Module-FromPerlVer-0.030000-0/t)
# Existing: '/tmp/loop_over_bdir-1588-Bwo9Wu/Module-FromPerlVer-0.030000-0/t/sandbox'.
# Search: 't' (/tmp/loop_over_bdir-1588-Bwo9Wu/Module-FromPerlVer-0.030000-0/t)
# Existing: '/tmp/loop_over_bdir-1588-Bwo9Wu/Module-FromPerlVer-0.030000-0/t/sandbox'.
# Work dir: 't/sandbox/30-file-version-from-v5.008008.t-KkCB'
# Testing perl version: 'v5.008008' (30-file-version-from-v5.008008).
# Search: 'sandbox' (/tmp/loop_over_bdir-1588-Bwo9Wu/Module-FromPerlVer-0.030000-0/t/sandbox)t/dynamic/30-file-version-from-v5.008008.t ... ok
# Search: 't' (/tmp/loop_over_bdir-1588-Bwo9Wu/Module-FromPerlVer-0.030000-0/t)
# Existing: '/tmp/loop_over_bdir-1588-Bwo9Wu/Module-FromPerlVer-0.030000-0/t/sandbox'.
# Search: 't' (/tmp/loop_over_bdir-1588-Bwo9Wu/Module-FromPerlVer-0.030000-0/t)
# Existing: '/tmp/loop_over_bdir-1588-Bwo9Wu/Module-FromPerlVer-0.030000-0/t/sandbox'.
# Work dir: 't/sandbox/30-file-version-from-v5.008_008.t-6iPX'
# Testing perl version: 'v5.008_008' (30-file-version-from-v5.008_008).
# Search: 'sandbox' (/tmp/loop_over_bdir-1588-Bwo9Wu/Module-FromPerlVer-0.030000-0/t/sandbox)t/dynamic/30-file-version-from-v5.008_008.t .. ok
# Search: 't' (/tmp/loop_over_bdir-1588-Bwo9Wu/Module-FromPerlVer-0.030000-0/t)
# Existing: '/tmp/loop_over_bdir-1588-Bwo9Wu/Module-FromPerlVer-0.030000-0/t/sandbox'.
# Search: 't' (/tmp/loop_over_bdir-1588-Bwo9Wu/Module-FromPerlVer-0.030000-0/t)
# Existing: '/tmp/loop_over_bdir-1588-Bwo9Wu/Module-FromPerlVer-0.030000-0/t/sandbox'.
# Work dir: 't/sandbox/30-file-version-from-v5.6.0.t-v2vP'
# Testing perl version: 'v5.6.0' (30-file-version-from-v5.6.0).
# Search: 'sandbox' (/tmp/loop_over_bdir-1588-Bwo9Wu/Module-FromPerlVer-0.030000-0/t/sandbox)t/dynamic/30-file-version-from-v5.6.0.t ...... ok
# Search: 't' (/tmp/loop_over_bdir-1588-Bwo9Wu/Module-FromPerlVer-0.030000-0/t)
# Existing: '/tmp/loop_over_bdir-1588-Bwo9Wu/Module-FromPerlVer-0.030000-0/t/sandbox'.
# Search: 't' (/tmp/loop_over_bdir-1588-Bwo9Wu/Module-FromPerlVer-0.030000-0/t)
# Existing: '/tmp/loop_over_bdir-1588-Bwo9Wu/Module-FromPerlVer-0.030000-0/t/sandbox'.
# Work dir: 't/sandbox/30-file-version-from-v5.8.8.t-5bsa'
# Testing perl version: 'v5.8.8' (30-file-version-from-v5.8.8).
# Search: 'sandbox' (/tmp/loop_over_bdir-1588-Bwo9Wu/Module-FromPerlVer-0.030000-0/t/sandbox)t/dynamic/30-file-version-from-v5.8.8.t ...... ok
# Search: 't' (/tmp/loop_over_bdir-1588-Bwo9Wu/Module-FromPerlVer-0.030000-0/t)
# Existing: '/tmp/loop_over_bdir-1588-Bwo9Wu/Module-FromPerlVer-0.030000-0/t/sandbox'.
# Search: 't' (/tmp/loop_over_bdir-1588-Bwo9Wu/Module-FromPerlVer-0.030000-0/t)
# Existing: '/tmp/loop_over_bdir-1588-Bwo9Wu/Module-FromPerlVer-0.030000-0/t/sandbox'.
# Work dir: 't/sandbox/30-file-version-from-v5.888.888.t-ZDtJ'
# Testing perl version: 'v5.888.888' (30-file-version-from-v5.888.888).
# Search: 'sandbox' (/tmp/loop_over_bdir-1588-Bwo9Wu/Module-FromPerlVer-0.030000-0/t/sandbox)t/dynamic/30-file-version-from-v5.888.888.t .. ok
# Search: 't' (/tmp/loop_over_bdir-1588-Bwo9Wu/Module-FromPerlVer-0.030000-0/t)
# Existing: '/tmp/loop_over_bdir-1588-Bwo9Wu/Module-FromPerlVer-0.030000-0/t/sandbox'.
# Search: 't' (/tmp/loop_over_bdir-1588-Bwo9Wu/Module-FromPerlVer-0.030000-0/t)
# Existing: '/tmp/loop_over_bdir-1588-Bwo9Wu/Module-FromPerlVer-0.030000-0/t/sandbox'.
# Work dir: 't/sandbox/30-file-version-from-v5.888888.t-vcvW'
# Testing perl version: 'v5.888888' (30-file-version-from-v5.888888).
# Search: 'sandbox' (/tmp/loop_over_bdir-1588-Bwo9Wu/Module-FromPerlVer-0.030000-0/t/sandbox)t/dynamic/30-file-version-from-v5.888888.t ... ok
# Search: 't' (/tmp/loop_over_bdir-1588-Bwo9Wu/Module-FromPerlVer-0.030000-0/t)
# Existing: '/tmp/loop_over_bdir-1588-Bwo9Wu/Module-FromPerlVer-0.030000-0/t/sandbox'.
# Search: 't' (/tmp/loop_over_bdir-1588-Bwo9Wu/Module-FromPerlVer-0.030000-0/t)
# Existing: '/tmp/loop_over_bdir-1588-Bwo9Wu/Module-FromPerlVer-0.030000-0/t/sandbox'.
# Work dir: 't/sandbox/30-file-version-from-v5.888_888.t-yJJY'
# Testing perl version: 'v5.888_888' (30-file-version-from-v5.888_888).
# Search: 'sandbox' (/tmp/loop_over_bdir-1588-Bwo9Wu/Module-FromPerlVer-0.030000-0/t/sandbox)t/dynamic/30-file-version-from-v5.888_888.t .. ok
# Search: 't' (/tmp/loop_over_bdir-1588-Bwo9Wu/Module-FromPerlVer-0.030000-0/t)
# Existing: '/tmp/loop_over_bdir-1588-Bwo9Wu/Module-FromPerlVer-0.030000-0/t/sandbox'.
# Search: 't' (/tmp/loop_over_bdir-1588-Bwo9Wu/Module-FromPerlVer-0.030000-0/t)
# Existing: '/tmp/loop_over_bdir-1588-Bwo9Wu/Module-FromPerlVer-0.030000-0/t/sandbox'.
# Work dir: 't/sandbox/30-file-version-from-v5.999.999.t-vszB'
# Testing perl version: 'v5.999.999' (30-file-version-from-v5.999.999).
# Search: 'sandbox' (/tmp/loop_over_bdir-1588-Bwo9Wu/Module-FromPerlVer-0.030000-0/t/sandbox)t/dynamic/30-file-version-from-v5.999.999.t .. ok
# Search: 't' (/tmp/loop_over_bdir-1588-Bwo9Wu/Module-FromPerlVer-0.030000-0/t)
# Existing: '/tmp/loop_over_bdir-1588-Bwo9Wu/Module-FromPerlVer-0.030000-0/t/sandbox'.
# Search: 't' (/tmp/loop_over_bdir-1588-Bwo9Wu/Module-FromPerlVer-0.030000-0/t)
# Existing: '/tmp/loop_over_bdir-1588-Bwo9Wu/Module-FromPerlVer-0.030000-0/t/sandbox'.
# Work dir: 't/sandbox/30-file-version-from-v5.999999.t-7yeB'
# Testing perl version: 'v5.999999' (30-file-version-from-v5.999999).
# Search: 'sandbox' (/tmp/loop_over_bdir-1588-Bwo9Wu/Module-FromPerlVer-0.030000-0/t/sandbox)t/dynamic/30-file-version-from-v5.999999.t ... ok
# Search: 't' (/tmp/loop_over_bdir-1588-Bwo9Wu/Module-FromPerlVer-0.030000-0/t)
# Existing: '/tmp/loop_over_bdir-1588-Bwo9Wu/Module-FromPerlVer-0.030000-0/t/sandbox'.
# Search: 't' (/tmp/loop_over_bdir-1588-Bwo9Wu/Module-FromPerlVer-0.030000-0/t)
# Existing: '/tmp/loop_over_bdir-1588-Bwo9Wu/Module-FromPerlVer-0.030000-0/t/sandbox'.
# Work dir: 't/sandbox/30-file-version-from-v5.999_999.t-1i4j'
# Testing perl version: 'v5.999_999' (30-file-version-from-v5.999_999).
# Search: 'sandbox' (/tmp/loop_over_bdir-1588-Bwo9Wu/Module-FromPerlVer-0.030000-0/t/sandbox)t/dynamic/30-file-version-from-v5.999_999.t .. ok
All tests successful.
Files=77, Tests=1049, 16 wallclock secs ( 0.29 usr 0.41 sys + 10.73 cusr 4.70 csys = 16.13 CPU)
Result: PASS
------------------------------
PREREQUISITES
------------------------------
Prerequisite modules loaded:
requires:
Module Need Have
------------------------------ -------- --------
Cwd 3.073000 3.78
File::Basename 0 2.85
! File::Copy::Recursive::Reduced 0.006000 0.006
File::Find 0 1.37
File::Spec::Functions 0 3.78
FindBin 0 1.51
List::Util 1.046000 1.52
strict 0 1.11
Symbol 0 1.08
Test::More 0 1.302168
version 0 0.9924
build_requires:
Module Need Have
------------------------------ -------- --------
ExtUtils::MakeMaker 0 7.38
configure_requires:
Module Need Have
------------------------------ -------- --------
ExtUtils::MakeMaker 0 7.38
------------------------------
ENVIRONMENT AND OTHER CONTEXT
------------------------------
Environment variables:
AUTOMATED_TESTING = 1
LANG = en_US.UTF-8
PATH = /home/sand/bin:/usr/local/bin:/usr/local/sbin:/usr/sbin:/usr/bin:/sbin:/bin:/usr/games:/usr/local/games:/usr/local/perl/bin:/usr/X11/bin
PERL = /tmp/basesmoker-reloperl-gXNa/bin/perl
PERL5LIB = /tmp/loop_over_bdir-1588-Bwo9Wu/Prima-prigraph-win32-1.06-0/blib/arch:/tmp/loop_over_bdir-1588-Bwo9Wu/Prima-prigraph-win32-1.06-0/blib/lib:/tmp/loop_over_bdir-1588-Bwo9Wu/Net-ISP-Balance-1.28-0/blib/arch:/tmp/loop_over_bdir-1588-Bwo9Wu/Net-ISP-Balance-1.28-0/blib/lib:/tmp/loop_over_bdir-1588-Bwo9Wu/perl-Hardware-UPS-Perl-0.43-0/blib/arch:/tmp/loop_over_bdir-1588-Bwo9Wu/perl-Hardware-UPS-Perl-0.43-0/blib/lib:/tmp/loop_over_bdir-1588-Bwo9Wu/OSDial-3.0.2.124-0/blib/arch:/tmp/loop_over_bdir-1588-Bwo9Wu/OSDial-3.0.2.124-0/blib/lib:/tmp/loop_over_bdir-1588-Bwo9Wu/ppt-0.14-0/blib/arch:/tmp/loop_over_bdir-1588-Bwo9Wu/ppt-0.14-0/blib/lib:/tmp/loop_over_bdir-1588-Bwo9Wu/dta-tokwrap-0.90-0/blib/arch:/tmp/loop_over_bdir-1588-Bwo9Wu/dta-tokwrap-0.90-0/blib/lib:/tmp/loop_over_bdir-1588-Bwo9Wu/Business-Shipping-DataFiles-1.02-0/blib/arch:/tmp/loop_over_bdir-1588-Bwo9Wu/Business-Shipping-DataFiles-1.02-0/blib/lib:/tmp/loop_over_bdir-1588-Bwo9Wu/triceps-2.1.0-0/blib/arch:/tmp/loop_over_bdir-1588-Bwo9Wu/triceps-2.1.0-0/blib/lib:/tmp/loop_over_bdir-1588-Bwo9Wu/LCFG-Build-Skeleton-0.5.0-0/blib/arch:/tmp/loop_over_bdir-1588-Bwo9Wu/LCFG-Build-Skeleton-0.5.0-0/blib/lib:/tmp/loop_over_bdir-1588-Bwo9Wu/Dpkg-1.19.7-0/blib/arch:/tmp/loop_over_bdir-1588-Bwo9Wu/Dpkg-1.19.7-0/blib/lib:/tmp/loop_over_bdir-1588-Bwo9Wu/DBIx-Migration-Directories-0.12-0/blib/arch:/tmp/loop_over_bdir-1588-Bwo9Wu/DBIx-Migration-Directories-0.12-0/blib/lib:/tmp/loop_over_bdir-1588-Bwo9Wu/ProjectBuilder-0.14.1-0/blib/arch:/tmp/loop_over_bdir-1588-Bwo9Wu/ProjectBuilder-0.14.1-0/blib/lib:/tmp/loop_over_bdir-1588-Bwo9Wu/makepp-1.19-0/blib/arch:/tmp/loop_over_bdir-1588-Bwo9Wu/makepp-1.19-0/blib/lib:/tmp/loop_over_bdir-1588-Bwo9Wu/Sysync-0.35-0/blib/arch:/tmp/loop_over_bdir-1588-Bwo9Wu/Sysync-0.35-0/blib/lib:/tmp/loop_over_bdir-1588-Bwo9Wu/CGI-Application-NetNewsIface-0.0204-0/blib/arch:/tmp/loop_over_bdir-1588-Bwo9Wu/CGI-Application-NetNewsIface-0.0204-0/blib/lib:/tmp/loop_over_bdir-1588-Bwo9Wu/downsexta-0/blib/arch:/tmp/loop_over_bdir-1588-Bwo9Wu/downsexta-0/blib/lib:/tmp/loop_over_bdir-1588-Bwo9Wu/App-nrun-v1.1.2-0/blib/arch:/tmp/loop_over_bdir-1588-Bwo9Wu/App-nrun-v1.1.2-0/blib/lib:/tmp/loop_over_bdir-1588-Bwo9Wu/Debian-Packages-0.03-0/blib/arch:/tmp/loop_over_bdir-1588-Bwo9Wu/Debian-Packages-0.03-0/blib/lib:/tmp/loop_over_bdir-1588-Bwo9Wu/CORBA-Python-2.66-0/blib/arch:/tmp/loop_over_bdir-1588-Bwo9Wu/CORBA-Python-2.66-0/blib/lib:/tmp/loop_over_bdir-1588-Bwo9Wu/Captive-Portal-4.10-0/blib/arch:/tmp/loop_over_bdir-1588-Bwo9Wu/Captive-Portal-4.10-0/blib/lib:/tmp/loop_over_bdir-1588-Bwo9Wu/AllKnowingDNS-1.7-0/blib/arch:/tmp/loop_over_bdir-1588-Bwo9Wu/AllKnowingDNS-1.7-0/blib/lib:/tmp/loop_over_bdir-1588-Bwo9Wu/RDF-NLP-SPARQLQuery-0.1-0/blib/arch:/tmp/loop_over_bdir-1588-Bwo9Wu/RDF-NLP-SPARQLQuery-0.1-0/blib/lib:/tmp/loop_over_bdir-1588-Bwo9Wu/Simulation-Automate-1.0.1-0/blib/arch:/tmp/loop_over_bdir-1588-Bwo9Wu/Simulation-Automate-1.0.1-0/blib/lib:/tmp/loop_over_bdir-1588-Bwo9Wu/Lingua-BioYaTeA-0.11-0/blib/arch:/tmp/loop_over_bdir-1588-Bwo9Wu/Lingua-BioYaTeA-0.11-0/blib/lib:/tmp/loop_over_bdir-1588-Bwo9Wu/Lingua-YaTeA-0.626-0/blib/arch:/tmp/loop_over_bdir-1588-Bwo9Wu/Lingua-YaTeA-0.626-0/blib/lib:/tmp/loop_over_bdir-1588-Bwo9Wu/Serge-1.4-0/blib/arch:/tmp/loop_over_bdir-1588-Bwo9Wu/Serge-1.4-0/blib/lib
PERL5OPT =
PERL5_CPANPLUS_IS_RUNNING = 1596
PERL5_CPAN_IS_RUNNING = 1596
PERL_CANARY_STABILITY_NOPROMPT = 1
PERL_MM_USE_DEFAULT = 1
PERL_USE_UNSAFE_INC = 1
SHELL = /usr/bin/zsh
TERM = screen
Perl special variables (and OS-specific diagnostics, for MSWin32):
$^X = /tmp/basesmoker-reloperl-gXNa/bin/perl
$UID/$EUID = 1005 / 1005
$GID = 1005 1005
$EGID = 1005 1005
Perl module toolchain versions installed:
Module Have
------------------- --------
CPAN 2.27
CPAN::Meta 2.150010
Cwd 3.78
ExtUtils::CBuilder 0.280232
ExtUtils::Command 7.38
ExtUtils::Install 2.14
ExtUtils::MakeMaker 7.38
ExtUtils::Manifest 1.72
ExtUtils::ParseXS 3.40
File::Spec 3.78
JSON 4.02
JSON::PP 4.04
Module::Build 0.4229
Module::Signature 0.83
Parse::CPAN::Meta 2.150010
Test::Harness 3.42
Test::More 1.302168
YAML 1.29
YAML::Syck 1.31
version 0.9924
--
Summary of my perl5 (revision 5 version 31 subversion 4) configuration:
Commit id: 20ef288c535a81f9e6186650f180b3c1dccba151
Platform:
osname=linux
osvers=4.15.0-64-generic
archname=x86_64-linux-thread-multi-ld
uname='linux k93bionic 4.15.0-64-generic #73-ubuntu smp thu sep 12 13:16:13 utc 2019 x86_64 x86_64 x86_64 gnulinux '
config_args='-Dprefix=/home/sand/src/perl/repoperls/installed-perls/host/k93bionic/v5.31.4/ebf1 -Dmyhostname=k93bionic -Dinstallusrbinperl=n -Uversiononly -Dusedevel -des -Ui_db -Dlibswanted=cl pthread socket inet nsl gdbm dbm malloc dl ld sun m crypt sec util c cposix posix ucb BSD gdbm_compat -Duseithreads -Duselongdouble -DEBUGGING=-g'
hint=recommended
useposix=true
d_sigaction=define
useithreads=define
usemultiplicity=define
use64bitint=define
use64bitall=define
uselongdouble=define
usemymalloc=n
default_inc_excludes_dot=define
bincompat5005=undef
Compiler:
cc='cc'
ccflags ='-D_REENTRANT -D_GNU_SOURCE -fwrapv -fno-strict-aliasing -pipe -fstack-protector-strong -I/usr/local/include -D_LARGEFILE_SOURCE -D_FILE_OFFSET_BITS=64'
optimize='-O2 -g'
cppflags='-D_REENTRANT -D_GNU_SOURCE -fwrapv -fno-strict-aliasing -pipe -fstack-protector-strong -I/usr/local/include'
ccversion=''
gccversion='7.4.0'
gccosandvers=''
intsize=4
longsize=8
ptrsize=8
doublesize=8
byteorder=12345678
doublekind=3
d_longlong=define
longlongsize=8
d_longdbl=define
longdblsize=16
longdblkind=3
ivtype='long'
ivsize=8
nvtype='long double'
nvsize=16
Off_t='off_t'
lseeksize=8
alignbytes=16
prototype=define
Linker and Libraries:
ld='cc'
ldflags =' -fstack-protector-strong -L/usr/local/lib'
libpth=/usr/local/lib /usr/lib/gcc/x86_64-linux-gnu/7/include-fixed /usr/include/x86_64-linux-gnu /usr/lib /lib/x86_64-linux-gnu /lib/../lib /usr/lib/x86_64-linux-gnu /usr/lib/../lib /lib
libs=-lpthread -lnsl -ldl -lm -lcrypt -lutil -lc
perllibs=-lpthread -lnsl -ldl -lm -lcrypt -lutil -lc
libc=libc-2.27.so
so=so
useshrplib=false
libperl=libperl.a
gnulibc_version='2.27'
Dynamic Linking:
dlsrc=dl_dlopen.xs
dlext=so
d_dlsymun=undef
ccdlflags='-Wl,-E'
cccdlflags='-fPIC'
lddlflags='-shared -O2 -g -L/usr/local/lib -fstack-protector-strong'
Characteristics of this binary (from libperl):
Compile-time options:
HAS_TIMES
MULTIPLICITY
PERLIO_LAYERS
PERL_COPY_ON_WRITE
PERL_DONT_CREATE_GVSV
PERL_IMPLICIT_CONTEXT
PERL_MALLOC_WRAP
PERL_OP_PARENT
PERL_PRESERVE_IVUV
PERL_USE_DEVEL
USE_64_BIT_ALL
USE_64_BIT_INT
USE_ITHREADS
USE_LARGE_FILES
USE_LOCALE
USE_LOCALE_COLLATE
USE_LOCALE_CTYPE
USE_LOCALE_NUMERIC
USE_LOCALE_TIME
USE_LONG_DOUBLE
USE_PERLIO
USE_PERL_ATOF
USE_REENTRANT_API
USE_THREAD_SAFE_LOCALE
Built under linux
Compiled at Sep 21 2019 06:55:28
%ENV:
PERL="/tmp/basesmoker-reloperl-gXNa/bin/perl"
PERL5LIB="/tmp/loop_over_bdir-1588-Bwo9Wu/Prima-prigraph-win32-1.06-0/blib/arch:/tmp/loop_over_bdir-1588-Bwo9Wu/Prima-prigraph-win32-1.06-0/blib/lib:/tmp/loop_over_bdir-1588-Bwo9Wu/Net-ISP-Balance-1.28-0/blib/arch:/tmp/loop_over_bdir-1588-Bwo9Wu/Net-ISP-Balance-1.28-0/blib/lib:/tmp/loop_over_bdir-1588-Bwo9Wu/perl-Hardware-UPS-Perl-0.43-0/blib/arch:/tmp/loop_over_bdir-1588-Bwo9Wu/perl-Hardware-UPS-Perl-0.43-0/blib/lib:/tmp/loop_over_bdir-1588-Bwo9Wu/OSDial-3.0.2.124-0/blib/arch:/tmp/loop_over_bdir-1588-Bwo9Wu/OSDial-3.0.2.124-0/blib/lib:/tmp/loop_over_bdir-1588-Bwo9Wu/ppt-0.14-0/blib/arch:/tmp/loop_over_bdir-1588-Bwo9Wu/ppt-0.14-0/blib/lib:/tmp/loop_over_bdir-1588-Bwo9Wu/dta-tokwrap-0.90-0/blib/arch:/tmp/loop_over_bdir-1588-Bwo9Wu/dta-tokwrap-0.90-0/blib/lib:/tmp/loop_over_bdir-1588-Bwo9Wu/Business-Shipping-DataFiles-1.02-0/blib/arch:/tmp/loop_over_bdir-1588-Bwo9Wu/Business-Shipping-DataFiles-1.02-0/blib/lib:/tmp/loop_over_bdir-1588-Bwo9Wu/triceps-2.1.0-0/blib/arch:/tmp/loop_over_bdir-1588-Bwo9Wu/triceps-2.1.0-0/blib/lib:/tmp/loop_over_bdir-1588-Bwo9Wu/LCFG-Build-Skeleton-0.5.0-0/blib/arch:/tmp/loop_over_bdir-1588-Bwo9Wu/LCFG-Build-Skeleton-0.5.0-0/blib/lib:/tmp/loop_over_bdir-1588-Bwo9Wu/Dpkg-1.19.7-0/blib/arch:/tmp/loop_over_bdir-1588-Bwo9Wu/Dpkg-1.19.7-0/blib/lib:/tmp/loop_over_bdir-1588-Bwo9Wu/DBIx-Migration-Directories-0.12-0/blib/arch:/tmp/loop_over_bdir-1588-Bwo9Wu/DBIx-Migration-Directories-0.12-0/blib/lib:/tmp/loop_over_bdir-1588-Bwo9Wu/ProjectBuilder-0.14.1-0/blib/arch:/tmp/loop_over_bdir-1588-Bwo9Wu/ProjectBuilder-0.14.1-0/blib/lib:/tmp/loop_over_bdir-1588-Bwo9Wu/makepp-1.19-0/blib/arch:/tmp/loop_over_bdir-1588-Bwo9Wu/makepp-1.19-0/blib/lib:/tmp/loop_over_bdir-1588-Bwo9Wu/Sysync-0.35-0/blib/arch:/tmp/loop_over_bdir-1588-Bwo9Wu/Sysync-0.35-0/blib/lib:/tmp/loop_over_bdir-1588-Bwo9Wu/CGI-Application-NetNewsIface-0.0204-0/blib/arch:/tmp/loop_over_bdir-1588-Bwo9Wu/CGI-Application-NetNewsIface-0.0204-0/blib/lib:/tmp/loop_over_bdir-1588-Bwo9Wu/downsexta-0/blib/arch:/tmp/loop_over_bdir-1588-Bwo9Wu/downsexta-0/blib/lib:/tmp/loop_over_bdir-1588-Bwo9Wu/App-nrun-v1.1.2-0/blib/arch:/tmp/loop_over_bdir-1588-Bwo9Wu/App-nrun-v1.1.2-0/blib/lib:/tmp/loop_over_bdir-1588-Bwo9Wu/Debian-Packages-0.03-0/blib/arch:/tmp/loop_over_bdir-1588-Bwo9Wu/Debian-Packages-0.03-0/blib/lib:/tmp/loop_over_bdir-1588-Bwo9Wu/CORBA-Python-2.66-0/blib/arch:/tmp/loop_over_bdir-1588-Bwo9Wu/CORBA-Python-2.66-0/blib/lib:/tmp/loop_over_bdir-1588-Bwo9Wu/Captive-Portal-4.10-0/blib/arch:/tmp/loop_over_bdir-1588-Bwo9Wu/Captive-Portal-4.10-0/blib/lib:/tmp/loop_over_bdir-1588-Bwo9Wu/AllKnowingDNS-1.7-0/blib/arch:/tmp/loop_over_bdir-1588-Bwo9Wu/AllKnowingDNS-1.7-0/blib/lib:/tmp/loop_over_bdir-1588-Bwo9Wu/RDF-NLP-SPARQLQuery-0.1-0/blib/arch:/tmp/loop_over_bdir-1588-Bwo9Wu/RDF-NLP-SPARQLQuery-0.1-0/blib/lib:/tmp/loop_over_bdir-1588-Bwo9Wu/Simulation-Automate-1.0.1-0/blib/arch:/tmp/loop_over_bdir-1588-Bwo9Wu/Simulation-Automate-1.0.1-0/blib/lib:/tmp/loop_over_bdir-1588-Bwo9Wu/Lingua-BioYaTeA-0.11-0/blib/arch:/tmp/loop_over_bdir-1588-Bwo9Wu/Lingua-BioYaTeA-0.11-0/blib/lib:/tmp/loop_over_bdir-1588-Bwo9Wu/Lingua-YaTeA-0.626-0/blib/arch:/tmp/loop_over_bdir-1588-Bwo9Wu/Lingua-YaTeA-0.626-0/blib/lib:/tmp/loop_over_bdir-1588-Bwo9Wu/Serge-1.4-0/blib/arch:/tmp/loop_over_bdir-1588-Bwo9Wu/Serge-1.4-0/blib/lib"
PERL5OPT=""
PERL5_CPANPLUS_IS_RUNNING="1596"
PERL5_CPAN_IS_RUNNING="1596"
PERL_CANARY_STABILITY_NOPROMPT="1"
PERL_MM_USE_DEFAULT="1"
PERL_USE_UNSAFE_INC="1"
@INC:
/tmp/loop_over_bdir-1588-Bwo9Wu/Prima-prigraph-win32-1.06-0/blib/arch
/tmp/loop_over_bdir-1588-Bwo9Wu/Prima-prigraph-win32-1.06-0/blib/lib
/tmp/loop_over_bdir-1588-Bwo9Wu/Net-ISP-Balance-1.28-0/blib/arch
/tmp/loop_over_bdir-1588-Bwo9Wu/Net-ISP-Balance-1.28-0/blib/lib
/tmp/loop_over_bdir-1588-Bwo9Wu/perl-Hardware-UPS-Perl-0.43-0/blib/arch
/tmp/loop_over_bdir-1588-Bwo9Wu/perl-Hardware-UPS-Perl-0.43-0/blib/lib
/tmp/loop_over_bdir-1588-Bwo9Wu/OSDial-3.0.2.124-0/blib/arch
/tmp/loop_over_bdir-1588-Bwo9Wu/OSDial-3.0.2.124-0/blib/lib
/tmp/loop_over_bdir-1588-Bwo9Wu/ppt-0.14-0/blib/arch
/tmp/loop_over_bdir-1588-Bwo9Wu/ppt-0.14-0/blib/lib
/tmp/loop_over_bdir-1588-Bwo9Wu/dta-tokwrap-0.90-0/blib/arch
/tmp/loop_over_bdir-1588-Bwo9Wu/dta-tokwrap-0.90-0/blib/lib
/tmp/loop_over_bdir-1588-Bwo9Wu/Business-Shipping-DataFiles-1.02-0/blib/arch
/tmp/loop_over_bdir-1588-Bwo9Wu/Business-Shipping-DataFiles-1.02-0/blib/lib
/tmp/loop_over_bdir-1588-Bwo9Wu/triceps-2.1.0-0/blib/arch
/tmp/loop_over_bdir-1588-Bwo9Wu/triceps-2.1.0-0/blib/lib
/tmp/loop_over_bdir-1588-Bwo9Wu/LCFG-Build-Skeleton-0.5.0-0/blib/arch
/tmp/loop_over_bdir-1588-Bwo9Wu/LCFG-Build-Skeleton-0.5.0-0/blib/lib
/tmp/loop_over_bdir-1588-Bwo9Wu/Dpkg-1.19.7-0/blib/arch
/tmp/loop_over_bdir-1588-Bwo9Wu/Dpkg-1.19.7-0/blib/lib
/tmp/loop_over_bdir-1588-Bwo9Wu/DBIx-Migration-Directories-0.12-0/blib/arch
/tmp/loop_over_bdir-1588-Bwo9Wu/DBIx-Migration-Directories-0.12-0/blib/lib
/tmp/loop_over_bdir-1588-Bwo9Wu/ProjectBuilder-0.14.1-0/blib/arch
/tmp/loop_over_bdir-1588-Bwo9Wu/ProjectBuilder-0.14.1-0/blib/lib
/tmp/loop_over_bdir-1588-Bwo9Wu/makepp-1.19-0/blib/arch
/tmp/loop_over_bdir-1588-Bwo9Wu/makepp-1.19-0/blib/lib
/tmp/loop_over_bdir-1588-Bwo9Wu/Sysync-0.35-0/blib/arch
/tmp/loop_over_bdir-1588-Bwo9Wu/Sysync-0.35-0/blib/lib
/tmp/loop_over_bdir-1588-Bwo9Wu/CGI-Application-NetNewsIface-0.0204-0/blib/arch
/tmp/loop_over_bdir-1588-Bwo9Wu/CGI-Application-NetNewsIface-0.0204-0/blib/lib
/tmp/loop_over_bdir-1588-Bwo9Wu/downsexta-0/blib/arch
/tmp/loop_over_bdir-1588-Bwo9Wu/downsexta-0/blib/lib
/tmp/loop_over_bdir-1588-Bwo9Wu/App-nrun-v1.1.2-0/blib/arch
/tmp/loop_over_bdir-1588-Bwo9Wu/App-nrun-v1.1.2-0/blib/lib
/tmp/loop_over_bdir-1588-Bwo9Wu/Debian-Packages-0.03-0/blib/arch
/tmp/loop_over_bdir-1588-Bwo9Wu/Debian-Packages-0.03-0/blib/lib
/tmp/loop_over_bdir-1588-Bwo9Wu/CORBA-Python-2.66-0/blib/arch
/tmp/loop_over_bdir-1588-Bwo9Wu/CORBA-Python-2.66-0/blib/lib
/tmp/loop_over_bdir-1588-Bwo9Wu/Captive-Portal-4.10-0/blib/arch
/tmp/loop_over_bdir-1588-Bwo9Wu/Captive-Portal-4.10-0/blib/lib
/tmp/loop_over_bdir-1588-Bwo9Wu/AllKnowingDNS-1.7-0/blib/arch
/tmp/loop_over_bdir-1588-Bwo9Wu/AllKnowingDNS-1.7-0/blib/lib
/tmp/loop_over_bdir-1588-Bwo9Wu/RDF-NLP-SPARQLQuery-0.1-0/blib/arch
/tmp/loop_over_bdir-1588-Bwo9Wu/RDF-NLP-SPARQLQuery-0.1-0/blib/lib
/tmp/loop_over_bdir-1588-Bwo9Wu/Simulation-Automate-1.0.1-0/blib/arch
/tmp/loop_over_bdir-1588-Bwo9Wu/Simulation-Automate-1.0.1-0/blib/lib
/tmp/loop_over_bdir-1588-Bwo9Wu/Lingua-BioYaTeA-0.11-0/blib/arch
/tmp/loop_over_bdir-1588-Bwo9Wu/Lingua-BioYaTeA-0.11-0/blib/lib
/tmp/loop_over_bdir-1588-Bwo9Wu/Lingua-YaTeA-0.626-0/blib/arch
/tmp/loop_over_bdir-1588-Bwo9Wu/Lingua-YaTeA-0.626-0/blib/lib
/tmp/loop_over_bdir-1588-Bwo9Wu/Serge-1.4-0/blib/arch
/tmp/loop_over_bdir-1588-Bwo9Wu/Serge-1.4-0/blib/lib
/home/sand/src/perl/repoperls/installed-perls/host/k93bionic/v5.31.4/ebf1/lib/site_perl/5.31.4/x86_64-linux-thread-multi-ld
/home/sand/src/perl/repoperls/installed-perls/host/k93bionic/v5.31.4/ebf1/lib/site_perl/5.31.4
/home/sand/src/perl/repoperls/installed-perls/host/k93bionic/v5.31.4/ebf1/lib/5.31.4/x86_64-linux-thread-multi-ld
/home/sand/src/perl/repoperls/installed-perls/host/k93bionic/v5.31.4/ebf1/lib/5.31.4
.