Promises v1.04 Perl 5 v5.24.2 x86_64-linux-thread-multi

Status
Pass
From
Nigel Horne
Dist
Promises v1.04
Platform
Perl 5 v5.24.2 x86_64-linux-thread-multi
Date
2020-03-25 19:53:20
ID
4737e21c-6ed2-11ea-92fd-b44db5d85932
This distribution has been tested as part of the CPAN Testers
project, supporting the Perl programming language.  See
http://wiki.cpantesters.org/ for more information or email
questions to cpan-testers-discuss@perl.org


--
Dear Yanick Champoux,

This is a computer-generated report for Promises-1.04
on perl 5.24.2, created by CPAN-Reporter-1.2018.

Thank you for uploading your work to CPAN.  Congratulations!
All tests were successful.

Sections of this report:

    * Tester comments
    * Program output
    * Prerequisites
    * Environment and other context

------------------------------
TESTER COMMENTS
------------------------------

Additional comments from tester:

this report is from an automated smoke testing program
and was not reviewed by a human for accuracy

------------------------------
PROGRAM OUTPUT
------------------------------

Output from '/usr/bin/make test':

PERL_DL_NONLAZY=1 "/home/njh/perl5/perlbrew/perls/perl-5.24.2/bin/perl5.24.2" "-MExtUtils::Command::MM" "-MTest::Harness" "-e" "undef *Test::Harness::Switches; test_harness(0, 'blib/lib', 'blib/arch')" t/*.t
t/00-compile.t ................... ok
# 
# Versions for all modules listed in MYMETA.json (including optional ones):
# 
# === Configure Requires ===
# 
#     Module              Want Have
#     ------------------- ---- ----
#     ExtUtils::MakeMaker  any 7.42
# 
# === Configure Suggests ===
# 
#     Module      Want       Have
#     -------- ------- ----------
#     JSON::PP 2.27300 2.27300_01
# 
# === Build Requires ===
# 
#     Module              Want Have
#     ------------------- ---- ----
#     ExtUtils::MakeMaker  any 7.42
# 
# === Test Requires ===
# 
#     Module              Want     Have
#     ------------------- ---- --------
#     ExtUtils::MakeMaker  any     7.42
#     File::Spec           any     3.75
#     IO::Handle           any     1.36
#     IPC::Open3           any     1.20
#     Test::Exception      any     0.43
#     Test::Fatal          any    0.014
#     Test::More          0.89 1.302136
#     Test::Pod            any     1.52
#     Test::Requires       any     0.10
#     Test::Warn           any     0.35
#     lib                  any     0.63
# 
# === Test Recommends ===
# 
#     Module         Want     Have
#     ---------- -------- --------
#     CPAN::Meta 2.120900 2.150010
# 
# === Runtime Requires ===
# 
#     Module          Want  Have
#     --------------- ---- -----
#     Carp             any  1.40
#     Data::Dumper     any 2.160
#     Exporter         any  5.72
#     Module::Runtime  any 0.015
#     Scalar::Util     any  1.52
#     Sub::Attribute   any  0.06
#     Sub::Exporter    any 0.987
#     constant         any  1.33
#     parent           any 0.234
#     strict           any  1.11
#     warnings         any  1.36
# 
t/00-report-prereqs.t ............ ok
t/000-load.t ..................... ok
# Delaying for 0.1 second ...
t/001-basic.t .................... ok
# Delaying for 0.1 second ...
# Delaying for 0.1 more second ...
# Delaying for 0.1 second1 ...
t/002-multiples.t ................ ok
t/003-post-resolve-then.t ........ ok
# Delaying for 0.1 second ...
# Delaying for 0.1 second ...
t/004-error.t .................... ok
# Delaying for 0.1 more second ...
t/005-multiples-w-error.t ........ ok
t/006-thenable.t ................. ok
t/007_callable.t ................. ok
# Delaying for 0.2 seconds ...
# Delaying for 0.2 seconds ...
t/010-collect.t .................. ok
t/011-collect-w-error.t .......... ok
# Delaying for 0.2 seconds ...
t/013-collect_hash-params.t ...... ok
# Delaying for 0.2 seconds ...
t/012-collect_hash.t ............. ok
t/013-collect_hash-with-error.t .. ok
t/020-chaining.t ................. ok
t/021-chaining-errors.t .......... ok
t/025-recursion.t ................ ok
t/030-deferred-default.t ......... ok
t/031-deferred-io-async.t ........ skipped: Test requires module 'IO::Async' but it's not found
t/031-deferred-AE.t .............. ok
t/032-deferred-AnyEvent.t ........ ok
t/033-deferred-EV.t .............. ok
t/034-deferred-Mojo.t ............ skipped: Mojo::IOLoop is required for this test
t/045-attributes.t ............... ok
t/050-exceptions-pp.t ............ ok
t/051-exceptions-pp-anyevent.t ... ok
EV: error in callback (ignoring): Final
t/052-exceptions-ev-anyevent.t ... ok
t/053-exceptions-mojo.t .......... skipped: Test requires module 'Mojo::IOLoop' but it's not found
t/060-free-refs.t ................ ok
t/070-accepted-rejected.t ........ ok
t/040_finally.t .................. ok
t/090-timeout.t .................. skipped: Test requires module 'IO::Async' but it's not found
t/late-warning.t ................. ok
t/warnings.t ..................... ok
t/080-deferred-as-sub.t .......... ok
All tests successful.
Files=36, Tests=163,  7 wallclock secs ( 0.15 usr  0.07 sys +  4.40 cusr  0.77 csys =  5.39 CPU)
Result: PASS

------------------------------
PREREQUISITES
------------------------------

Prerequisite modules loaded:

requires:

    Module              Need  Have    
    ------------------- ----- --------
    Carp                0     1.40    
    constant            0     1.33    
    Data::Dumper        0     2.160   
    Exporter            0     5.72    
    Module::Runtime     0     0.015   
    parent              0     0.234   
    perl                5.006 5.024002
    Scalar::Util        0     1.52    
    strict              0     1.11    
    Sub::Attribute      0     0.06    
    Sub::Exporter       0     0.987   
    warnings            0     1.36    

build_requires:

    Module              Need  Have    
    ------------------- ----- --------
    ExtUtils::MakeMaker 0     7.42    
    File::Spec          0     3.75    
    IO::Handle          0     1.36    
    IPC::Open3          0     1.20    
    lib                 0     0.63    
    Test::Exception     0     0.43    
    Test::Fatal         0     0.014   
    Test::More          0.89  1.302136
    Test::Pod           0     1.52    
    Test::Requires      0     0.10    
    Test::Warn          0     0.35    

configure_requires:

    Module              Need  Have    
    ------------------- ----- --------
    ExtUtils::MakeMaker 0     7.42    


------------------------------
ENVIRONMENT AND OTHER CONTEXT
------------------------------

Environment variables:

    AUTOMATED_TESTING = 1
    HARNESS_OPTIONS = j2
    LANG = en_US.UTF-8
    PATH = /home/njh/perl5/perlbrew/bin:/home/njh/perl5/perlbrew/perls/perl-5.24.2/bin:/home/njh/src/njh/smoker/bin:/usr/bin:/bin
    PERL5LIB = /tmp/build/EV-4.33-0/blib/arch:/tmp/build/EV-4.33-0/blib/lib:/tmp/build/AnyEvent-HTTP-2.24-0/blib/arch:/tmp/build/AnyEvent-HTTP-2.24-0/blib/lib:/tmp/build/AnyEvent-7.17-0/blib/arch:/tmp/build/AnyEvent-7.17-0/blib/lib:/tmp/build/Search-Elasticsearch-6.80-0/blib/arch:/tmp/build/Search-Elasticsearch-6.80-0/blib/lib:/tmp/build/Net-IP-1.26-0/blib/arch:/tmp/build/Net-IP-1.26-0/blib/lib:/tmp/build/Log-Any-Adapter-Callback-0.100-0/blib/arch:/tmp/build/Log-Any-Adapter-Callback-0.100-0/blib/lib:/tmp/build/Any-URI-Escape-0.01-0/blib/arch:/tmp/build/Any-URI-Escape-0.01-0/blib/lib
    PERL5OPT = 
    PERL5_CPANPLUS_IS_RUNNING = 1296261
    PERL5_CPAN_IS_RUNNING = 1296261
    PERL5_CPAN_IS_RUNNING_IN_RECURSION = 1296241,1296261
    PERLBREW_HOME = /home/njh/.perlbrew
    PERLBREW_MANPATH = /home/njh/perl5/perlbrew/perls/perl-5.24.2/man
    PERLBREW_PATH = /home/njh/perl5/perlbrew/bin:/home/njh/perl5/perlbrew/perls/perl-5.24.2/bin
    PERLBREW_PERL = perl-5.24.2
    PERLBREW_ROOT = /home/njh/perl5/perlbrew
    PERLBREW_SHELLRC_VERSION = 0.86
    PERLBREW_VERSION = 0.86
    PERL_USE_UNSAFE_INC = 1
    SHELL = /bin/sh
    TEMP = /tmp/user/1000
    TMPDIR = /tmp/user/1000/testwrapper.1296246

Perl special variables (and OS-specific diagnostics, for MSWin32):

    $^X = /home/njh/perl5/perlbrew/perls/perl-5.24.2/bin/perl5.24.2
    $UID/$EUID = 1000 / 1000
    $GID = 1000 4 24 25 29 30 44 46 103 108 115 123 996 1000
    $EGID = 1000 4 24 25 29 30 44 46 103 108 115 123 996 1000

Perl module toolchain versions installed:

    Module              Have      
    ------------------- ----------
    CPAN                2.25      
    CPAN::Meta          2.150010  
    Cwd                 3.75      
    ExtUtils::CBuilder  0.280225  
    ExtUtils::Command   7.42      
    ExtUtils::Install   2.06      
    ExtUtils::MakeMaker 7.42      
    ExtUtils::Manifest  1.70      
    ExtUtils::ParseXS   3.31      
    File::Spec          3.75      
    JSON                4.02      
    JSON::PP            2.27300_01
    Module::Build       0.4224    
    Module::Signature   n/a       
    Parse::CPAN::Meta   2.150010  
    Test::Harness       3.36_01   
    Test::More          1.302136  
    YAML                1.30      
    YAML::Syck          1.32      
    version             0.9916    


--

Summary of my perl5 (revision 5 version 24 subversion 2) configuration:
   
  Platform:
    osname=linux, osvers=4.9.0-3-amd64, archname=x86_64-linux-thread-multi
    uname='linux amelia 4.9.0-3-amd64 #1 smp debian 4.9.25-1 (2017-05-02) x86_64 gnulinux '
    config_args='-de -Dprefix=/home/njh/perl5/perlbrew/perls/perl-5.24.2 -Duseithreads -Dusemultiplicity -Dusedevel -Accflags= -Aeval:scriptdir=/home/njh/perl5/perlbrew/perls/perl-5.24.2/bin'
    hint=recommended, useposix=true, d_sigaction=define
    useithreads=define, usemultiplicity=define
    use64bitint=define, use64bitall=define, uselongdouble=undef
    usemymalloc=n, bincompat5005=undef
  Compiler:
    cc='cc', ccflags ='-D_REENTRANT -D_GNU_SOURCE -fwrapv -fno-strict-aliasing -pipe -fstack-protector-strong -I/usr/local/include -D_LARGEFILE_SOURCE -D_FILE_OFFSET_BITS=64',
    optimize='-O2',
    cppflags='-D_REENTRANT -D_GNU_SOURCE -fwrapv -fno-strict-aliasing -pipe -fstack-protector-strong -I/usr/local/include'
    ccversion='', gccversion='6.4.0 20170704', gccosandvers=''
    intsize=4, longsize=8, ptrsize=8, doublesize=8, byteorder=12345678, doublekind=3
    d_longlong=define, longlongsize=8, d_longdbl=define, longdblsize=16, longdblkind=3
    ivtype='long', ivsize=8, nvtype='double', nvsize=8, Off_t='off_t', lseeksize=8
    alignbytes=8, prototype=define
  Linker and Libraries:
    ld='cc', ldflags =' -fstack-protector-strong -L/usr/local/lib'
    libpth=/usr/local/lib /usr/lib/gcc/x86_64-linux-gnu/6/include-fixed /usr/include/x86_64-linux-gnu /usr/lib /lib/x86_64-linux-gnu /lib/../lib /usr/lib/x86_64-linux-gnu /usr/lib/../lib /lib /lib64 /usr/lib64
    libs=-lpthread -lnsl -lgdbm -ldb -ldl -lm -lcrypt -lutil -lc -lgdbm_compat
    perllibs=-lpthread -lnsl -ldl -lm -lcrypt -lutil -lc
    libc=libc-2.24.so, so=so, useshrplib=false, libperl=libperl.a
    gnulibc_version='2.24'
  Dynamic Linking:
    dlsrc=dl_dlopen.xs, dlext=so, d_dlsymun=undef, ccdlflags='-Wl,-E'
    cccdlflags='-fPIC', lddlflags='-shared -O2 -L/usr/local/lib -fstack-protector-strong'


Characteristics of this binary (from libperl): 
  Compile-time options: HAS_TIMES MULTIPLICITY PERLIO_LAYERS
                        PERL_COPY_ON_WRITE PERL_DONT_CREATE_GVSV
                        PERL_HASH_FUNC_ONE_AT_A_TIME_HARD
                        PERL_IMPLICIT_CONTEXT PERL_MALLOC_WRAP
                        PERL_PRESERVE_IVUV PERL_USE_DEVEL USE_64_BIT_ALL
                        USE_64_BIT_INT USE_ITHREADS USE_LARGE_FILES
                        USE_LOCALE USE_LOCALE_COLLATE USE_LOCALE_CTYPE
                        USE_LOCALE_NUMERIC USE_LOCALE_TIME USE_PERLIO
                        USE_PERL_ATOF USE_REENTRANT_API
  Built under linux
  Compiled at Jul 19 2017 00:33:19
  %ENV:
    PERL5LIB="/tmp/build/EV-4.33-0/blib/arch:/tmp/build/EV-4.33-0/blib/lib:/tmp/build/AnyEvent-HTTP-2.24-0/blib/arch:/tmp/build/AnyEvent-HTTP-2.24-0/blib/lib:/tmp/build/AnyEvent-7.17-0/blib/arch:/tmp/build/AnyEvent-7.17-0/blib/lib:/tmp/build/Search-Elasticsearch-6.80-0/blib/arch:/tmp/build/Search-Elasticsearch-6.80-0/blib/lib:/tmp/build/Net-IP-1.26-0/blib/arch:/tmp/build/Net-IP-1.26-0/blib/lib:/tmp/build/Log-Any-Adapter-Callback-0.100-0/blib/arch:/tmp/build/Log-Any-Adapter-Callback-0.100-0/blib/lib:/tmp/build/Any-URI-Escape-0.01-0/blib/arch:/tmp/build/Any-URI-Escape-0.01-0/blib/lib"
    PERL5OPT=""
    PERL5_CPANPLUS_IS_RUNNING="1296261"
    PERL5_CPAN_IS_RUNNING="1296261"
    PERL5_CPAN_IS_RUNNING_IN_RECURSION="1296241,1296261"
    PERLBREW_HOME="/home/njh/.perlbrew"
    PERLBREW_MANPATH="/home/njh/perl5/perlbrew/perls/perl-5.24.2/man"
    PERLBREW_PATH="/home/njh/perl5/perlbrew/bin:/home/njh/perl5/perlbrew/perls/perl-5.24.2/bin"
    PERLBREW_PERL="perl-5.24.2"
    PERLBREW_ROOT="/home/njh/perl5/perlbrew"
    PERLBREW_SHELLRC_VERSION="0.86"
    PERLBREW_VERSION="0.86"
    PERL_USE_UNSAFE_INC="1"
  @INC:
    /tmp/build/EV-4.33-0/blib/arch
    /tmp/build/EV-4.33-0/blib/lib
    /tmp/build/AnyEvent-HTTP-2.24-0/blib/arch
    /tmp/build/AnyEvent-HTTP-2.24-0/blib/lib
    /tmp/build/AnyEvent-7.17-0/blib/arch
    /tmp/build/AnyEvent-7.17-0/blib/lib
    /tmp/build/Search-Elasticsearch-6.80-0/blib/arch
    /tmp/build/Search-Elasticsearch-6.80-0/blib/lib
    /tmp/build/Net-IP-1.26-0/blib/arch
    /tmp/build/Net-IP-1.26-0/blib/lib
    /tmp/build/Log-Any-Adapter-Callback-0.100-0/blib/arch
    /tmp/build/Log-Any-Adapter-Callback-0.100-0/blib/lib
    /tmp/build/Any-URI-Escape-0.01-0/blib/arch
    /tmp/build/Any-URI-Escape-0.01-0/blib/lib
    /home/njh/perl5/perlbrew/perls/perl-5.24.2/lib/site_perl/5.24.2/x86_64-linux-thread-multi
    /home/njh/perl5/perlbrew/perls/perl-5.24.2/lib/site_perl/5.24.2
    /home/njh/perl5/perlbrew/perls/perl-5.24.2/lib/5.24.2/x86_64-linux-thread-multi
    /home/njh/perl5/perlbrew/perls/perl-5.24.2/lib/5.24.2
    .