MooseX-Extended v0.35 Perl 5 v5.41.14 x86_64-linux-thread-multi

Status
Pass
From
Carlos Guevara
Dist
MooseX-Extended v0.35
Platform
Perl 5 v5.41.14 x86_64-linux-thread-multi
Date
2025-06-05 18:38:30
ID
47007172-423c-11f0-ad13-9fb8a7b2c85d
This distribution has been tested as part of the CPAN Testers
project, supporting the Perl programming language.  See
http://wiki.cpantesters.org/ for more information or email
questions to cpan-testers-discuss@perl.org


--
Dear Curtis Poe,

This is a computer-generated report for MooseX-Extended-0.35
on perl 5.41.14, created by CPAN-Reporter-1.2020.

Thank you for uploading your work to CPAN.  Congratulations!
All tests were successful.

Sections of this report:

    * Tester comments
    * Program output
    * Prerequisites
    * Environment and other context

------------------------------
TESTER COMMENTS
------------------------------

Additional comments from tester:

this report is from an automated smoke testing program
and was not reviewed by a human for accuracy

------------------------------
PROGRAM OUTPUT
------------------------------

Output from '/usr/bin/make test':

PERL_DL_NONLAZY=1 "/home/cpan/bin/perl/bin/perl5.41.14" "-MExtUtils::Command::MM" "-MTest::Harness" "-e" "undef *Test::Harness::Switches; test_harness(0, 'blib/lib', 'blib/arch')" t/*.t
# Testing MooseX::Extended 0.35, Perl 5.041014, /home/cpan/bin/perl/bin/perl5.41.14
t/00-load.t ............... ok
# 
# Versions for all modules listed in MYMETA.json (including optional ones):
# 
# === Configure Requires ===
# 
#     Module              Want Have
#     ------------------- ---- ----
#     ExtUtils::MakeMaker  any 7.76
# 
# === Build Requires ===
# 
#     Module              Want Have
#     ------------------- ---- ----
#     ExtUtils::MakeMaker  any 7.76
# 
# === Test Requires ===
# 
#     Module              Want     Have
#     ------------------- ---- --------
#     Capture::Tiny        any     0.50
#     DateTime             any     1.66
#     ExtUtils::MakeMaker  any     7.76
#     File::Spec           any     3.94
#     List::Util           any  1.68_01
#     Scalar::Util         any  1.68_01
#     Test::Builder        any 1.302214
#     Test::More           any 1.302214
#     Test::Most           any     0.38
#     base                 any     2.27
#     lib                  any     0.65
#     version              any   0.9933
# 
# === Test Recommends ===
# 
#     Module              Want     Have
#     --------------- -------- --------
#     CPAN::Meta      2.120900 2.150010
#     Data::Printer        any 1.002001
#     IO::Async::Loop      any  missing
# 
# === Runtime Requires ===
# 
#     Module                            Want     Have
#     ----------------------------- -------- --------
#     B::Hooks::AtRuntime                  8        8
#     Carp                               any     1.54
#     Data::Printer                      any 1.002001
#     Exporter                           any     5.79
#     Import::Into                       any 1.002005
#     Module::Load                       any     0.36
#     Moose                              any   2.2207
#     Moose::Exception                   any   2.2207
#     Moose::Exception::Role::Class      any   2.2207
#     Moose::Exporter                    any   2.2207
#     Moose::Meta::Role                  any   2.2207
#     Moose::Role                        any   2.2207
#     Moose::Util                        any   2.2207
#     MooseX::Role::WarnOnConflict       any     0.01
#     MooseX::StrictConstructor          any     0.21
#     Ref::Util                          any    0.204
#     Storable                           any     3.37
#     Type::Library                      any 2.008002
#     Type::Params                       any 2.008002
#     Type::Tiny                    1.012004 2.008002
#     Type::Utils                        any 2.008002
#     Types::Common::Numeric             any 2.008002
#     Types::Common::String              any 2.008002
#     Types::Standard                    any 2.008002
#     constant                           any     1.33
#     feature                            any     1.96
#     mro                                any     1.29
#     namespace::autoclean               any     0.31
#     parent                             any    0.244
#     perl                          5.020000 5.041014
#     strict                             any     1.14
#     true                            v1.0.2   v1.0.2
#     warnings                           any     1.74
# 
# === Runtime Suggests ===
# 
#     Module                        Want     Have
#     ------------------------- -------- --------
#     Function::Parameters      2.001003 2.002005
#     Future                        0.48     0.51
#     Future::AsyncAwait            0.58     0.70
#     Syntax::Keyword::MultiSub     0.03  missing
#     Syntax::Keyword::Try         0.027  missing
# 
t/00-report-prereqs.t ..... ok
t/async.t ................. skipped: Could not load IO::Async::Loop: Can't locate IO/Async/Loop.pm in @INC (you may need to install the IO::Async::Loop module) (@INC entries checked: t/lib /home/cpan/.cpan/build/MooseX-Extended-0.35-0/blib/lib /home/cpan/.cpan/build/MooseX-Extended-0.35-0/blib/arch /home/cpan/bin/perl/lib/site_perl/5.41.14/x86_64-linux-thread-multi /home/cpan/bin/perl/lib/site_perl/5.41.14 /home/cpan/bin/perl/lib/5.41.14/x86_64-linux-thread-multi /home/cpan/bin/perl/lib/5.41.14 .) at /home/cpan/bin/perl/lib/5.41.14/Module/Load.pm line 78.
t/basic.t ................. ok
t/clone.t ................. ok
t/configuration.t ......... ok
t/custom.t ................ ok
t/exceptions.t ............ ok
t/excludes_field_param.t .. ok
t/field_init_arg.t ........ ok
t/import-lists.t .......... skipped: Could not load Syntax::Keyword::Try: Can't locate Syntax/Keyword/Try.pm in @INC (you may need to install the Syntax::Keyword::Try module) (@INC entries checked: t/lib /home/cpan/.cpan/build/MooseX-Extended-0.35-0/blib/lib /home/cpan/.cpan/build/MooseX-Extended-0.35-0/blib/arch /home/cpan/bin/perl/lib/site_perl/5.41.14/x86_64-linux-thread-multi /home/cpan/bin/perl/lib/site_perl/5.41.14 /home/cpan/bin/perl/lib/5.41.14/x86_64-linux-thread-multi /home/cpan/bin/perl/lib/5.41.14 .) at /home/cpan/bin/perl/lib/5.41.14/Module/Load.pm line 78.
t/inheritance.t ........... ok
t/inline.t ................ ok
t/method-keyword.t ........ ok
t/moose_compatibility.t ... ok
t/multimethods.t .......... skipped: Could not load Syntax::Keyword::MultiSub: Can't locate Syntax/Keyword/MultiSub.pm in @INC (you may need to install the Syntax::Keyword::MultiSub module) (@INC entries checked: t/lib /home/cpan/.cpan/build/MooseX-Extended-0.35-0/blib/lib /home/cpan/.cpan/build/MooseX-Extended-0.35-0/blib/arch /home/cpan/bin/perl/lib/site_perl/5.41.14/x86_64-linux-thread-multi /home/cpan/bin/perl/lib/site_perl/5.41.14 /home/cpan/bin/perl/lib/5.41.14/x86_64-linux-thread-multi /home/cpan/bin/perl/lib/5.41.14 .) at /home/cpan/bin/perl/lib/5.41.14/Module/Load.pm line 78.
t/roles.t ................. ok
t/rwp.t ................... ok
t/stringy-eval.t .......... ok
t/try.t ................... skipped: Could not load Syntax::Keyword::Try: Can't locate Syntax/Keyword/Try.pm in @INC (you may need to install the Syntax::Keyword::Try module) (@INC entries checked: t/lib /home/cpan/.cpan/build/MooseX-Extended-0.35-0/blib/lib /home/cpan/.cpan/build/MooseX-Extended-0.35-0/blib/arch /home/cpan/bin/perl/lib/site_perl/5.41.14/x86_64-linux-thread-multi /home/cpan/bin/perl/lib/site_perl/5.41.14 /home/cpan/bin/perl/lib/5.41.14/x86_64-linux-thread-multi /home/cpan/bin/perl/lib/5.41.14 .) at /home/cpan/bin/perl/lib/5.41.14/Module/Load.pm line 78.
t/types.t ................. ok
t/warnings.t .............. ok
All tests successful.
Files=22, Tests=115,  8 wallclock secs ( 0.07 usr  0.03 sys +  6.01 cusr  1.17 csys =  7.28 CPU)
Result: PASS

------------------------------
PREREQUISITES
------------------------------

Prerequisite modules loaded:

requires:

    Module                        Need     Have    
    ----------------------------- -------- --------
    B::Hooks::AtRuntime           8        8       
    Carp                          0        1.54    
    constant                      0        1.33    
    Data::Printer                 0        1.002001
    Exporter                      0        5.79    
    feature                       0        1.96    
    Import::Into                  0        1.002005
    Module::Load                  0        0.36    
    Moose                         0        2.2207  
    Moose::Exception              0        2.2207  
    Moose::Exception::Role::Class 0        2.2207  
    Moose::Exporter               0        2.2207  
    Moose::Meta::Role             0        2.2207  
    Moose::Role                   0        2.2207  
    Moose::Util                   0        2.2207  
    MooseX::Role::WarnOnConflict  0        0.01    
    MooseX::StrictConstructor     0        0.21    
    mro                           0        1.29    
    namespace::autoclean          0        0.31    
    parent                        0        0.244   
    perl                          5.020000 5.041014
    Ref::Util                     0        0.204   
    Storable                      0        3.37    
    strict                        0        1.14    
    true                          v1.0.2   v1.0.2  
    Type::Library                 0        2.008002
    Type::Params                  0        2.008002
    Type::Tiny                    1.012004 2.008002
    Type::Utils                   0        2.008002
    Types::Common::Numeric        0        2.008002
    Types::Common::String         0        2.008002
    Types::Standard               0        2.008002
    warnings                      0        1.74    

build_requires:

    Module                        Need     Have    
    ----------------------------- -------- --------
    base                          0        2.27    
    Capture::Tiny                 0        0.50    
    DateTime                      0        1.66    
    ExtUtils::MakeMaker           0        7.76    
    File::Spec                    0        3.94    
    lib                           0        0.65    
    List::Util                    0        1.68_01 
    Scalar::Util                  0        1.68_01 
    Test::Builder                 0        1.302214
    Test::More                    0        1.302214
    Test::Most                    0        0.38    
    version                       0        0.9933  

configure_requires:

    Module                        Need     Have    
    ----------------------------- -------- --------
    ExtUtils::MakeMaker           0        7.76    

opt_requires:

    Module                        Need     Have    
    ----------------------------- -------- --------
    Function::Parameters          2.001003 2.002005
    Future                        0.48     0.51    
    Future::AsyncAwait            0.58     0.70    
  ! Syntax::Keyword::MultiSub     0.03     n/a     
  ! Syntax::Keyword::Try          0.027    n/a     

opt_build_requires:

    Module                        Need     Have    
    ----------------------------- -------- --------
    CPAN::Meta                    2.120900 2.150010
    Data::Printer                 0        1.002001
  ! IO::Async::Loop               0        n/a     


------------------------------
ENVIRONMENT AND OTHER CONTEXT
------------------------------

Environment variables:

    AUTOMATED_TESTING = 1
    DATE_MANIP_TEST_DM5 = 1
    LANG = en_US.UTF-8
    LC_ALL = C
    LC_COLLATE = C
    NONINTERACTIVE_TESTING = 1
    NO_NETWORK_TESTING = 1
    PATH = /home/cpan/bin/perl/bin:/home/cpan/bin:/home/cpan/bin:/usr/local/sbin:/usr/local/bin:/usr/bin:/usr/sbin:/sbin:/bin
    PERL5LIB = 
    PERL5OPT = 
    PERL5_CPANPLUS_IS_RUNNING = 1636
    PERL5_CPAN_IS_RUNNING = 1636
    PERL_MM_USE_DEFAULT = 1
    PERL_USE_UNSAFE_INC = 1
    SHELL = /bin/bash
    TERM = screen
    TMPDIR = /home/cpan/tmp

Perl special variables (and OS-specific diagnostics, for MSWin32):

    $^X = /home/cpan/bin/perl/bin/perl5.41.14
    $UID/$EUID = 1001 / 1001
    $GID = 1001 1001
    $EGID = 1001 1001

Perl module toolchain versions installed:

    Module              Have    
    ------------------- --------
    CPAN                2.38    
    CPAN::Meta          2.150010
    Cwd                 3.94    
    ExtUtils::CBuilder  0.280241
    ExtUtils::Command   7.76    
    ExtUtils::Install   2.22    
    ExtUtils::MakeMaker 7.76    
    ExtUtils::Manifest  1.75    
    ExtUtils::ParseXS   3.57    
    File::Spec          3.94    
    JSON                4.10    
    JSON::PP            4.16    
    Module::Build       0.4234  
    Module::Signature   0.89    
    Parse::CPAN::Meta   2.150010
    Test2               1.302214
    Test::Harness       3.50    
    Test::More          1.302214
    YAML                1.31    
    YAML::Syck          1.34    
    version             0.9933  


--

Summary of my perl5 (revision 5 version 41 subversion 14) configuration:
  Commit id: 6fbe2c7e05ae0e078795b74815bcefd10be12c56
  Platform:
    osname=linux
    osvers=6.12.31_1
    archname=x86_64-linux-thread-multi
    uname='linux cjg-void 6.12.31_1 #1 smp preempt_dynamic fri may 30 23:17:54 utc 2025 x86_64 gnulinux '
    config_args='-des -Dprefix=/home/cpan/bin/perl -Dscriptdir=/home/cpan/bin/perl/bin -Dusedevel -Duse64bitall -Duseithreads'
    hint=recommended
    useposix=true
    d_sigaction=define
    useithreads=define
    usemultiplicity=define
    use64bitint=define
    use64bitall=define
    uselongdouble=undef
    usemymalloc=n
    default_inc_excludes_dot=define
  Compiler:
    cc='cc'
    ccflags ='-D_REENTRANT -D_GNU_SOURCE -D_GNU_SOURCE -fwrapv -fno-strict-aliasing -pipe -fstack-protector-strong -I/usr/local/include -D_LARGEFILE_SOURCE -D_FILE_OFFSET_BITS=64 -D_FORTIFY_SOURCE=2'
    optimize='-O2'
    cppflags='-D_REENTRANT -D_GNU_SOURCE -D_GNU_SOURCE -fwrapv -fno-strict-aliasing -pipe -fstack-protector-strong -I/usr/local/include'
    ccversion=''
    gccversion='14.2.1 20250405'
    gccosandvers=''
    intsize=4
    longsize=8
    ptrsize=8
    doublesize=8
    byteorder=12345678
    doublekind=3
    d_longlong=define
    longlongsize=8
    d_longdbl=define
    longdblsize=16
    longdblkind=3
    ivtype='long'
    ivsize=8
    nvtype='double'
    nvsize=8
    Off_t='off_t'
    lseeksize=8
    alignbytes=8
    prototype=define
  Linker and Libraries:
    ld='cc'
    ldflags =' -fstack-protector-strong -L/usr/local/lib'
    libpth=/usr/local/lib /usr/lib
    libs=-lpthread -ldb -ldl -lm -lcrypt -lutil -lc
    perllibs=-lpthread -ldl -lm -lcrypt -lutil -lc
    libc=/lib/../lib64/libc.so
    so=so
    useshrplib=false
    libperl=libperl.a
    gnulibc_version=''
  Dynamic Linking:
    dlsrc=dl_dlopen.xs
    dlext=so
    d_dlsymun=undef
    ccdlflags='-Wl,-E'
    cccdlflags='-fPIC'
    lddlflags='-shared -O2 -L/usr/local/lib -fstack-protector-strong'


Characteristics of this binary (from libperl): 
  Compile-time options:
    HAS_LONG_DOUBLE
    HAS_STRTOLD
    HAS_TIMES
    MULTIPLICITY
    PERLIO_LAYERS
    PERL_COPY_ON_WRITE
    PERL_DONT_CREATE_GVSV
    PERL_HASH_FUNC_SIPHASH13
    PERL_HASH_USE_SBOX32
    PERL_MALLOC_WRAP
    PERL_OP_PARENT
    PERL_PRESERVE_IVUV
    PERL_USE_DEVEL
    PERL_USE_SAFE_PUTENV
    USE_64_BIT_ALL
    USE_64_BIT_INT
    USE_ITHREADS
    USE_LARGE_FILES
    USE_LOCALE
    USE_LOCALE_COLLATE
    USE_LOCALE_CTYPE
    USE_LOCALE_NUMERIC
    USE_LOCALE_TIME
    USE_PERLIO
    USE_PERL_ATOF
    USE_REENTRANT_API
    USE_THREAD_SAFE_LOCALE
  Built under linux
  Compiled at Jun  5 2025 07:56:15
  %ENV:
    PERL5LIB=""
    PERL5OPT=""
    PERL5_CPANPLUS_IS_RUNNING="1636"
    PERL5_CPAN_IS_RUNNING="1636"
    PERL_MM_USE_DEFAULT="1"
    PERL_USE_UNSAFE_INC="1"
  @INC:
    /home/cpan/bin/perl/lib/site_perl/5.41.14/x86_64-linux-thread-multi
    /home/cpan/bin/perl/lib/site_perl/5.41.14
    /home/cpan/bin/perl/lib/5.41.14/x86_64-linux-thread-multi
    /home/cpan/bin/perl/lib/5.41.14
    .