Term-ReadLine-Perl5 v1.45 Perl 5 v5.8.6 x86_64-linux-thread-multi

Status
Pass
From
Nigel Horne
Dist
Term-ReadLine-Perl5 v1.45
Platform
Perl 5 v5.8.6 x86_64-linux-thread-multi
Date
2017-10-18 11:34:18
ID
46fab35c-b3f8-11e7-9be1-bbe64cf6c7cd
This distribution has been tested as part of the CPAN Testers
project, supporting the Perl programming language.  See
http://wiki.cpantesters.org/ for more information or email
questions to cpan-testers-discuss@perl.org


--
Dear Rocky Bernstein,

This is a computer-generated report for Term-ReadLine-Perl5-1.45
on perl 5.8.6, created by CPAN-Reporter-1.2018.

Thank you for uploading your work to CPAN.  Congratulations!
All tests were successful.

Sections of this report:

    * Tester comments
    * Program output
    * Prerequisites
    * Environment and other context

------------------------------
TESTER COMMENTS
------------------------------

Additional comments from tester:

this report is from an automated smoke testing program
and was not reviewed by a human for accuracy

------------------------------
PROGRAM OUTPUT
------------------------------

Output from './Build test':

Unable to get Terminal Size. The TIOCGWINSZ ioctl didn't work. The COLUMNS and LINES environment variables didn't work. The resize program didn't work. The stty program didn't work. at /home/njh/.cpan/build/Term-ReadLine-Perl5-1.45-4/blib/lib/Term/ReadLine/Perl5/readline.pm line 2937.
Unable to get Terminal Size. The TIOCGWINSZ ioctl didn't work. The COLUMNS and LINES environment variables didn't work. The resize program didn't work. The stty program didn't work. at /home/njh/.cpan/build/Term-ReadLine-Perl5-1.45-4/blib/lib/Term/ReadLine/Perl5/readline.pm line 2937.
t/02test-OO-history-max-len.t .. ok
test.pl ........................ skipped: Not interactive: $ENV{PERL_MM_NONINTERACTIVE}='' $ENV{AUTOMATED_TESTING}='1'
Unable to get Terminal Size. The TIOCGWINSZ ioctl didn't work. The COLUMNS and LINES environment variables didn't work. The resize program didn't work. The stty program didn't work. at /home/njh/.cpan/build/Term-ReadLine-Perl5-1.45-4/blib/lib/Term/ReadLine/Perl5/readline.pm line 2937.
t/01test-OO-compile.t .......... ok
t/10test-common.t .............. ok
t/00test-pod.t ................. ok
Unable to get Terminal Size. The TIOCGWINSZ ioctl didn't work. The COLUMNS and LINES environment variables didn't work. The resize program didn't work. The stty program didn't work. at /home/njh/.cpan/build/Term-ReadLine-Perl5-1.45-4/blib/lib/Term/ReadLine/Perl5/readline.pm line 2937.
t/10test-basic.t ............... ok
t/10test-changecase.t .......... ok
t/10test-filelist.t ............ ok
t/10test-history.t ............. skipped: Need access to tty
t/10test-motion.t .............. ok
t/10test-readline.t ............ skipped: Need access to tty
Unable to get Terminal Size. The TIOCGWINSZ ioctl didn't work. The COLUMNS and LINES environment variables didn't work. The resize program didn't work. The stty program didn't work. at /home/njh/.cpan/build/Term-ReadLine-Perl5-1.45-4/blib/lib/Term/ReadLine/Perl5/readline.pm line 2937.
t/20test-read-input-file.t ..... ok
t/15test-unescape.t ............ ok
All tests successful.
Files=13, Tests=119,  0 wallclock secs ( 0.04 usr  0.02 sys +  0.95 cusr  0.14 csys =  1.15 CPU)
Result: PASS

------------------------------
PREREQUISITES
------------------------------

Prerequisite modules loaded:

requires:

    Module                          Need     Have    
    ------------------------------- -------- --------
    Class::Accessor::Lite           0.05     0.08    
    File::HomeDir                   0.81     1.00    
    File::Spec                      0        3.40    
    IO::Handle                      0        1.28    
    perl                            5.008005 5.008006
    POSIX                           0        1.08    
    Term::ReadKey                   2.3      2.37    
    Text::VisualWidth::PP           0        0.04    
    Unicode::EastAsianWidth::Detect 0.03     0.03    
    version                         0        0.88    

build_requires:

    Module                          Need     Have    
    ------------------------------- -------- --------
    File::HomeDir                   0.81     1.00    
    File::Spec                      0        3.40    
    Term::Cap                       0        1.17    
    Term::ReadKey                   2.3      2.37    
    Test::More                      0.98     1.302086

configure_requires:

    Module                          Need     Have    
    ------------------------------- -------- --------
    Module::Build                   0.4004   0.4210  
    perl                            5.008005 5.008006


------------------------------
ENVIRONMENT AND OTHER CONTEXT
------------------------------

Environment variables:

    AUTOMATED_TESTING = 1
    HARNESS_OPTIONS = j4
    LANG = en_GB.UTF-8
    LANGUAGE = en_GB:en
    PATH = /home/njh/perl5/perlbrew/bin:/home/njh/perl5/perlbrew/perls/perl-5.8.6/bin:/home/njh/perl5/perlbrew/bin:/usr/bin:/bin
    PERL5LIB = /home/njh/.cpan/build/Unicode-EastAsianWidth-Detect-0.03-1/blib/arch:/home/njh/.cpan/build/Unicode-EastAsianWidth-Detect-0.03-1/blib/lib:/home/njh/.cpan/build/Text-VisualWidth-PP-0.04-1/blib/arch:/home/njh/.cpan/build/Text-VisualWidth-PP-0.04-1/blib/lib:/home/njh/.cpan/build/Unicode-EastAsianWidth-1.33-1/blib/arch:/home/njh/.cpan/build/Unicode-EastAsianWidth-1.33-1/blib/lib:/home/njh/.cpan/build/Class-Accessor-Lite-0.08-1/blib/arch:/home/njh/.cpan/build/Class-Accessor-Lite-0.08-1/blib/lib
    PERL5OPT = 
    PERL5_CPANPLUS_IS_RUNNING = 8891
    PERL5_CPAN_IS_RUNNING = 8891
    PERLBREW_BASHRC_VERSION = 0.80
    PERLBREW_HOME = /home/njh/.perlbrew
    PERLBREW_LIB = 
    PERLBREW_MANPATH = /home/njh/perl5/perlbrew/perls/perl-5.8.6/man
    PERLBREW_PATH = /home/njh/perl5/perlbrew/bin:/home/njh/perl5/perlbrew/perls/perl-5.8.6/bin
    PERLBREW_PERL = perl-5.8.6
    PERLBREW_ROOT = /home/njh/perl5/perlbrew
    PERLBREW_VERSION = 0.80
    PERL_LOCAL_LIB_ROOT = 
    SHELL = /bin/sh

Perl special variables (and OS-specific diagnostics, for MSWin32):

    $^X = /home/njh/perl5/perlbrew/perls/perl-5.8.6/bin/perl
    $UID/$EUID = 1000 / 1000
    $GID = 1000 1000 112 108 46 44 30 29 25 24 4
    $EGID = 1000 1000 112 108 46 44 30 29 25 24 4

Perl module toolchain versions installed:

    Module              Have    
    ------------------- --------
    CPAN                2.16    
    CPAN::Meta          2.150005
    Cwd                 3.40    
    ExtUtils::CBuilder  0.280216
    ExtUtils::Command   7.24    
    ExtUtils::Install   1.54    
    ExtUtils::MakeMaker 7.24    
    ExtUtils::Manifest  1.70    
    ExtUtils::ParseXS   3.30    
    File::Spec          3.40    
    JSON                2.93    
    JSON::PP            2.27400 
    Module::Build       0.4210  
    Module::Signature   n/a     
    Parse::CPAN::Meta   1.4422  
    Test::Harness       3.36    
    Test::More          1.302086
    YAML                n/a     
    YAML::Syck          1.30    
    version             0.88    


--

Summary of my perl5 (revision 5 version 8 subversion 6) configuration:
  Platform:
    osname=linux, osvers=3.2.0-4-amd64, archname=x86_64-linux-thread-multi
    uname='linux nigelhorne.force9.co.uk 3.2.0-4-amd64 #1 smp debian 3.2.32-1 x86_64 gnulinux '
    config_args='-de -Dprefix=/home/njh/perl5/perlbrew/perls/perl-5.8.6 -Duseithreads -Dusemultiplicity -Accflags=-O2 -W -Wformat=2 -Wswitch -Wshadow -Wwrite-strings -Wuninitialized -Wall -pipe -mtune=native -march=native -fomit-frame-pointer -mfpmath=sse -pedantic -D_FORTIFY_SOURCE=2 -Wpointer-arith -Wstrict-prototypes -fstack-protector -Wstack-protector -Wextra -Wbad-function-cast -Wcast-align -Wcast-qual -Wdisabled-optimization -Wendif-labels -Wfloat-equal -Wformat-nonliteral -Winline -Wmissing-declarations -Wmissing-prototypes -Wnested-externs -Wpointer-arith -Wundef -Wformat-security -Aeval:scriptdir=/home/njh/perl5/perlbrew/perls/perl-5.8.6/bin'
    hint=recommended, useposix=true, d_sigaction=define
    usethreads=define use5005threads=undef useithreads=define usemultiplicity=define
    useperlio=define d_sfio=undef uselargefiles=define usesocks=undef
    use64bitint=define use64bitall=define uselongdouble=undef
    usemymalloc=n, bincompat5005=undef
  Compiler:
    cc='cc', ccflags ='-D_REENTRANT -D_GNU_SOURCE -O2 -W -Wformat=2 -Wswitch -Wshadow -Wwrite-strings -Wuninitialized -Wall -pipe -mtune=native -march=native -fomit-frame-pointer -mfpmath=sse -pedantic -D_FORTIFY_SOURCE=2 -Wpointer-arith -Wstrict-prototypes -fstack-protector -Wstack-protector -Wextra -Wbad-function-cast -Wcast-align -Wcast-qual -Wdisabled-optimization -Wendif-labels -Wfloat-equal -Wformat-nonliteral -Winline -Wmissing-declarations -Wmissing-prototypes -Wnested-externs -Wpointer-arith -Wundef -Wformat-security -fno-strict-aliasing -I/usr/local/include -D_LARGEFILE_SOURCE -D_FILE_OFFSET_BITS=64',
    optimize='-O2',
    cppflags='-D_REENTRANT -D_GNU_SOURCE -O2 -W -Wformat=2 -Wswitch -Wshadow -Wwrite-strings -Wuninitialized -Wall -pipe -mtune=native -march=native -fomit-frame-pointer -mfpmath=sse -pedantic -D_FORTIFY_SOURCE=2 -Wpointer-arith -Wstrict-prototypes -fstack-protector -Wstack-protector -Wextra -Wbad-function-cast -Wcast-align -Wcast-qual -Wdisabled-optimization -Wendif-labels -Wfloat-equal -Wformat-nonliteral -Winline -Wmissing-declarations -Wmissing-prototypes -Wnested-externs -Wpointer-arith -Wundef -Wformat-security -fno-strict-aliasing -I/usr/local/include'
    ccversion='', gccversion='4.7.2', gccosandvers=''
    intsize=4, longsize=8, ptrsize=8, doublesize=8, byteorder=12345678
    d_longlong=define, longlongsize=8, d_longdbl=define, longdblsize=16
    ivtype='long', ivsize=8, nvtype='double', nvsize=8, Off_t='off_t', lseeksize=8
    alignbytes=8, prototype=define
  Linker and Libraries:
    ld='cc', ldflags =' -L/usr/local/lib'
    libpth=/usr/local/lib /lib/x86_64-linux-gnu /lib/../lib /usr/lib/x86_64-linux-gnu /usr/lib/../lib /lib /usr/lib
    libs=-lnsl -lgdbm -ldb -ldl -lm -lcrypt -lutil -lpthread -lc -lgdbm_compat
    perllibs=-lnsl -ldl -lm -lcrypt -lutil -lpthread -lc -lgdbm_compat
    libc=, so=so, useshrplib=false, libperl=libperl.a
    gnulibc_version='2.13'
  Dynamic Linking:
    dlsrc=dl_dlopen.xs, dlext=so, d_dlsymun=undef, ccdlflags='-Wl,-E'
    cccdlflags='-fpic', lddlflags='-shared -L/usr/local/lib'


Characteristics of this binary (from libperl): 
  Compile-time options: MULTIPLICITY USE_ITHREADS USE_64_BIT_INT USE_64_BIT_ALL USE_LARGE_FILES PERL_IMPLICIT_CONTEXT
  Built under linux
  Compiled at Mar  5 2013 01:10:40
  %ENV:
    PERL5LIB="/home/njh/.cpan/build/Unicode-EastAsianWidth-Detect-0.03-1/blib/arch:/home/njh/.cpan/build/Unicode-EastAsianWidth-Detect-0.03-1/blib/lib:/home/njh/.cpan/build/Text-VisualWidth-PP-0.04-1/blib/arch:/home/njh/.cpan/build/Text-VisualWidth-PP-0.04-1/blib/lib:/home/njh/.cpan/build/Unicode-EastAsianWidth-1.33-1/blib/arch:/home/njh/.cpan/build/Unicode-EastAsianWidth-1.33-1/blib/lib:/home/njh/.cpan/build/Class-Accessor-Lite-0.08-1/blib/arch:/home/njh/.cpan/build/Class-Accessor-Lite-0.08-1/blib/lib"
    PERL5OPT=""
    PERL5_CPANPLUS_IS_RUNNING="8891"
    PERL5_CPAN_IS_RUNNING="8891"
    PERLBREW_BASHRC_VERSION="0.80"
    PERLBREW_HOME="/home/njh/.perlbrew"
    PERLBREW_LIB=""
    PERLBREW_MANPATH="/home/njh/perl5/perlbrew/perls/perl-5.8.6/man"
    PERLBREW_PATH="/home/njh/perl5/perlbrew/bin:/home/njh/perl5/perlbrew/perls/perl-5.8.6/bin"
    PERLBREW_PERL="perl-5.8.6"
    PERLBREW_ROOT="/home/njh/perl5/perlbrew"
    PERLBREW_VERSION="0.80"
    PERL_LOCAL_LIB_ROOT=""
  @INC:
    /home/njh/.cpan/build/Unicode-EastAsianWidth-Detect-0.03-1/blib/arch
    /home/njh/.cpan/build/Unicode-EastAsianWidth-Detect-0.03-1/blib/lib
    /home/njh/.cpan/build/Text-VisualWidth-PP-0.04-1/blib/arch
    /home/njh/.cpan/build/Text-VisualWidth-PP-0.04-1/blib/lib
    /home/njh/.cpan/build/Unicode-EastAsianWidth-1.33-1/blib/arch
    /home/njh/.cpan/build/Unicode-EastAsianWidth-1.33-1/blib/lib
    /home/njh/.cpan/build/Class-Accessor-Lite-0.08-1/blib/arch
    /home/njh/.cpan/build/Class-Accessor-Lite-0.08-1/blib/lib
    /home/njh/perl5/perlbrew/perls/perl-5.8.6/lib/5.8.6/x86_64-linux-thread-multi
    /home/njh/perl5/perlbrew/perls/perl-5.8.6/lib/5.8.6
    /home/njh/perl5/perlbrew/perls/perl-5.8.6/lib/site_perl/5.8.6/x86_64-linux-thread-multi
    /home/njh/perl5/perlbrew/perls/perl-5.8.6/lib/site_perl/5.8.6
    /home/njh/perl5/perlbrew/perls/perl-5.8.6/lib/site_perl
    .