Back
From: metabase:user:320bfe00-2aae-11df-837a-5e0a49663a4f
Subject: PASS Parallel-Queue-3.6 v5.24.0 RC3 GNU/Linux
Date: 2016-04-29T17:31:59Z
This distribution has been tested as part of the CPAN Testers
project, supporting the Perl programming language. See
http://wiki.cpantesters.org/ for more information or email
questions to cpan-testers-discuss@perl.org
--
Dear Steven Lembark,
This is a computer-generated report for Parallel-Queue-3.6
on perl 5.24.0, created by CPAN-Reporter-1.2017.
Thank you for uploading your work to CPAN. Congratulations!
All tests were successful.
Sections of this report:
* Tester comments
* Program output
* Prerequisites
* Environment and other context
------------------------------
TESTER COMMENTS
------------------------------
Additional comments from tester:
this report is from an automated smoke testing program
and was not reviewed by a human for accuracy
------------------------------
PROGRAM OUTPUT
------------------------------
Output from '/usr/bin/make test':
PERL_DL_NONLAZY=1 "/tmp/basesmoker-reloperl-OAxq/bin/perl" "-MExtUtils::Command::MM" "-MTest::Harness" "-e" "undef *Test::Harness::Switches; test_harness(0, 'blib/lib', 'blib/arch')" t/*.t
t/00-usable.t ................... ok
t/01-export-name.t .............. ok
Smartmatch is experimental at t/02-debug-mode.t line 70.
Non-forking queue
Next job: 'CODE(0x851218)'
Complete: '0' ()
Next job: 'CODE(0x851260)'
Complete: '0' ()
Next job: 'CODE(0x8512c0)'
Complete: '0' ()
Next job: 'CODE(0xdd5dc8)'
Complete: '0' ()
Next job: 'CODE(0xddd5a0)'
Complete: '0' ()
Next job: 'CODE(0xddd8b8)'
Complete: '0' ()
Next job: 'CODE(0x851590)'
Complete: '0' ()
Next job: 'CODE(0xd2cb30)'
Complete: '0' ()
Next job: 'CODE(0xdddab0)'
Complete: '0' ()
Next job: 'CODE(0xdddb70)'
Complete: '0' ()
Next job: 'CODE(0xdde050)'
Complete: '0' ()
Next job: 'CODE(0xdddfa8)'
Complete: '0' ()
Next job: 'CODE(0xdddf00)'
Complete: '0' ()
Next job: 'CODE(0xdde1b8)'
Complete: '0' ()
Next job: 'CODE(0xe0e110)'
Complete: '0' ()
Next job: 'CODE(0xe0e080)'
Complete: '0' ()
Next job: 'CODE(0xe0df90)'
Complete: '0' ()
Next job: 'CODE(0xe07e98)'
Complete: '0' ()
Next job: 'CODE(0xe07f40)'
Complete: '0' ()
Next job: 'CODE(0xe07fe8)'
Complete: '0' ()
Next job: ''
Non-forking queue
Next job: 'CODE(0x851338)'
Complete: '0' ()
Next job: 'CODE(0xdde080)'
Complete: '0' ()
Next job: 'CODE(0xe07fb8)'
Complete: '0' ()
Next job: 'CODE(0xe08318)'
Complete: '0' ()
Next job: 'CODE(0xe083f0)'
Complete: '0' ()
Next job: 'CODE(0xe084c8)'
Complete: '0' ()
Next job: 'CODE(0xe085a0)'
Complete: '0' ()
Next job: 'CODE(0xe08678)'
Complete: '0' ()
Next job: 'CODE(0xe08750)'
Complete: '0' ()
Next job: 'CODE(0xe08828)'
Complete: '0' ()
Next job: 'CODE(0xe08900)'
Complete: '0' ()
Next job: 'CODE(0xe089d8)'
Complete: '0' ()
Next job: 'CODE(0xe08ab0)'
Complete: '0' ()
Next job: 'CODE(0xe08b88)'
Complete: '0' ()
Next job: 'CODE(0xe08c60)'
Complete: '0' ()
Next job: 'CODE(0xe08d38)'
Complete: '0' ()
Next job: 'CODE(0xe08e38)'
Complete: '0' ()
Next job: 'CODE(0xe08f10)'
Complete: '0' ()
Next job: 'CODE(0xe08fe8)'
Complete: '0' ()
Next job: 'CODE(0xe090c0)'
Complete: '0' ()
Next job: ''
Non-forking queue
Next job: 'CODE(0x851218)'
Complete: '0' ()
Next job: 'CODE(0x851260)'
Complete: '0' ()
Next job: 'CODE(0x8512c0)'
Complete: '0' ()
Next job: 'CODE(0xdd5dc8)'
Complete: '0' ()
Next job: 'CODE(0xddd5a0)'
Complete: '0' ()
Next job: 'CODE(0xddd8b8)'
Complete: '0' ()
Next job: 'CODE(0x851590)'
Complete: '0' ()
Next job: 'CODE(0xd2cb30)'
Complete: '0' ()
Next job: 'CODE(0xdddab0)'
Complete: '0' ()
Next job: 'CODE(0xdddb70)'
Complete: '0' ()
Next job: 'CODE(0xdde050)'
Complete: '0' ()
Next job: 'CODE(0xdddfa8)'
Complete: '0' ()
Next job: 'CODE(0xdddf00)'
Complete: '0' ()
Next job: 'CODE(0xdde1b8)'
Complete: '0' ()
Next job: 'CODE(0xe0e110)'
Complete: '0' ()
Next job: 'CODE(0xe0e080)'
Complete: '0' ()
Next job: 'CODE(0xe0df90)'
Complete: '0' ()
Next job: 'CODE(0xe07e98)'
Complete: '0' ()
Next job: 'CODE(0xe07f40)'
Complete: '0' ()
Next job: 'CODE(0xe07fe8)'
Complete: '0' ()
Next job: ''
Non-forking queue
Next job: 'CODE(0x851338)'
Complete: '0' ()
Next job: 'CODE(0xdde080)'
Complete: '0' ()
Next job: 'CODE(0xe07fb8)'
Complete: '0' ()
Next job: 'CODE(0xe08318)'
Complete: '0' ()
Next job: 'CODE(0xe083f0)'
Complete: '0' ()
Next job: 'CODE(0xe084c8)'
Complete: '0' ()
Next job: 'CODE(0xe085a0)'
Complete: '0' ()
Next job: 'CODE(0xe08678)'
Complete: '0' ()
Next job: 'CODE(0xe08750)'
Complete: '0' ()
Next job: 'CODE(0xe08828)'
Complete: '0' ()
Next job: 'CODE(0xe08900)'
Complete: '0' ()
Next job: 'CODE(0xe089d8)'
Complete: '0' ()
Next job: 'CODE(0xe08ab0)'
Complete: '0' ()
Next job: 'CODE(0xe08b88)'
Complete: '0' ()
Next job: 'CODE(0xe08c60)'
Complete: '0' ()
Next job: 'CODE(0xe08d38)'
Complete: '0' ()
Next job: 'CODE(0xe08e38)'
Complete: '0' ()
Next job: 'CODE(0xe08f10)'
Complete: '0' ()
Next job: 'CODE(0xe08fe8)'
Complete: '0' ()
Next job: 'CODE(0xe090c0)'
Complete: '0' ()
Next job: ''
Non-forking queue
Next job: 'CODE(0x851218)'
Complete: '0' ()
Next job: 'CODE(0x851260)'
Complete: '0' ()
Next job: 'CODE(0x8512c0)'
Complete: '0' ()
Next job: 'CODE(0xdd5dc8)'
Complete: '0' ()
Next job: 'CODE(0xddd5a0)'
Complete: '0' ()
Next job: 'CODE(0xddd8b8)'
Complete: '0' ()
Next job: 'CODE(0x851590)'
Complete: '0' ()
Next job: 'CODE(0xd2cb30)'
Complete: '0' ()
Next job: 'CODE(0xdddab0)'
Complete: '0' ()
Next job: 'CODE(0xdddb70)'
Complete: '0' ()
Next job: 'CODE(0xdde050)'
Complete: '0' ()
Next job: 'CODE(0xdddfa8)'
Complete: '0' ()
Next job: 'CODE(0xdddf00)'
Complete: '0' ()
Next job: 'CODE(0xdde1b8)'
Complete: '0' ()
Next job: 'CODE(0xe0e110)'
Complete: '0' ()
Next job: 'CODE(0xe0e080)'
Complete: '0' ()
Next job: 'CODE(0xe0df90)'
Complete: '0' ()
Next job: 'CODE(0xe07e98)'
Complete: '0' ()
Next job: 'CODE(0xe07f40)'
Complete: '0' ()
Next job: 'CODE(0xe07fe8)'
Complete: '0' ()
Next job: ''
Non-forking queue
Next job: 'CODE(0x851338)'
Complete: '0' ()
Next job: 'CODE(0xdde080)'
Complete: '0' ()
Next job: 'CODE(0xe07fb8)'
Complete: '0' ()
Next job: 'CODE(0xe08318)'
Complete: '0' ()
Next job: 'CODE(0xe083f0)'
Complete: '0' ()
Next job: 'CODE(0xe084c8)'
Complete: '0' ()
Next job: 'CODE(0xe085a0)'
Complete: '0' ()
Next job: 'CODE(0xe08678)'
Complete: '0' ()
Next job: 'CODE(0xe08750)'
Complete: '0' ()
Next job: 'CODE(0xe08828)'
Complete: '0' ()
Next job: 'CODE(0xe08900)'
Complete: '0' ()
Next job: 'CODE(0xe089d8)'
Complete: '0' ()
Next job: 'CODE(0xe08ab0)'
Complete: '0' ()
Next job: 'CODE(0xe08b88)'
Complete: '0' ()
Next job: 'CODE(0xe08c60)'
Complete: '0' ()
Next job: 'CODE(0xe08d38)'
Complete: '0' ()
Next job: 'CODE(0xe08e38)'
Complete: '0' ()
Next job: 'CODE(0xe08f10)'
Complete: '0' ()
Next job: 'CODE(0xe08fe8)'
Complete: '0' ()
Next job: 'CODE(0xe090c0)'
Complete: '0' ()
Next job: ''
t/02-debug-mode.t ............... ok
Smartmatch is experimental at t/03-fork.t line 83.
t/03-fork.t ..................... ok
t/04-nonzero-exit.t ............. ok
exit( 1 ) by 4972 at /tmp/loop_over_bdir-22613-iyJSXI/Parallel-Queue-3.6-0/blib/lib/Parallel/Queue.pm line 227.
t/05-nonzero-with-finish.t ...... ok
Discarding non-queue 'PQ::Iterator::a'
Discarding non-queue 'PQ::Iterator::b'
Discarding non-queue 'PQ::Iterator::c'
t/06-iterator-package-nofork.t .. ok
Discarding non-queue 'PQ::Iterator::a'
Discarding non-queue 'PQ::Iterator::b'
Discarding non-queue 'PQ::Iterator::c'
t/07-iterator-package-fork.t .... ok
t/08-iterator-objects-nofork.t .. ok
t/09-iterator-objects-fork.t .... ok
All tests successful.
Files=10, Tests=87, 1 wallclock secs ( 0.04 usr 0.03 sys + 0.32 cusr 0.24 csys = 0.63 CPU)
Result: PASS
------------------------------
PREREQUISITES
------------------------------
Prerequisite modules loaded:
requires:
Module Need Have
------------------- ---- ----
Carp 0 1.40
Scalar::Util 0 1.45
strict 0 1.11
Symbol 0 1.07
build_requires:
Module Need Have
------------------- ---- ----
ExtUtils::MakeMaker 0 7.14
configure_requires:
Module Need Have
------------------- ---- ----
ExtUtils::MakeMaker 0 7.14
------------------------------
ENVIRONMENT AND OTHER CONTEXT
------------------------------
Environment variables:
AUTOMATED_TESTING = 1
LANG = C
PATH = /usr/lib/ccache:/home/sand/bin:/usr/local/bin:/usr/lib/ccache:/usr/bin:/bin:/usr/games:/usr/local/perl/bin:/usr/X11/bin:/sbin:/usr/sbin
PERL5LIB =
PERL5OPT =
PERL5_CPANPLUS_IS_RUNNING = 13035
PERL5_CPAN_IS_RUNNING = 13035
PERL_CANARY_STABILITY_NOPROMPT = 1
PERL_MM_USE_DEFAULT = 1
SHELL = /usr/bin/zsh
TERM = screen
Perl special variables (and OS-specific diagnostics, for MSWin32):
$^X = /tmp/basesmoker-reloperl-OAxq/bin/perl
$UID/$EUID = 1005 / 1005
$GID = 1005 1005
$EGID = 1005 1005
Perl module toolchain versions installed:
Module Have
------------------- ------------
CPAN 2.12
CPAN::Meta 2.150005
Cwd 3.63
ExtUtils::CBuilder 0.280225
ExtUtils::Command 7.14
ExtUtils::Install 2.04
ExtUtils::MakeMaker 7.14
ExtUtils::Manifest 1.70
ExtUtils::ParseXS 3.31
File::Spec 3.63
JSON 2.90
JSON::PP 2.27400
Module::Build 0.4218
Module::Signature 0.79
Parse::CPAN::Meta 1.4417
Test::Harness 3.36
Test::More 1.302014_009
YAML 1.15
YAML::Syck 1.29
version 0.9916
--
Summary of my perl5 (revision 5 version 24 subversion 0) configuration:
Commit id: fff2d93e7190eee6b5d20af2144679a24d8b26ef
Platform:
osname=linux, osvers=4.5.0-1-amd64, archname=x86_64-linux-thread-multi
uname='linux k93x64sid 4.5.0-1-amd64 #1 smp debian 4.5.1-1 (2016-04-14) x86_64 gnulinux '
config_args='-Dprefix=/home/sand/src/perl/repoperls/installed-perls/host/k93x64sid/v5.24.0-RC3/fae6 -Dmyhostname=k93x64sid -Dinstallusrbinperl=n -Uversiononly -Dusedevel -des -Ui_db -Dlibswanted=cl pthread socket inet nsl gdbm dbm malloc dl ld sun m crypt sec util c cposix posix ucb BSD gdbm_compat -Duseithreads -Uuselongdouble'
hint=recommended, useposix=true, d_sigaction=define
useithreads=define, usemultiplicity=define
use64bitint=define, use64bitall=define, uselongdouble=undef
usemymalloc=n, bincompat5005=undef
Compiler:
cc='cc', ccflags ='-D_REENTRANT -D_GNU_SOURCE -fwrapv -fno-strict-aliasing -pipe -fstack-protector-strong -I/usr/local/include -D_LARGEFILE_SOURCE -D_FILE_OFFSET_BITS=64 -D_FORTIFY_SOURCE=2',
optimize='-O2',
cppflags='-D_REENTRANT -D_GNU_SOURCE -fwrapv -fno-strict-aliasing -pipe -fstack-protector-strong -I/usr/local/include'
ccversion='', gccversion='5.3.1 20160424', gccosandvers=''
intsize=4, longsize=8, ptrsize=8, doublesize=8, byteorder=12345678, doublekind=3
d_longlong=define, longlongsize=8, d_longdbl=define, longdblsize=16, longdblkind=3
ivtype='long', ivsize=8, nvtype='double', nvsize=8, Off_t='off_t', lseeksize=8
alignbytes=8, prototype=define
Linker and Libraries:
ld='cc', ldflags =' -fstack-protector-strong -L/usr/local/lib'
libpth=/usr/local/lib /usr/lib/gcc/x86_64-linux-gnu/5/include-fixed /usr/include/x86_64-linux-gnu /usr/lib /lib/x86_64-linux-gnu /lib/../lib /usr/lib/x86_64-linux-gnu /usr/lib/../lib /lib
libs=-lpthread -lnsl -ldl -lm -lcrypt -lutil -lc
perllibs=-lpthread -lnsl -ldl -lm -lcrypt -lutil -lc
libc=libc-2.22.so, so=so, useshrplib=false, libperl=libperl.a
gnulibc_version='2.22'
Dynamic Linking:
dlsrc=dl_dlopen.xs, dlext=so, d_dlsymun=undef, ccdlflags='-Wl,-E'
cccdlflags='-fPIC', lddlflags='-shared -O2 -L/usr/local/lib -fstack-protector-strong'
Characteristics of this binary (from libperl):
Compile-time options: HAS_TIMES MULTIPLICITY PERLIO_LAYERS
PERL_COPY_ON_WRITE PERL_DONT_CREATE_GVSV
PERL_HASH_FUNC_ONE_AT_A_TIME_HARD
PERL_IMPLICIT_CONTEXT PERL_MALLOC_WRAP
PERL_PRESERVE_IVUV PERL_USE_DEVEL USE_64_BIT_ALL
USE_64_BIT_INT USE_ITHREADS USE_LARGE_FILES
USE_LOCALE USE_LOCALE_COLLATE USE_LOCALE_CTYPE
USE_LOCALE_NUMERIC USE_LOCALE_TIME USE_PERLIO
USE_PERL_ATOF USE_REENTRANT_API
Locally applied patches:
RC3
Built under linux
Compiled at Apr 28 2016 22:04:03
%ENV:
PERL5LIB=""
PERL5OPT=""
PERL5_CPANPLUS_IS_RUNNING="13035"
PERL5_CPAN_IS_RUNNING="13035"
PERL_CANARY_STABILITY_NOPROMPT="1"
PERL_MM_USE_DEFAULT="1"
@INC:
/home/sand/src/perl/repoperls/installed-perls/host/k93x64sid/v5.24.0-RC3/fae6/lib/site_perl/5.24.0/x86_64-linux-thread-multi
/home/sand/src/perl/repoperls/installed-perls/host/k93x64sid/v5.24.0-RC3/fae6/lib/site_perl/5.24.0
/home/sand/src/perl/repoperls/installed-perls/host/k93x64sid/v5.24.0-RC3/fae6/lib/5.24.0/x86_64-linux-thread-multi
/home/sand/src/perl/repoperls/installed-perls/host/k93x64sid/v5.24.0-RC3/fae6/lib/5.24.0
.