Math-GSL v0.49 Perl 5 v5.40.0 aarch64-freebsd

Status
Pass
From
Slaven Rezić
Dist
Math-GSL v0.49
Platform
Perl 5 v5.40.0 aarch64-freebsd
Date
2024-07-29 12:01:23
ID
468b51f6-4da2-11ef-9cd1-b2236e8775ea
This distribution has been tested as part of the CPAN Testers
project, supporting the Perl programming language.  See
http://wiki.cpantesters.org/ for more information or email
questions to cpan-testers-discuss@perl.org


--
Dear Hakon Haegland,

This is a computer-generated report for Math-GSL-0.49
on perl 5.40.0, created by CPAN-Reporter-1.2019.

Thank you for uploading your work to CPAN.  Congratulations!
All tests were successful.

Sections of this report:

    * Tester comments
    * Program output
    * Prerequisites
    * Environment and other context

------------------------------
TESTER COMMENTS
------------------------------

Additional comments from tester:

none provided

------------------------------
PROGRAM OUTPUT
------------------------------

Output from './Build test':

VERSION MISMATCH: Let's hope for the best.
Processing 2.7 XS files, GSL 2.7.1 (via gsl-config) at /usr/local
Compiler        = FreeBSD clang version 18.1.6 (https://github.com/llvm/llvm-project.git llvmorg-18.1.6-0-g1118c2e05e67)
Target: aarch64-unknown-freebsd14.1
Thread model: posix
InstalledDir: /usr/bin

ccflags         = -DPIC -fPIC -I/usr/local/include -DHAS_FPSETMASK -DHAS_FLOATINGPOINT_H -DNO_POSIX_2008_LOCALE -fno-strict-aliasing -pipe -fstack-protector-strong -I/usr/local/include -Wall -Wno-sometimes-uninitialized -Wno-unused-function -Wno-unused-value -Wno-unused-function -Wno-unused-variable -Wno-gnu -g -I/usr/local/include
ldflags         = -shared -L/usr/local/lib -lgsl -lgslcblas -lm
PERL5LIB        = /home/cpansand/.cpan/build/2024072911/Math-GSL-Alien-1.05-0/blib/arch:/home/cpansand/.cpan/build/2024072911/Math-GSL-Alien-1.05-0/blib/lib:/home/cpansand/.cpan/build/2024072911/Alien-Role-Dino-0.08-0/blib/arch:/home/cpansand/.cpan/build/2024072911/Alien-Role-Dino-0.08-0/blib/lib
LD_LIBRARY_PATH = 
# Testing Math::GSL 0.49 with GSL 2.7 on aarch64-freebsd, Perl (/usr/perl5.40.0/bin/perl) 5.040000
t/00-load.t ........ ok
t/BLAS.t ........... ok
t/BSpline.t ........ ok
t/CBLAS.t .......... ok
t/CDF.t ............ ok
t/Chebyshev.t ...... ok
t/Combination.t .... ok
t/Complex.t ........ ok
t/Const.t .......... ok
t/DHT.t ............ ok
t/Deriv.t .......... ok
t/Diff.t ........... ok
t/Eigen.t .......... ok
t/Errno.t .......... ok
t/FFT.t ............ ok
t/Fit.t ............ ok
# 
# 	Elements start differing at index 2, delta = 9.99999998363421e-08
# 		$x->[2] = 3.0010001
# 		$y->[2] = 3.0010002
# 
# 	Elements start differing at index 2, delta = 0.00099999999999989
# 		$x->[2] = 3
# 		$y->[2] = 3.001
t/GSL.t ............ ok
t/Heapsort.t ....... ok
t/Histogram.t ...... ok
t/Histogram2D.t .... ok
t/IEEEUtils.t ...... ok
t/Integration.t .... ok
t/Interp.t ......... ok
t/Linalg.t ......... ok
t/Machine.t ........ ok
# 
# 	Elements start differing at index 1, delta = 1
# 		$x->[1] = 3
# 		$y->[1] = 2
t/Matrix.t ......... ok
# 
# 	Elements start differing at index 1, delta = 1
# 		$x->[1] = 3
# 		$y->[1] = 4
# 
# 	Elements start differing at index 1, delta = 1
# 		$x->[1] = 3
# 		$y->[1] = 2
t/MatrixComplex.t .. ok
t/Min.t ............ ok
t/Monte.t .......... ok
t/Multifit.t ....... ok
t/Multilarge.t ..... ok
t/Multimin.t ....... ok
t/Multiroots.t ..... ok
t/Multiset.t ....... ok
t/NTuple.t ......... ok
t/ODEIV.t .......... ok
t/ODEIV_evolve.t ... ok
t/Permutation.t .... ok
t/Poly.t ........... ok
t/PowInt.t ......... ok
t/QRNG.t ........... ok
t/RNG.t ............ ok
t/Randist.t ........ ok
t/Roots.t .......... ok
t/Rstat.t .......... ok
t/SF.t ............. ok
t/Siman.t .......... ok
t/Sort.t ........... ok
t/SparseMatrix.t ... ok
t/Spline.t ......... ok
t/Statistics.t ..... ok
t/Sum.t ............ ok
t/Sys.t ............ ok
# 
# 	Elements start differing at index 0, delta = 9
# 		$x->[0] = 1
# 		$y->[0] = 10
# 
# 	Elements start differing at index 0, delta = 9
# 		$x->[0] = 1
# 		$y->[0] = 10
t/Vector.t ......... ok
t/VectorComplex.t .. ok
t/Wavelet.t ........ ok
t/Wavelet2D.t ...... ok
# Testing Math::GSL with GSL 1.16.1 on aarch64-freebsd, Perl (/usr/perl5.40.0/bin/perl) 5.040000
t/ver2func.t ....... ok
All tests successful.

Test Summary Report
-------------------
t/Vector.t       (Wstat: 0 Tests: 143 Failed: 0)
  TODO passed:   142
Files=58, Tests=4193,  8 wallclock secs ( 0.50 usr  0.19 sys +  6.28 cusr  1.30 csys =  8.27 CPU)
Result: PASS

------------------------------
PREREQUISITES
------------------------------

Prerequisite modules loaded:

requires:

    Module           Need    Have    
    ---------------- ------- --------
    Math::Complex    0       1.62    
    parent           0       0.241   
    perl             v5.8.1  5.040000
    Scalar::Util     0       1.63    
    version          0.77    0.9930  

build_requires:

    Module           Need    Have    
    ---------------- ------- --------
    Test::Class      0.12    0.52    
    Test::Exception  0.21    0.43    
    Test::More       0       1.302199
    Test::Most       0.31    0.38    
    Test::Taint      1.06    1.08    

configure_requires:

    Module           Need    Have    
    ---------------- ------- --------
    Math::GSL::Alien 1.03    1.05    
    Module::Build    0.38    0.4234  
    PkgConfig        0.07720 0.25026 


------------------------------
ENVIRONMENT AND OTHER CONTEXT
------------------------------

Environment variables:

    LANG = C.UTF-8
    PATH = /usr/local/bin:/usr/bin:/bin:/usr/local/sbin:/usr/sbin:/sbin:/home/cpansand/bin/sh:/home/cpansand/bin:/usr/games:/home/cpansand/devel:/home/eserte/src/srezic-misc/scripts
    PERL5LIB = /home/cpansand/.cpan/build/2024072911/Math-GSL-Alien-1.05-0/blib/arch:/home/cpansand/.cpan/build/2024072911/Math-GSL-Alien-1.05-0/blib/lib:/home/cpansand/.cpan/build/2024072911/Alien-Role-Dino-0.08-0/blib/arch:/home/cpansand/.cpan/build/2024072911/Alien-Role-Dino-0.08-0/blib/lib
    PERL5OPT = 
    PERL5_CPANPLUS_IS_RUNNING = 55387
    PERL5_CPAN_IS_RUNNING = 55387
    PERL5_CPAN_IS_RUNNING_IN_RECURSION = 55360,55387
    PERL_BATCH = yes
    PERL_CANARY_STABILITY_NOPROMPT = 1
    PERL_CPAN_REPORTER_CONFIG = /var/tmp/cpansmoker-1023/2024072911/cpanreporter_000_config.ini
    PERL_EXTUTILS_AUTOINSTALL = --defaultdeps
    PERL_USE_UNSAFE_INC = 1
    SHELL = /bin/sh
    TMPDIR = /var/tmp/cpansmoker-1023/2024072911

Perl special variables (and OS-specific diagnostics, for MSWin32):

    $^X = /usr/perl5.40.0/bin/perl
    $UID/$EUID = 1023 / 1023
    $GID = 1023 1023
    $EGID = 1023 1023

Perl module toolchain versions installed:

    Module              Have    
    ------------------- --------
    CPAN                2.36    
    CPAN::Meta          2.150010
    Cwd                 3.90    
    ExtUtils::CBuilder  0.280240
    ExtUtils::Command   7.70    
    ExtUtils::Install   2.22    
    ExtUtils::MakeMaker 7.70    
    ExtUtils::Manifest  1.75    
    ExtUtils::ParseXS   3.51    
    File::Spec          3.90    
    JSON                4.10    
    JSON::PP            4.16    
    Module::Build       0.4234  
    Module::Signature   n/a     
    Parse::CPAN::Meta   2.150010
    Test2               1.302199
    Test::Harness       3.48    
    Test::More          1.302199
    YAML                1.31    
    YAML::Syck          1.34    
    version             0.9930  


--

Summary of my perl5 (revision 5 version 40 subversion 0) configuration:
   
  Platform:
    osname=freebsd
    osvers=14.1-stable
    archname=aarch64-freebsd
    uname='freebsd cloud9.bbbike.org 14.1-stable freebsd 14.1-stable stable14-n267861-7dceb87a371e generic arm64 '
    config_args='-ds -e -Dprefix=/usr/perl5.40.0 -Dcf_email=srezic@cpan.org -Doptimize=-O2 -pipe'
    hint=recommended
    useposix=true
    d_sigaction=define
    useithreads=undef
    usemultiplicity=undef
    use64bitint=define
    use64bitall=define
    uselongdouble=undef
    usemymalloc=n
    default_inc_excludes_dot=define
  Compiler:
    cc='cc'
    ccflags ='-DHAS_FPSETMASK -DHAS_FLOATINGPOINT_H -DNO_POSIX_2008_LOCALE -fno-strict-aliasing -pipe -fstack-protector-strong -I/usr/local/include'
    optimize='-O2 -pipe'
    cppflags='-DHAS_FPSETMASK -DHAS_FLOATINGPOINT_H -DNO_POSIX_2008_LOCALE -fno-strict-aliasing -pipe -fstack-protector-strong -I/usr/local/include'
    ccversion=''
    gccversion='FreeBSD Clang 18.1.6 (https://github.com/llvm/llvm-project.git llvmorg-18.1.6-0-g1118c2e05e67)'
    gccosandvers=''
    intsize=4
    longsize=8
    ptrsize=8
    doublesize=8
    byteorder=12345678
    doublekind=3
    d_longlong=define
    longlongsize=8
    d_longdbl=define
    longdblsize=16
    longdblkind=1
    ivtype='long'
    ivsize=8
    nvtype='double'
    nvsize=8
    Off_t='off_t'
    lseeksize=8
    alignbytes=8
    prototype=define
  Linker and Libraries:
    ld='cc'
    ldflags ='-Wl,-E  -fstack-protector-strong -L/usr/local/lib'
    libpth=/usr/lib /usr/local/lib /usr/lib/clang/18/lib
    libs=-lpthread -lgdbm -ldl -lm -lcrypt -lutil -lc
    perllibs=-lpthread -ldl -lm -lcrypt -lutil -lc
    libc=
    so=so
    useshrplib=false
    libperl=libperl.a
    gnulibc_version=''
  Dynamic Linking:
    dlsrc=dl_dlopen.xs
    dlext=so
    d_dlsymun=undef
    ccdlflags=' '
    cccdlflags='-DPIC -fPIC'
    lddlflags='-shared  -L/usr/local/lib -fstack-protector-strong'


Characteristics of this binary (from libperl): 
  Compile-time options:
    HAS_LONG_DOUBLE
    HAS_STRTOLD
    HAS_TIMES
    PERLIO_LAYERS
    PERL_COPY_ON_WRITE
    PERL_DONT_CREATE_GVSV
    PERL_HASH_FUNC_SIPHASH13
    PERL_HASH_USE_SBOX32
    PERL_MALLOC_WRAP
    PERL_OP_PARENT
    PERL_PRESERVE_IVUV
    PERL_USE_SAFE_PUTENV
    USE_64_BIT_ALL
    USE_64_BIT_INT
    USE_LARGE_FILES
    USE_LOCALE
    USE_LOCALE_COLLATE
    USE_LOCALE_CTYPE
    USE_LOCALE_NUMERIC
    USE_LOCALE_TIME
    USE_PERLIO
    USE_PERL_ATOF
  Built under freebsd
  Compiled at Jun 10 2024 21:14:04
  %ENV:
    PERL5LIB="/home/cpansand/.cpan/build/2024072911/Math-GSL-Alien-1.05-0/blib/arch:/home/cpansand/.cpan/build/2024072911/Math-GSL-Alien-1.05-0/blib/lib:/home/cpansand/.cpan/build/2024072911/Alien-Role-Dino-0.08-0/blib/arch:/home/cpansand/.cpan/build/2024072911/Alien-Role-Dino-0.08-0/blib/lib"
    PERL5OPT=""
    PERL5_CPANPLUS_IS_RUNNING="55387"
    PERL5_CPAN_IS_RUNNING="55387"
    PERL5_CPAN_IS_RUNNING_IN_RECURSION="55360,55387"
    PERL_BATCH="yes"
    PERL_CANARY_STABILITY_NOPROMPT="1"
    PERL_CPAN_REPORTER_CONFIG="/var/tmp/cpansmoker-1023/2024072911/cpanreporter_000_config.ini"
    PERL_EXTUTILS_AUTOINSTALL="--defaultdeps"
    PERL_USE_UNSAFE_INC="1"
  @INC:
    /home/cpansand/.cpan/build/2024072911/Math-GSL-Alien-1.05-0/blib/arch
    /home/cpansand/.cpan/build/2024072911/Math-GSL-Alien-1.05-0/blib/lib
    /home/cpansand/.cpan/build/2024072911/Alien-Role-Dino-0.08-0/blib/arch
    /home/cpansand/.cpan/build/2024072911/Alien-Role-Dino-0.08-0/blib/lib
    /usr/perl5.40.0/lib/site_perl/5.40.0/aarch64-freebsd
    /usr/perl5.40.0/lib/site_perl/5.40.0
    /usr/perl5.40.0/lib/5.40.0/aarch64-freebsd
    /usr/perl5.40.0/lib/5.40.0
    .