AppleII-LibA2 v0.201 Perl 5 v5.35.5 x86_64-linux-ld

Status
Pass
From
Andreas J. König (ANDK)
Dist
AppleII-LibA2 v0.201
Platform
Perl 5 v5.35.5 x86_64-linux-ld
Date
2021-10-26 13:54:44
ID
4666bb82-3664-11ec-81bd-4cc34968c370
This distribution has been tested as part of the CPAN Testers
project, supporting the Perl programming language.  See
http://wiki.cpantesters.org/ for more information or email
questions to cpan-testers-discuss@perl.org


--
Dear Christopher J. Madsen,

This is a computer-generated report for AppleII-LibA2-0.201
on perl 5.35.5, created by CPAN-Reporter-1.2018.

Thank you for uploading your work to CPAN.  Congratulations!
All tests were successful.

Sections of this report:

    * Tester comments
    * Program output
    * Prerequisites
    * Environment and other context

------------------------------
TESTER COMMENTS
------------------------------

Additional comments from tester:

this report is from an automated smoke testing program
and was not reviewed by a human for accuracy

------------------------------
PROGRAM OUTPUT
------------------------------

Output from './Build test':

# Listing %INC
#              AutoLoader 5.74
#                    Carp 1.52
#                  Config 5.035005
#              DynaLoader 1.52
#                Exporter 5.77
#         Exporter::Heavy 5.77
#                   Fcntl 1.15
#              File::Glob 1.36
#            Getopt::Long 2.52
#                      IO 1.48
#                IO::File 1.48
#              IO::Handle 1.48
#            IO::Seekable 1.48
#                   POSIX 2.01
#             SelectSaver 1.02
#                  Symbol 1.09
#          Term::ReadLine 1.17
#     Term::ReadLine::Gnu 1.42
# Term::ReadLine::Gnu::XS 1.42
#    Term::ReadLine::Perl 1.0303
#               Tie::Hash 1.06
#                XSLoader 0.31
#                constant 1.33
#                overload 1.33
#             overloading 0.02
#                  strict 1.12
#                    vars 1.05
#                warnings 1.55
#      warnings::register 1.04
t/00-all_prereqs.t .. ok
# Testing AppleII-LibA2 0.201
t/00-load.t ......... ok
t/10-Disk.t ......... ok
t/20-ProDOS.t ....... ok
t/30-PDsubs.t ....... ok
All tests successful.
Files=5, Tests=120,  0 wallclock secs ( 0.02 usr  0.03 sys +  0.22 cusr  0.09 csys =  0.36 CPU)
Result: PASS

------------------------------
PREREQUISITES
------------------------------

Prerequisite modules loaded:

requires:

    Module               Need  Have    
    -------------------- ----- --------
    Carp                 0     1.52    
    Exporter             5.57  5.77    
    File::Glob           0     1.36    
    Getopt::Long         2.10  2.52    
    IO::File             0     1.48    
    perl                 5.006 5.035005
    POSIX                0     2.01    
    Term::ReadLine       0     1.17    

build_requires:

    Module               Need  Have    
    -------------------- ----- --------
    FindBin              0     1.53    
    Module::Build        0     0.4231  
    Test::More           0     1.302188

configure_requires:

    Module               Need  Have    
    -------------------- ----- --------
    Cwd                  0     3.82    
    Module::Build        0.21  0.4231  
    perl                 5.006 5.035005

opt_requires:

    Module               Need  Have    
    -------------------- ----- --------
    Term::ReadLine::Perl 0     1.0303  


------------------------------
ENVIRONMENT AND OTHER CONTEXT
------------------------------

Environment variables:

    AUTOMATED_TESTING = 1
    LANG = en_US.utf8
    PATH = /home/sand/bin:/usr/local/bin:/usr/local/sbin:/usr/sbin:/usr/bin:/sbin:/bin:/usr/games:/usr/local/games:/snap/bin:/usr/local/perl/bin:/usr/X11/bin
    PERL5LIB = /tmp/loop_over_bdir-12394-dS1jlp/App-oo_modulino_zsh_completion_helper-0.04-0/blib/arch:/tmp/loop_over_bdir-12394-dS1jlp/App-oo_modulino_zsh_completion_helper-0.04-0/blib/lib:/tmp/loop_over_bdir-12394-dS1jlp/Devel-Required-0.16-0/blib/arch:/tmp/loop_over_bdir-12394-dS1jlp/Devel-Required-0.16-0/blib/lib:/tmp/loop_over_bdir-12394-dS1jlp/CGI-Application-NetNewsIface-0.0204-0/blib/arch:/tmp/loop_over_bdir-12394-dS1jlp/CGI-Application-NetNewsIface-0.0204-0/blib/lib:/tmp/loop_over_bdir-12394-dS1jlp/CORBA-Python-2.66-0/blib/arch:/tmp/loop_over_bdir-12394-dS1jlp/CORBA-Python-2.66-0/blib/lib:/tmp/loop_over_bdir-12394-dS1jlp/DBIx-Migration-Directories-0.12-0/blib/arch:/tmp/loop_over_bdir-12394-dS1jlp/DBIx-Migration-Directories-0.12-0/blib/lib:/tmp/loop_over_bdir-12394-dS1jlp/Net-OpenVPN-DDNS-0.1-0/blib/arch:/tmp/loop_over_bdir-12394-dS1jlp/Net-OpenVPN-DDNS-0.1-0/blib/lib:/tmp/loop_over_bdir-12394-dS1jlp/perl-Hardware-UPS-Perl-0.43-0/blib/arch:/tmp/loop_over_bdir-12394-dS1jlp/perl-Hardware-UPS-Perl-0.43-0/blib/lib
    PERL5OPT = 
    PERL5_CPANPLUS_IS_RUNNING = 12402
    PERL5_CPAN_IS_RUNNING = 12402
    PERL_CANARY_STABILITY_NOPROMPT = 1
    PERL_MM_USE_DEFAULT = 1
    PERL_USE_UNSAFE_INC = 1
    SHELL = /usr/bin/zsh
    TERM = screen

Perl special variables (and OS-specific diagnostics, for MSWin32):

    $^X = /tmp/basesmoker-reloperl-GNsB/bin/perl
    $UID/$EUID = 1005 / 1005
    $GID = 1005 1005
    $EGID = 1005 1005

Perl module toolchain versions installed:

    Module              Have    
    ------------------- --------
    CPAN                2.28    
    CPAN::Meta          2.150010
    Cwd                 3.82    
    ExtUtils::CBuilder  0.280236
    ExtUtils::Command   7.62    
    ExtUtils::Install   2.20    
    ExtUtils::MakeMaker 7.62    
    ExtUtils::Manifest  1.73    
    ExtUtils::ParseXS   3.44    
    File::Spec          3.81    
    JSON                4.03    
    JSON::PP            4.06    
    Module::Build       0.4231  
    Module::Signature   0.87    
    Parse::CPAN::Meta   2.150010
    Test::Harness       3.43    
    Test::More          1.302188
    YAML                1.30    
    YAML::Syck          1.34    
    version             0.9929  


--

Summary of my perl5 (revision 5 version 35 subversion 5) configuration:
  Commit id: 14713429e65eb99c419694960cf6bdb876d43270
  Platform:
    osname=linux
    osvers=4.15.0-159-generic
    archname=x86_64-linux-ld
    uname='linux k93bionic 4.15.0-159-generic #167-ubuntu smp tue sep 21 08:55:05 utc 2021 x86_64 x86_64 x86_64 gnulinux '
    config_args='-Dprefix=/home/sand/src/perl/repoperls/installed-perls/host/k93bionic/v5.35.5/ca05 -Dmyhostname=k93bionic -Dinstallusrbinperl=n -Uversiononly -Dusedevel -des -Ui_db -Dlibswanted=cl pthread socket inet nsl gdbm dbm malloc dl ld sun m crypt sec util c cposix posix ucb BSD gdbm_compat -Uuseithreads -Duselongdouble -DEBUGGING=-g'
    hint=recommended
    useposix=true
    d_sigaction=define
    useithreads=undef
    usemultiplicity=undef
    use64bitint=define
    use64bitall=define
    uselongdouble=define
    usemymalloc=n
    default_inc_excludes_dot=define
  Compiler:
    cc='cc'
    ccflags ='-fwrapv -fno-strict-aliasing -pipe -fstack-protector-strong -I/usr/local/include -D_LARGEFILE_SOURCE -D_FILE_OFFSET_BITS=64'
    optimize='-O2 -g'
    cppflags='-fwrapv -fno-strict-aliasing -pipe -fstack-protector-strong -I/usr/local/include'
    ccversion=''
    gccversion='7.5.0'
    gccosandvers=''
    intsize=4
    longsize=8
    ptrsize=8
    doublesize=8
    byteorder=12345678
    doublekind=3
    d_longlong=define
    longlongsize=8
    d_longdbl=define
    longdblsize=16
    longdblkind=3
    ivtype='long'
    ivsize=8
    nvtype='long double'
    nvsize=16
    Off_t='off_t'
    lseeksize=8
    alignbytes=16
    prototype=define
  Linker and Libraries:
    ld='cc'
    ldflags =' -fstack-protector-strong -L/usr/local/lib'
    libpth=/usr/local/lib /usr/lib/x86_64-linux-gnu /usr/lib /lib/x86_64-linux-gnu /lib
    libs=-lpthread -lnsl -ldl -lm -lcrypt -lutil -lc
    perllibs=-lpthread -lnsl -ldl -lm -lcrypt -lutil -lc
    libc=libc-2.27.so
    so=so
    useshrplib=false
    libperl=libperl.a
    gnulibc_version='2.27'
  Dynamic Linking:
    dlsrc=dl_dlopen.xs
    dlext=so
    d_dlsymun=undef
    ccdlflags='-Wl,-E'
    cccdlflags='-fPIC'
    lddlflags='-shared -O2 -g -L/usr/local/lib -fstack-protector-strong'


Characteristics of this binary (from libperl): 
  Compile-time options:
    HAS_TIMES
    PERLIO_LAYERS
    PERL_COPY_ON_WRITE
    PERL_DONT_CREATE_GVSV
    PERL_MALLOC_WRAP
    PERL_OP_PARENT
    PERL_PRESERVE_IVUV
    PERL_USE_DEVEL
    USE_64_BIT_ALL
    USE_64_BIT_INT
    USE_LARGE_FILES
    USE_LOCALE
    USE_LOCALE_COLLATE
    USE_LOCALE_CTYPE
    USE_LOCALE_NUMERIC
    USE_LOCALE_TIME
    USE_LONG_DOUBLE
    USE_PERLIO
    USE_PERL_ATOF
  Built under linux
  Compiled at Oct 22 2021 00:42:08
  %ENV:
    PERL5LIB="/tmp/loop_over_bdir-12394-dS1jlp/App-oo_modulino_zsh_completion_helper-0.04-0/blib/arch:/tmp/loop_over_bdir-12394-dS1jlp/App-oo_modulino_zsh_completion_helper-0.04-0/blib/lib:/tmp/loop_over_bdir-12394-dS1jlp/Devel-Required-0.16-0/blib/arch:/tmp/loop_over_bdir-12394-dS1jlp/Devel-Required-0.16-0/blib/lib:/tmp/loop_over_bdir-12394-dS1jlp/CGI-Application-NetNewsIface-0.0204-0/blib/arch:/tmp/loop_over_bdir-12394-dS1jlp/CGI-Application-NetNewsIface-0.0204-0/blib/lib:/tmp/loop_over_bdir-12394-dS1jlp/CORBA-Python-2.66-0/blib/arch:/tmp/loop_over_bdir-12394-dS1jlp/CORBA-Python-2.66-0/blib/lib:/tmp/loop_over_bdir-12394-dS1jlp/DBIx-Migration-Directories-0.12-0/blib/arch:/tmp/loop_over_bdir-12394-dS1jlp/DBIx-Migration-Directories-0.12-0/blib/lib:/tmp/loop_over_bdir-12394-dS1jlp/Net-OpenVPN-DDNS-0.1-0/blib/arch:/tmp/loop_over_bdir-12394-dS1jlp/Net-OpenVPN-DDNS-0.1-0/blib/lib:/tmp/loop_over_bdir-12394-dS1jlp/perl-Hardware-UPS-Perl-0.43-0/blib/arch:/tmp/loop_over_bdir-12394-dS1jlp/perl-Hardware-UPS-Perl-0.43-0/blib/lib"
    PERL5OPT=""
    PERL5_CPANPLUS_IS_RUNNING="12402"
    PERL5_CPAN_IS_RUNNING="12402"
    PERL_CANARY_STABILITY_NOPROMPT="1"
    PERL_MM_USE_DEFAULT="1"
    PERL_USE_UNSAFE_INC="1"
  @INC:
    /tmp/loop_over_bdir-12394-dS1jlp/App-oo_modulino_zsh_completion_helper-0.04-0/blib/arch
    /tmp/loop_over_bdir-12394-dS1jlp/App-oo_modulino_zsh_completion_helper-0.04-0/blib/lib
    /tmp/loop_over_bdir-12394-dS1jlp/Devel-Required-0.16-0/blib/arch
    /tmp/loop_over_bdir-12394-dS1jlp/Devel-Required-0.16-0/blib/lib
    /tmp/loop_over_bdir-12394-dS1jlp/CGI-Application-NetNewsIface-0.0204-0/blib/arch
    /tmp/loop_over_bdir-12394-dS1jlp/CGI-Application-NetNewsIface-0.0204-0/blib/lib
    /tmp/loop_over_bdir-12394-dS1jlp/CORBA-Python-2.66-0/blib/arch
    /tmp/loop_over_bdir-12394-dS1jlp/CORBA-Python-2.66-0/blib/lib
    /tmp/loop_over_bdir-12394-dS1jlp/DBIx-Migration-Directories-0.12-0/blib/arch
    /tmp/loop_over_bdir-12394-dS1jlp/DBIx-Migration-Directories-0.12-0/blib/lib
    /tmp/loop_over_bdir-12394-dS1jlp/Net-OpenVPN-DDNS-0.1-0/blib/arch
    /tmp/loop_over_bdir-12394-dS1jlp/Net-OpenVPN-DDNS-0.1-0/blib/lib
    /tmp/loop_over_bdir-12394-dS1jlp/perl-Hardware-UPS-Perl-0.43-0/blib/arch
    /tmp/loop_over_bdir-12394-dS1jlp/perl-Hardware-UPS-Perl-0.43-0/blib/lib
    /home/sand/src/perl/repoperls/installed-perls/host/k93bionic/v5.35.5/ca05/lib/site_perl/5.35.5/x86_64-linux-ld
    /home/sand/src/perl/repoperls/installed-perls/host/k93bionic/v5.35.5/ca05/lib/site_perl/5.35.5
    /home/sand/src/perl/repoperls/installed-perls/host/k93bionic/v5.35.5/ca05/lib/5.35.5/x86_64-linux-ld
    /home/sand/src/perl/repoperls/installed-perls/host/k93bionic/v5.35.5/ca05/lib/5.35.5
    .