CXC-DB-DDL v0.19 Perl 5 v5.38.2 aarch64-linux-ld

Status
Pass
From
Slaven Rezić
Dist
CXC-DB-DDL v0.19
Platform
Perl 5 v5.38.2 aarch64-linux-ld
Date
2025-03-20 10:44:18
ID
4657fbd8-0578-11f0-9edb-abff6d8775ea
This distribution has been tested as part of the CPAN Testers
project, supporting the Perl programming language.  See
http://wiki.cpantesters.org/ for more information or email
questions to cpan-testers-discuss@perl.org


--
Dear Diab Jerius,

This is a computer-generated report for CXC-DB-DDL-0.19
on perl 5.38.2, created by CPAN-Reporter-1.2020.

Thank you for uploading your work to CPAN.  Congratulations!
All tests were successful.

Sections of this report:

    * Tester comments
    * Program output
    * Prerequisites
    * Environment and other context

------------------------------
TESTER COMMENTS
------------------------------

Additional comments from tester:

none provided

------------------------------
PROGRAM OUTPUT
------------------------------

Output from './Build test':

t/00-compile.t .......... ok
# 
# Versions for all modules listed in MYMETA.json (including optional ones):
# 
# === Configure Requires ===
# 
#     Module               Want  Have
#     ------------------- ----- -----
#     Module::Build::Tiny 0.034 0.051
# 
# === Test Requires ===
# 
#     Module                 Want     Have
#     ---------------------- ---- --------
#     Data::Dump              any     1.25
#     Data::Dumper            any    2.188
#     Exporter::Shiny         any 1.006002
#     ExtUtils::MakeMaker     any     7.72
#     File::Spec              any     3.88
#     File::Spec::Functions   any     3.88
#     File::Temp              any   0.2311
#     IO::Handle              any     1.52
#     IPC::Open3              any     1.22
#     Syntax::Keyword::Defer  any     0.11
#     Test2::V0               any 1.302209
#     Test::Lib               any    0.003
#     Test::More              any 1.302209
# 
# === Test Recommends ===
# 
#     Module         Want     Have
#     ---------- -------- --------
#     CPAN::Meta 2.120900 2.150010
# 
# === Runtime Requires ===
# 
#     Module                                  Want     Have
#     ----------------------------------- -------- --------
#     CXC::Exporter::Util                      any     0.08
#     Carp                                     any     1.54
#     Clone                                    any     0.47
#     DBI                                      any    1.647
#     DBI::Const::GetInfoType                  any 2.008697
#     Digest::MD5                              any  2.58_01
#     Exporter::Tiny                           any 1.006002
#     Feature::Compat::Try                    0.05     0.05
#     Hash::Ordered                            any    0.014
#     Hash::Util                               any     0.30
#     Import::Into                             any 1.002005
#     List::Util                              1.33     1.68
#     Module::Runtime                          any    0.016
#     Moo                                      any 2.005005
#     Moo::Role                                any 2.005005
#     MooX::StrictConstructor                  any    0.013
#     MooX::TaggedAttributes                  0.18     0.18
#     Package::Stash                           any     0.40
#     Ref::Util                                any    0.204
#     SQL::Translator                         1.61     1.66
#     SQL::Translator::Schema                  any     1.66
#     SQL::Translator::Schema::Constants       any     1.66
#     SQL::Translator::Schema::Constraint      any     1.66
#     SQL::Translator::Schema::Field           any     1.66
#     SQL::Translator::Schema::Table           any     1.66
#     Scalar::Util                             any     1.68
#     Sub::Override                           0.12     0.12
#     Sub::Util                               1.40     1.68
#     Type::Library                            any 2.006000
#     Type::Params                             any 2.006000
#     Type::Utils                              any 2.006000
#     Types::Common::String                    any 2.006000
#     Types::Standard                     1.016010 2.006000
#     base                                     any     2.27
#     constant                                 any     1.33
#     custom::failures                         any    0.004
#     experimental                           0.028    0.034
#     failures                                 any    0.004
#     namespace::clean                         any     0.27
#     perl                                   5.026 5.038002
#     strict                                   any     1.12
#     warnings                                 any     1.65
# 
t/00-report-prereqs.t ... ok
t/DDL/Table.t ........... ok
t/DDL/Util.t ............ ok
t/DDL/Util/dbd_types.t .. ok
t/DDL/create.t .......... ok
All tests successful.
Files=6, Tests=78,  3 wallclock secs ( 0.07 usr  0.01 sys +  2.09 cusr  0.30 csys =  2.47 CPU)
Result: PASS

------------------------------
PREREQUISITES
------------------------------

Prerequisite modules loaded:

requires:

    Module                              Need     Have    
    ----------------------------------- -------- --------
    base                                0        2.27    
    Carp                                0        1.54    
    Clone                               0        0.47    
    constant                            0        1.33    
    custom::failures                    0        0.004   
    CXC::Exporter::Util                 0        0.08    
    DBI                                 0        1.647   
    DBI::Const::GetInfoType             0        2.008697
    Digest::MD5                         0        2.58_01 
    experimental                        0.028    0.034   
    Exporter::Tiny                      0        1.006002
    failures                            0        0.004   
    Feature::Compat::Try                0.05     0.05    
    Hash::Ordered                       0        0.014   
    Hash::Util                          0        0.30    
    Import::Into                        0        1.002005
    List::Util                          1.33     1.68    
    Module::Runtime                     0        0.016   
    Moo                                 0        2.005005
    Moo::Role                           0        2.005005
    MooX::StrictConstructor             0        0.013   
    MooX::TaggedAttributes              0.18     0.18    
    namespace::clean                    0        0.27    
    Package::Stash                      0        0.40    
    perl                                5.026    5.038002
    Ref::Util                           0        0.204   
    Scalar::Util                        0        1.68    
    SQL::Translator                     1.61     1.66    
    SQL::Translator::Schema             0        1.66    
    SQL::Translator::Schema::Constants  0        1.66    
    SQL::Translator::Schema::Constraint 0        1.66    
    SQL::Translator::Schema::Field      0        1.66    
    SQL::Translator::Schema::Table      0        1.66    
    strict                              0        1.12    
    Sub::Override                       0.12     0.12    
    Sub::Util                           1.40     1.68    
    Type::Library                       0        2.006000
    Type::Params                        0        2.006000
    Type::Utils                         0        2.006000
    Types::Common::String               0        2.006000
    Types::Standard                     1.016010 2.006000
    warnings                            0        1.65    

build_requires:

    Module                              Need     Have    
    ----------------------------------- -------- --------
    Data::Dump                          0        1.25    
    Data::Dumper                        0        2.188   
    Exporter::Shiny                     0        1.006002
    ExtUtils::MakeMaker                 0        7.72    
    File::Spec                          0        3.88    
    File::Spec::Functions               0        3.88    
    File::Temp                          0        0.2311  
    IO::Handle                          0        1.52    
    IPC::Open3                          0        1.22    
    Syntax::Keyword::Defer              0        0.11    
    Test2::V0                           0        1.302209
    Test::Lib                           0        0.003   
    Test::More                          0        1.302209

configure_requires:

    Module                              Need     Have    
    ----------------------------------- -------- --------
    Module::Build::Tiny                 0.034    0.051   


------------------------------
ENVIRONMENT AND OTHER CONTEXT
------------------------------

Environment variables:

    LANG = en_US.UTF-8
    PATH = /usr/local/bin:/usr/bin:/bin:/usr/local/sbin:/usr/sbin:/sbin:/home/cpansand/bin/linux-gnu:/home/cpansand/bin/sh:/home/cpansand/bin:/usr/games:/home/cpansand/devel:/home/eserte/src/srezic-misc/scripts
    PERL5LIB = 
    PERL5OPT = 
    PERL5_CPANPLUS_IS_RUNNING = 2001251
    PERL5_CPAN_IS_RUNNING = 2001251
    PERL5_CPAN_IS_RUNNING_IN_RECURSION = 2001146,2001251
    PERLDOC = -MPod::Perldoc::ToTextOverstrike
    PERL_BATCH = yes
    PERL_CANARY_STABILITY_NOPROMPT = 1
    PERL_CPAN_REPORTER_CONFIG = /var/tmp/cpansmoker-1023/2025031922/cpanreporter_000_config.ini
    PERL_EXTUTILS_AUTOINSTALL = --defaultdeps
    PERL_USE_UNSAFE_INC = 1
    SHELL = /usr/bin/zsh
    TERM = screen
    TMPDIR = /var/tmp/cpansmoker-1023/2025031922

Perl special variables (and OS-specific diagnostics, for MSWin32):

    $^X = /opt/perl-5.38.2D/bin/perl
    $UID/$EUID = 1023 / 1023
    $GID = 1023 1023
    $EGID = 1023 1023

Perl module toolchain versions installed:

    Module              Have    
    ------------------- --------
    CPAN                2.36    
    CPAN::Meta          2.150010
    Cwd                 3.89    
    ExtUtils::CBuilder  0.280238
    ExtUtils::Command   7.72    
    ExtUtils::Install   2.22    
    ExtUtils::MakeMaker 7.72    
    ExtUtils::Manifest  1.73    
    ExtUtils::ParseXS   3.51    
    File::Spec          3.88    
    JSON                4.10    
    JSON::PP            4.16    
    Module::Build       0.4234  
    Module::Signature   n/a     
    Parse::CPAN::Meta   2.150010
    Test2               1.302209
    Test::Harness       3.44    
    Test::More          1.302209
    YAML                1.31    
    YAML::Syck          1.34    
    version             0.9929  


--

Summary of my perl5 (revision 5 version 38 subversion 2) configuration:
   
  Platform:
    osname=linux
    osvers=6.8.0-51-generic
    archname=aarch64-linux-ld
    uname='linux cloud6.bbbike.org 6.8.0-51-generic #52-ubuntu smp preempt_dynamic thu dec 5 13:32:09 utc 2024 aarch64 aarch64 aarch64 gnulinux '
    config_args='-ds -e -Dprefix=/opt/perl-5.38.2D -Uinstallusrbinperl -Duselongdouble -Dcf_email=srezic@cpan.org'
    hint=recommended
    useposix=true
    d_sigaction=define
    useithreads=undef
    usemultiplicity=undef
    use64bitint=define
    use64bitall=define
    uselongdouble=define
    usemymalloc=n
    default_inc_excludes_dot=define
  Compiler:
    cc='cc'
    ccflags ='-fwrapv -fno-strict-aliasing -pipe -fstack-protector-strong -I/usr/local/include -D_LARGEFILE_SOURCE -D_FILE_OFFSET_BITS=64'
    optimize='-O2'
    cppflags='-fwrapv -fno-strict-aliasing -pipe -fstack-protector-strong -I/usr/local/include'
    ccversion=''
    gccversion='13.3.0'
    gccosandvers=''
    intsize=4
    longsize=8
    ptrsize=8
    doublesize=8
    byteorder=12345678
    doublekind=3
    d_longlong=define
    longlongsize=8
    d_longdbl=define
    longdblsize=16
    longdblkind=1
    ivtype='long'
    ivsize=8
    nvtype='long double'
    nvsize=16
    Off_t='off_t'
    lseeksize=8
    alignbytes=16
    prototype=define
  Linker and Libraries:
    ld='cc'
    ldflags =' -fstack-protector-strong -L/usr/local/lib'
    libpth=/usr/local/lib /usr/lib/aarch64-linux-gnu /usr/lib
    libs=-lpthread -lgdbm -ldb -ldl -lm -lcrypt -lutil -lc
    perllibs=-lpthread -ldl -lm -lcrypt -lutil -lc
    libc=/lib/aarch64-linux-gnu/libc.so.6
    so=so
    useshrplib=false
    libperl=libperl.a
    gnulibc_version='2.39'
  Dynamic Linking:
    dlsrc=dl_dlopen.xs
    dlext=so
    d_dlsymun=undef
    ccdlflags='-Wl,-E'
    cccdlflags='-fPIC'
    lddlflags='-shared -O2 -L/usr/local/lib -fstack-protector-strong'


Characteristics of this binary (from libperl): 
  Compile-time options:
    HAS_LONG_DOUBLE
    HAS_STRTOLD
    HAS_TIMES
    PERLIO_LAYERS
    PERL_COPY_ON_WRITE
    PERL_DONT_CREATE_GVSV
    PERL_HASH_FUNC_SIPHASH13
    PERL_HASH_USE_SBOX32
    PERL_MALLOC_WRAP
    PERL_OP_PARENT
    PERL_PRESERVE_IVUV
    PERL_USE_SAFE_PUTENV
    USE_64_BIT_ALL
    USE_64_BIT_INT
    USE_LARGE_FILES
    USE_LOCALE
    USE_LOCALE_COLLATE
    USE_LOCALE_CTYPE
    USE_LOCALE_NUMERIC
    USE_LOCALE_TIME
    USE_LONG_DOUBLE
    USE_PERLIO
    USE_PERL_ATOF
  Built under linux
  Compiled at Jan 18 2025 22:45:51
  %ENV:
    PERL5LIB=""
    PERL5OPT=""
    PERL5_CPANPLUS_IS_RUNNING="2001251"
    PERL5_CPAN_IS_RUNNING="2001251"
    PERL5_CPAN_IS_RUNNING_IN_RECURSION="2001146,2001251"
    PERLDOC="-MPod::Perldoc::ToTextOverstrike"
    PERL_BATCH="yes"
    PERL_CANARY_STABILITY_NOPROMPT="1"
    PERL_CPAN_REPORTER_CONFIG="/var/tmp/cpansmoker-1023/2025031922/cpanreporter_000_config.ini"
    PERL_EXTUTILS_AUTOINSTALL="--defaultdeps"
    PERL_USE_UNSAFE_INC="1"
  @INC:
    /opt/perl-5.38.2D/lib/site_perl/5.38.2/aarch64-linux-ld
    /opt/perl-5.38.2D/lib/site_perl/5.38.2
    /opt/perl-5.38.2D/lib/5.38.2/aarch64-linux-ld
    /opt/perl-5.38.2D/lib/5.38.2
    .