Back
From: metabase:user:320bfe00-2aae-11df-837a-5e0a49663a4f
Subject: PASS XML-RSS-Feed-2.4 v5.19.5 GNU/Linux
Date: 2013-10-10T15:33:12Z
This distribution has been tested as part of the CPAN Testers
project, supporting the Perl programming language. See
http://wiki.cpantesters.org/ for more information or email
questions to cpan-testers-discuss@perl.org
--
Dear Jeff Bisbee,
This is a computer-generated report for XML-RSS-Feed-2.4
on perl 5.19.5, created by CPAN-Reporter-1.2010.
Thank you for uploading your work to CPAN. Congratulations!
All tests were successful.
Sections of this report:
* Tester comments
* Program output
* Prerequisites
* Environment and other context
------------------------------
TESTER COMMENTS
------------------------------
Additional comments from tester:
this report is from an automated smoke testing program
and was not reviewed by a human for accuracy
------------------------------
PROGRAM OUTPUT
------------------------------
Output from '/usr/bin/make test':
PERL_DL_NONLAZY=1 /tmp/basesmoker-reloperl-wTE5/bin/perl "-MExtUtils::Command::MM" "-MTest::Harness" "-e" "undef *Test::Harness::Switches; test_harness(0, 'blib/lib', 'blib/arch')" t/*.t
t/001_load.t .................... ok
t/002_parse.t ................... ok
Argument "This is a test 1" treated as 0 in increment (++) at t/003_process.t line 28.
Argument "http://www.jbisbee.com/test/url/1" treated as 0 in increment (++) at t/003_process.t line 28.
Argument "Description number 1" treated as 0 in increment (++) at t/003_process.t line 28.
t/003_process.t ................. ok
Argument "This is a test 1" treated as 0 in increment (++) at t/004_process_items.t line 27.
Argument "http://www.jbisbee.com/test/url/1" treated as 0 in increment (++) at t/004_process_items.t line 27.
Argument "Description number 1" treated as 0 in increment (++) at t/004_process_items.t line 27.
t/004_process_items.t ........... ok
Argument "This is a test 1" treated as 0 in increment (++) at t/005_create_headline.t line 57.
Argument "http://www.jbisbee.com/test/url/1" treated as 0 in increment (++) at t/005_create_headline.t line 57.
t/005_create_headline.t ......... ok
Argument "This is a test 1" treated as 0 in increment (++) at t/006_first_seen.t line 18.
Argument "http://www.jbisbee.com/test/url/1" treated as 0 in increment (++) at t/006_first_seen.t line 18.
t/006_first_seen.t .............. ok
t/007_fetch_feed.t .............. ok
t/008_store_retrieve.t .......... ok
Argument "This is a test 1" treated as 0 in increment (++) at t/009_max_headlines.t line 26.
Argument "http://www.jbisbee.com/test/url/1" treated as 0 in increment (++) at t/009_max_headlines.t line 26.
t/009_max_headlines.t ........... ok
t/010_deprecated_methods.t ...... ok
t/011_pod.t ..................... ok
t/012_pod_coverage.t ............ ok
t/013_legacy.t .................. ok
t/014_last_updated.t ............ ok
t/015_feed_exceptions.t ......... ok
t/016_title_from_description.t .. ok
t/017_perljobs.t ................ ok
t/018_debug.t ................... ok
t/019_fark.t .................... ok
t/020_useperljournals.t ......... ok
All tests successful.
Files=20, Tests=566, 2 wallclock secs ( 0.08 usr 0.03 sys + 2.52 cusr 0.19 csys = 2.82 CPU)
Result: PASS
------------------------------
PREREQUISITES
------------------------------
Prerequisite modules loaded:
requires:
Module Need Have
------------------- ---- -------
Carp 0 1.32
Clone 0 0.35
Digest::MD5 0 2.53
Encode 0 2.55
HTML::Entities 0 3.69
Storable 0 2.47
Test::More 0 0.98_06
Time::HiRes 0 1.9726
URI 0 1.60
URI::Escape 0 3.31
XML::RSS 0 1.54
build_requires:
Module Need Have
------------------- ---- -------
ExtUtils::MakeMaker 0 6.78
configure_requires:
Module Need Have
------------------- ---- -------
ExtUtils::MakeMaker 0 6.78
------------------------------
ENVIRONMENT AND OTHER CONTEXT
------------------------------
Environment variables:
AUTOMATED_TESTING = 1
LANG = en_US.UTF-8
LANGUAGE = en_US:en
PATH = /usr/lib/ccache:/home/sand/bin:/usr/local/bin:/usr/bin:/bin:/usr/bin/X11:/usr/games:/usr/local/perl/bin:/usr/X11/bin:/sbin:/usr/sbin
PERL5LIB =
PERL5OPT =
PERL5_CPANPLUS_IS_RUNNING = 5800
PERL5_CPAN_IS_RUNNING = 5800
PERL_MM_USE_DEFAULT = 1
SHELL = /usr/bin/zsh
TERM = screen
Perl special variables (and OS-specific diagnostics, for MSWin32):
$^X = /tmp/basesmoker-reloperl-wTE5/bin/perl
$UID/$EUID = 1005 / 1005
$GID = 1005 1005
$EGID = 1005 1005
Perl module toolchain versions installed:
Module Have
------------------- ----------
CPAN 2.03
CPAN::Meta 2.132661
Cwd 3.45
ExtUtils::CBuilder 0.280212
ExtUtils::Command 1.18
ExtUtils::Install 1.61
ExtUtils::MakeMaker 6.78
ExtUtils::Manifest 1.63
ExtUtils::ParseXS 3.23
File::Spec 3.45
JSON 2.59
JSON::PP 2.27202_01
Module::Build 0.4007
Module::Signature 0.73
Parse::CPAN::Meta 1.4409
Test::Harness 3.28
Test::More 0.98_06
YAML 0.84
YAML::Syck 1.27
version 0.9904
--
Summary of my perl5 (revision 5 version 19 subversion 5) configuration:
Commit id: 01582e5ce2e8b00ce08a55eb4a588e811e479912
Platform:
osname=linux, osvers=3.10-3-amd64, archname=x86_64-linux-thread-multi-ld
uname='linux k83 3.10-3-amd64 #1 smp debian 3.10.11-1 (2013-09-10) x86_64 gnulinux '
config_args='-Dprefix=/home/sand/src/perl/repoperls/installed-perls/perl/v5.19.4-175-g01582e5/a2da -Dmyhostname=k83 -Dinstallusrbinperl=n -Uversiononly -Dusedevel -des -Ui_db -Duseithreads -Duselongdouble -DDEBUGGING=-g'
hint=recommended, useposix=true, d_sigaction=define
useithreads=define, usemultiplicity=define
useperlio=define, d_sfio=undef, uselargefiles=define, usesocks=undef
use64bitint=define, use64bitall=define, uselongdouble=define
usemymalloc=n, bincompat5005=undef
Compiler:
cc='cc', ccflags ='-D_REENTRANT -D_GNU_SOURCE -fno-strict-aliasing -pipe -fstack-protector -I/usr/local/include -D_LARGEFILE_SOURCE -D_FILE_OFFSET_BITS=64',
optimize='-O2 -g',
cppflags='-D_REENTRANT -D_GNU_SOURCE -fno-strict-aliasing -pipe -fstack-protector -I/usr/local/include'
ccversion='', gccversion='4.8.1', gccosandvers=''
intsize=4, longsize=8, ptrsize=8, doublesize=8, byteorder=12345678
d_longlong=define, longlongsize=8, d_longdbl=define, longdblsize=16
ivtype='long', ivsize=8, nvtype='long double', nvsize=16, Off_t='off_t', lseeksize=8
alignbytes=16, prototype=define
Linker and Libraries:
ld='cc', ldflags =' -fstack-protector -L/usr/local/lib'
libpth=/usr/local/lib /lib/x86_64-linux-gnu /lib/../lib /usr/lib/x86_64-linux-gnu /usr/lib/../lib /lib /usr/lib
libs=-lnsl -lgdbm -ldb -ldl -lm -lcrypt -lutil -lpthread -lc -lgdbm_compat
perllibs=-lnsl -ldl -lm -lcrypt -lutil -lpthread -lc
libc=, so=so, useshrplib=false, libperl=libperl.a
gnulibc_version='2.17'
Dynamic Linking:
dlsrc=dl_dlopen.xs, dlext=so, d_dlsymun=undef, ccdlflags='-Wl,-E'
cccdlflags='-fPIC', lddlflags='-shared -O2 -g -L/usr/local/lib -fstack-protector'
Characteristics of this binary (from libperl):
Compile-time options: HAS_TIMES MULTIPLICITY PERLIO_LAYERS
PERL_DONT_CREATE_GVSV
PERL_HASH_FUNC_ONE_AT_A_TIME_HARD
PERL_IMPLICIT_CONTEXT PERL_MALLOC_WRAP
PERL_NEW_COPY_ON_WRITE PERL_PRESERVE_IVUV
PERL_USE_DEVEL USE_64_BIT_ALL USE_64_BIT_INT
USE_ITHREADS USE_LARGE_FILES USE_LOCALE
USE_LOCALE_COLLATE USE_LOCALE_CTYPE
USE_LOCALE_NUMERIC USE_LONG_DOUBLE USE_PERLIO
USE_PERL_ATOF USE_REENTRANT_API
Built under linux
Compiled at Oct 10 2013 12:32:45
%ENV:
PERL5LIB=""
PERL5OPT=""
PERL5_CPANPLUS_IS_RUNNING="5800"
PERL5_CPAN_IS_RUNNING="5800"
PERL_MM_USE_DEFAULT="1"
@INC:
/home/sand/src/perl/repoperls/installed-perls/perl/v5.19.4-175-g01582e5/a2da/lib/site_perl/5.19.5/x86_64-linux-thread-multi-ld
/home/sand/src/perl/repoperls/installed-perls/perl/v5.19.4-175-g01582e5/a2da/lib/site_perl/5.19.5
/home/sand/src/perl/repoperls/installed-perls/perl/v5.19.4-175-g01582e5/a2da/lib/5.19.5/x86_64-linux-thread-multi-ld
/home/sand/src/perl/repoperls/installed-perls/perl/v5.19.4-175-g01582e5/a2da/lib/5.19.5
.