Report for POE-1.367

Back
From: metabase:user:9c36dc84-a30f-11e0-a9fc-0a18abbd4f2f
Subject: PASS POE-1.367 v5.22.0 OpenBSD
Date: 2015-10-20T12:08:28Z

This distribution has been tested as part of the CPAN Testers
project, supporting the Perl programming language.  See
http://wiki.cpantesters.org/ for more information or email
questions to cpan-testers-discuss@perl.org


--
Dear Rocco Caputo,

This is a computer-generated report for POE-1.367
on perl 5.22.0, created by CPAN-Reporter-1.2015.

Thank you for uploading your work to CPAN.  Congratulations!
All tests were successful.

Sections of this report:

    * Tester comments
    * Program output
    * Prerequisites
    * Environment and other context

------------------------------
TESTER COMMENTS
------------------------------

Additional comments from tester:

this report is from an automated smoke testing program
and was not reviewed by a human for accuracy

------------------------------
PROGRAM OUTPUT
------------------------------

Output from '/usr/bin/make test':

"/home/arfreitas/perl5/perlbrew/perls/perl-5.22.0/bin/perl" mylib/gen-tests.perl lib/POE.pm
PERL_DL_NONLAZY=1 "/home/arfreitas/perl5/perlbrew/perls/perl-5.22.0/bin/perl" "-MExtUtils::Command::MM" "-MTest::Harness" "-e" "undef *Test::Harness::Switches; test_harness(0, 'blib/lib', 'blib/arch')" t/*.t t/*/*.t t/*/*/*.t
# Testing POE 1.367, POE::Test::Loops 1.360, Perl 5.022000, /home/arfreitas/perl5/perlbrew/perls/perl-5.22.0/bin/perl on openbsd
# pogomips: 20325771
t/00_info.t ........................................ ok
t/10_units/01_pod/01_pod.t ......................... skipped: enable by setting RELEASE_TESTING
t/10_units/01_pod/02_pod_coverage.t ................ skipped: enable by setting RELEASE_TESTING
t/10_units/01_pod/03_pod_no404s.t .................. skipped: enable by setting RELEASE_TESTING
t/10_units/01_pod/04_pod_linkcheck.t ............... skipped: enable by setting RELEASE_TESTING
t/10_units/02_pipes/01_base.t ...................... skipped: not implemented yet
t/10_units/02_pipes/02_oneway.t .................... ok
t/10_units/02_pipes/03_twoway.t .................... ok
t/10_units/03_base/01_poe.t ........................ ok
t/10_units/03_base/03_component.t .................. ok
t/10_units/03_base/04_driver.t ..................... ok
t/10_units/03_base/05_filter.t ..................... ok
t/10_units/03_base/06_loop.t ....................... ok
t/10_units/03_base/07_queue.t ...................... ok
t/10_units/03_base/08_resource.t ................... ok
t/10_units/03_base/09_resources.t .................. ok
t/10_units/03_base/10_wheel.t ...................... ok
t/10_units/03_base/11_assert_usage.t ............... ok
t/10_units/03_base/12_assert_retval.t .............. ok
t/10_units/03_base/13_assert_data.t ................ ok
t/10_units/03_base/14_kernel.t ..................... ok
t/10_units/03_base/15_kernel_internal.t ............ ok
t/10_units/03_base/16_nfa_usage.t .................. ok
t/10_units/03_base/17_detach_start.t ............... ok
t/10_units/04_drivers/01_sysrw.t ................... ok
t/10_units/05_filters/01_block.t ................... ok
t/10_units/05_filters/02_grep.t .................... ok
Downgrading wide characters in HTTP header. Consider installing Email::MIME::RFC2047::Encoder at /home/arfreitas/.cpan/build/POE-1.367-Zu2MjI/blib/lib/POE/Filter/HTTPD.pm line 73.
	POE::Filter::HTTPD::__ANON__("En \x{e9}t\x{e9}") called at /home/arfreitas/.cpan/build/POE-1.367-Zu2MjI/blib/lib/POE/Filter/HTTPD.pm line 449
	POE::Filter::HTTPD::headers_as_strings(POE::Filter::HTTPD=ARRAY(0x7db643f0), HTTP::Headers=HASH(0x821ff940), "\x{d}\x{a}") called at /home/arfreitas/.cpan/build/POE-1.367-Zu2MjI/blib/lib/POE/Filter/HTTPD.pm line 411
	POE::Filter::HTTPD::put(POE::Filter::HTTPD=ARRAY(0x7db643f0), ARRAY(0x7db64660)) called at t/10_units/05_filters/03_http.t line 426
t/10_units/05_filters/03_http.t .................... ok
t/10_units/05_filters/04_line.t .................... ok
t/10_units/05_filters/05_map.t ..................... ok
t/10_units/05_filters/06_recordblock.t ............. ok
t/10_units/05_filters/07_reference.t ............... ok
t/10_units/05_filters/08_stream.t .................. ok
t/10_units/05_filters/50_stackable.t ............... ok
t/10_units/05_filters/51_reference_die.t ........... ok
t/10_units/05_filters/99_filterchange.t ............ ok
t/10_units/06_queues/01_array.t .................... ok
t/10_units/07_exceptions/01_normal.t ............... ok
t/10_units/07_exceptions/02_turn_off.t ............. ok
t/10_units/07_exceptions/03_not_handled.t .......... ok
t/10_units/08_loops/01_explicit_loop.t ............. ok
t/10_units/08_loops/02_explicit_loop_fail.t ........ ok
t/10_units/08_loops/03_explicit_loop_poll.t ........ ok
t/10_units/08_loops/04_explicit_loop_envvar.t ...... ok
t/10_units/08_loops/05_kernel_loop.t ............... ok
t/10_units/08_loops/06_kernel_loop_poll.t .......... ok
t/10_units/08_loops/07_kernel_loop_fail.t .......... ok
t/10_units/08_loops/08_kernel_loop_search_poll.t ... ok
t/10_units/08_loops/09_naive_loop_load.t ........... ok
t/10_units/08_loops/10_naive_loop_load_poll.t ...... ok
t/10_units/08_loops/11_double_loop.t ............... ok
t/20_resources/10_perl/aliases.t ................... ok
t/20_resources/10_perl/caller_state.t .............. ok
t/20_resources/10_perl/events.t .................... ok
t/20_resources/10_perl/extrefs.t ................... ok
t/20_resources/10_perl/extrefs_gc.t ................ ok
t/20_resources/10_perl/filehandles.t ............... ok
t/20_resources/10_perl/sessions.t .................. ok
t/20_resources/10_perl/sids.t ...................... ok
t/20_resources/10_perl/signals.t ................... ok
# Testing POE 1.367, POE::Test::Loops 1.360, Using Loop(POE::Loop::IO_Poll), Perl 5.022000, /home/arfreitas/perl5/perlbrew/perls/perl-5.22.0/bin/perl on openbsd
t/30_loops/io_poll/00_info.t ....................... ok
t/30_loops/io_poll/all_errors.t .................... skipped: most of these should move into other test files
t/30_loops/io_poll/comp_tcp.t ...................... ok
# You might see a 'disconnect' error during this test.
# It may be ignored.
t/30_loops/io_poll/comp_tcp_concurrent.t ........... ok
t/30_loops/io_poll/connect_errors.t ................ ok
t/30_loops/io_poll/k_alarms.t ...................... ok
t/30_loops/io_poll/k_aliases.t ..................... ok
t/30_loops/io_poll/k_detach.t ...................... ok
t/30_loops/io_poll/k_run_returns.t ................. ok
t/30_loops/io_poll/k_selects.t ..................... ok
t/30_loops/io_poll/k_sig_child.t ................... ok
t/30_loops/io_poll/k_signals.t ..................... ok
t/30_loops/io_poll/k_signals_rerun.t ............... ok
t/30_loops/io_poll/sbk_signal_init.t ............... ok
t/30_loops/io_poll/ses_nfa.t ....................... ok
# This test generates some STDERR during trace testing.
=== 15364 === 23 -> _start (from /home/arfreitas/.cpan/build/POE-1.367-Zu2MjI/blib/lib/POE/Kernel.pm at 1497)
=== 15364 === 23 -> woot (from /home/arfreitas/.cpan/build/POE-Test-Loops-1.360-lroGj4/blib/lib/POE/Test/Loops/ses_session.pm at 691)
=== 15364 === 23 -> narf (from /home/arfreitas/.cpan/build/POE-Test-Loops-1.360-lroGj4/blib/lib/POE/Test/Loops/ses_session.pm at 692)
=== 15364 === 23 -> _stop (from /home/arfreitas/.cpan/build/POE-1.367-Zu2MjI/blib/lib/POE/Resource/Sessions.pm at 571)
t/30_loops/io_poll/ses_session.t ................... ok
t/30_loops/io_poll/wheel_accept.t .................. ok
t/30_loops/io_poll/wheel_curses.t .................. skipped: IO::Pty not available
t/30_loops/io_poll/wheel_readline.t ................ skipped: This test requires IO::Pty
t/30_loops/io_poll/wheel_readwrite.t ............... ok
t/30_loops/io_poll/wheel_run.t ..................... ok
t/30_loops/io_poll/wheel_run_size.t ................ skipped: This test requires Term::Size
t/30_loops/io_poll/wheel_sf_ipv6.t ................. skipped: Socket::GetAddrInfo is needed for IPv6 tests
t/30_loops/io_poll/wheel_sf_tcp.t .................. ok
t/30_loops/io_poll/wheel_sf_udp.t .................. ok
t/30_loops/io_poll/wheel_sf_unix.t ................. ok
t/30_loops/io_poll/wheel_tail.t .................... ok
t/30_loops/io_poll/z_kogman_sig_order.t ............ ok
t/30_loops/io_poll/z_leolo_wheel_run.t ............. ok
# Using '/usr/bin/true' as our thing to run under system()
t/30_loops/io_poll/z_merijn_sigchld_system.t ....... ok
t/30_loops/io_poll/z_rt39872_sigchld.t ............. ok
# Parent 27209 waiting 3sec for slow systems to settle.
# sending sigusr1
# sent sigusr1
t/30_loops/io_poll/z_rt39872_sigchld_stop.t ........ ok
t/30_loops/io_poll/z_rt53302_fh_watchers.t ......... ok
t/30_loops/io_poll/z_rt54319_bazerka_followtail.t .. ok
t/30_loops/io_poll/z_steinert_signal_integrity.t ... ok
# Testing POE 1.367, POE::Test::Loops 1.360, Using Loop(POE::Loop::Select), Perl 5.022000, /home/arfreitas/perl5/perlbrew/perls/perl-5.22.0/bin/perl on openbsd
t/30_loops/select/00_info.t ........................ ok
t/30_loops/select/all_errors.t ..................... skipped: most of these should move into other test files
t/30_loops/select/comp_tcp.t ....................... ok
# You might see a 'disconnect' error during this test.
# It may be ignored.
t/30_loops/select/comp_tcp_concurrent.t ............ ok
t/30_loops/select/connect_errors.t ................. ok
t/30_loops/select/k_alarms.t ....................... ok
t/30_loops/select/k_aliases.t ...................... ok
t/30_loops/select/k_detach.t ....................... ok
t/30_loops/select/k_run_returns.t .................. ok
t/30_loops/select/k_selects.t ...................... ok
t/30_loops/select/k_sig_child.t .................... ok
t/30_loops/select/k_signals.t ...................... ok
t/30_loops/select/k_signals_rerun.t ................ ok
t/30_loops/select/sbk_signal_init.t ................ ok
t/30_loops/select/ses_nfa.t ........................ ok
# This test generates some STDERR during trace testing.
=== 15375 === 23 -> _start (from /home/arfreitas/.cpan/build/POE-1.367-Zu2MjI/blib/lib/POE/Kernel.pm at 1497)
=== 15375 === 23 -> woot (from /home/arfreitas/.cpan/build/POE-Test-Loops-1.360-lroGj4/blib/lib/POE/Test/Loops/ses_session.pm at 691)
=== 15375 === 23 -> narf (from /home/arfreitas/.cpan/build/POE-Test-Loops-1.360-lroGj4/blib/lib/POE/Test/Loops/ses_session.pm at 692)
=== 15375 === 23 -> _stop (from /home/arfreitas/.cpan/build/POE-1.367-Zu2MjI/blib/lib/POE/Resource/Sessions.pm at 571)
t/30_loops/select/ses_session.t .................... ok
t/30_loops/select/wheel_accept.t ................... ok
t/30_loops/select/wheel_curses.t ................... skipped: IO::Pty not available
t/30_loops/select/wheel_readline.t ................. skipped: This test requires IO::Pty
t/30_loops/select/wheel_readwrite.t ................ ok
t/30_loops/select/wheel_run.t ...................... ok
t/30_loops/select/wheel_run_size.t ................. skipped: This test requires Term::Size
t/30_loops/select/wheel_sf_ipv6.t .................. skipped: Socket::GetAddrInfo is needed for IPv6 tests
t/30_loops/select/wheel_sf_tcp.t ................... ok
t/30_loops/select/wheel_sf_udp.t ................... ok
t/30_loops/select/wheel_sf_unix.t .................. ok
t/30_loops/select/wheel_tail.t ..................... ok
t/30_loops/select/z_kogman_sig_order.t ............. ok
t/30_loops/select/z_leolo_wheel_run.t .............. ok
# Using '/usr/bin/true' as our thing to run under system()
t/30_loops/select/z_merijn_sigchld_system.t ........ ok
t/30_loops/select/z_rt39872_sigchld.t .............. ok
# Parent 12239 waiting 3sec for slow systems to settle.
# sending sigusr1
# sent sigusr1
t/30_loops/select/z_rt39872_sigchld_stop.t ......... ok
t/30_loops/select/z_rt53302_fh_watchers.t .......... ok
t/30_loops/select/z_rt54319_bazerka_followtail.t ... ok
t/30_loops/select/z_steinert_signal_integrity.t .... ok
t/90_regression/agaran-filter-httpd.t .............. ok
t/90_regression/averell-callback-ret.t ............. ok
t/90_regression/bingos-followtail.t ................ ok
t/90_regression/broeren-win32-nbio.t ............... skipped: This test examines ActiveState Perl behavior.
t/90_regression/cfedde-filter-httpd.t .............. ok
t/90_regression/ferrari-server-unix.t .............. ok
t/90_regression/grinnz-die-in-die.t ................ ok
Died at t/90_regression/hinrik-wheel-run-die.t line 21.
t/90_regression/hinrik-wheel-run-die.t ............. ok
# This test can take up to 10 seconds
t/90_regression/kjeldahl-stop-start-polling.t ...... ok
# This test can take up to 10 seconds
t/90_regression/kjeldahl-stop-start-sig-nopipe.t ... ok
# This test can take up to 10 seconds
t/90_regression/kjeldahl-stop-start-sig-pipe.t ..... ok
t/90_regression/leolo-sig-die.t .................... ok
t/90_regression/meh-startstop-return.t ............. ok
t/90_regression/neyuki_detach.t .................... ok
t/90_regression/pipe-followtail.t .................. ok
t/90_regression/prumike-win32-stat.t ............... skipped: This test examines Strawberry/ActiveState Perl behavior.
t/90_regression/rt14444-arg1.t ..................... ok
t/90_regression/rt1648-tied-stderr.t ............... ok
t/90_regression/rt19908-merlyn-stop.t .............. ok
t/90_regression/rt23181-sigchld-rc.t ............... ok
t/90_regression/rt47966-sigchld.t .................. skipped: enable by setting RELEASE_TESTING
t/90_regression/rt56417-wheel-run.t ................ ok
t/90_regression/rt65460-forking.t .................. ok
t/90_regression/socketfactory-timeout.t ............ ok
t/90_regression/somni-poco-server-tcp.t ............ ok
t/90_regression/steinert-passed-wheel.t ............ ok
t/90_regression/suzman_windows.t ................... ok
t/90_regression/ton-stop-corruption.t .............. ok
t/90_regression/tracing-sane-exit.t ................ ok
t/90_regression/whelan-dieprop.t ................... ok
t/90_regression/whjackson-followtail.t ............. ok
All tests successful.
Files=161, Tests=4221, 134 wallclock secs ( 0.29 usr  3.44 sys + 17.41 cusr 25.90 csys = 47.04 CPU)
Result: PASS

------------------------------
PREREQUISITES
------------------------------

Prerequisite modules loaded:

requires:

    Module           Need  Have  
    ---------------- ----- ------
    Carp             0     1.36  
    Errno            1.09  1.23  
    Exporter         0     5.72  
    File::Spec       0.87  3.56  
    IO               1.24  1.35  
    IO::Handle       1.27  1.35  
    IO::Pipely       0.005 0.005 
  ! IO::Tty          1.08  n/a   
    POE::Test::Loops 1.360 1.360 
    POSIX            1.02  1.53  
    Socket           1.7   2.020 
    Storable         2.16  2.53  
    Test::Harness    2.26  3.35  
    Time::HiRes      1.59  1.9726

build_requires:

    Module           Need  Have  
    ---------------- ----- ------
    POE::Test::Loops 1.360 1.360 

configure_requires:

    Module           Need  Have  
    ---------------- ----- ------
    POE::Test::Loops 1.360 1.360 


------------------------------
ENVIRONMENT AND OTHER CONTEXT
------------------------------

Environment variables:

    AUTOMATED_TESTING = 1
    PATH = /home/arfreitas/perl5/perlbrew/bin:/home/arfreitas/perl5/perlbrew/perls/perl-5.22.0/bin:/usr/bin:/bin:/usr/sbin:/sbin:/usr/X11R6/bin:/usr/local/bin:/usr/local/sbin
    PERL5LIB = /home/arfreitas/.cpan/build/IO-Pipely-0.005-JJTItf/blib/arch:/home/arfreitas/.cpan/build/IO-Pipely-0.005-JJTItf/blib/lib:/home/arfreitas/.cpan/build/POE-Test-Loops-1.360-lroGj4/blib/arch:/home/arfreitas/.cpan/build/POE-Test-Loops-1.360-lroGj4/blib/lib:/home/arfreitas/.cpan/build/HTML-Format-2.11-3LgDgD/blib/arch:/home/arfreitas/.cpan/build/HTML-Format-2.11-3LgDgD/blib/lib:/home/arfreitas/.cpan/build/File-Slurp-9999.19-b5HHkk/blib/arch:/home/arfreitas/.cpan/build/File-Slurp-9999.19-b5HHkk/blib/lib:/home/arfreitas/.cpan/build/Font-AFM-1.20-fWYxc7/blib/arch:/home/arfreitas/.cpan/build/Font-AFM-1.20-fWYxc7/blib/lib:/home/arfreitas/.cpan/build/HTML-Tree-5.03-kJyRtS/blib/arch:/home/arfreitas/.cpan/build/HTML-Tree-5.03-kJyRtS/blib/lib
    PERL5OPT = 
    PERL5_CPANPLUS_IS_RUNNING = 15333
    PERL5_CPAN_IS_RUNNING = 15333
    PERL5_CPAN_IS_RUNNING_IN_RECURSION = 5229,15333
    PERLBREW_BASHRC_VERSION = 0.73
    PERLBREW_HOME = /home/arfreitas/.perlbrew
    PERLBREW_MANPATH = /home/arfreitas/perl5/perlbrew/perls/perl-5.22.0/man
    PERLBREW_PATH = /home/arfreitas/perl5/perlbrew/bin:/home/arfreitas/perl5/perlbrew/perls/perl-5.22.0/bin
    PERLBREW_PERL = perl-5.22.0
    PERLBREW_ROOT = /home/arfreitas/perl5/perlbrew
    PERLBREW_VERSION = 0.73
    PERL_CR_SMOKER_CURRENT = App-DuckPAN-0.192
    PERL_EXTUTILS_AUTOINSTALL = --defaultdeps
    PERL_MM_USE_DEFAULT = 1
    SHELL = /usr/local/bin/bash
    TERM = xterm

Perl special variables (and OS-specific diagnostics, for MSWin32):

    $^X = /home/arfreitas/perl5/perlbrew/perls/perl-5.22.0/bin/perl
    $UID/$EUID = 1000 / 1000
    $GID = 1000 1000 0
    $EGID = 1000 1000 0

Perl module toolchain versions installed:

    Module              Have    
    ------------------- --------
    CPAN                2.11    
    CPAN::Meta          2.150005
    Cwd                 3.56    
    ExtUtils::CBuilder  0.280224
    ExtUtils::Command   7.10    
    ExtUtils::Install   2.04    
    ExtUtils::MakeMaker 7.10    
    ExtUtils::Manifest  1.70    
    ExtUtils::ParseXS   3.30    
    File::Spec          3.56    
    JSON                2.90    
    JSON::PP            2.27300 
    Module::Build       0.4214  
    Module::Signature   n/a     
    Parse::CPAN::Meta   1.4417  
    Test::Harness       3.35    
    Test::More          1.001014
    YAML                1.15    
    YAML::Syck          1.29    
    version             0.9912  


--

Summary of my perl5 (revision 5 version 22 subversion 0) configuration:
   
  Platform:
    osname=openbsd, osvers=5.7, archname=OpenBSD.i386-openbsd
    uname='openbsd foobar.spo.virtua.com.br 5.7 generic.mp#767 i386 '
    config_args='-de -Dprefix=/home/arfreitas/perl5/perlbrew/perls/perl-5.22.0 -Aeval:scriptdir=/home/arfreitas/perl5/perlbrew/perls/perl-5.22.0/bin'
    hint=recommended, useposix=true, d_sigaction=define
    useithreads=undef, usemultiplicity=undef
    use64bitint=undef, use64bitall=undef, uselongdouble=undef
    usemymalloc=n, bincompat5005=undef
  Compiler:
    cc='cc', ccflags ='-fno-strict-aliasing -pipe -fstack-protector-strong -I/usr/local/include -D_FORTIFY_SOURCE=2',
    optimize='-O2',
    cppflags='-fno-strict-aliasing -pipe -fstack-protector-strong -I/usr/local/include'
    ccversion='', gccversion='4.2.1 20070719 ', gccosandvers='openbsd5.7'
    intsize=4, longsize=4, ptrsize=4, doublesize=8, byteorder=1234, doublekind=3
    d_longlong=define, longlongsize=8, d_longdbl=define, longdblsize=12, longdblkind=3
    ivtype='long', ivsize=4, nvtype='double', nvsize=8, Off_t='off_t', lseeksize=8
    alignbytes=4, prototype=define
  Linker and Libraries:
    ld='cc', ldflags ='-Wl,-E  -fstack-protector-strong -L/usr/local/lib'
    libpth=/usr/lib /usr/local/lib
    libs=-lpthread -lgdbm -lm -lutil -lc
    perllibs=-lpthread -lm -lutil -lc
    libc=/usr/lib/libc.so.78.1, so=so, useshrplib=false, libperl=libperl.a
    gnulibc_version=''
  Dynamic Linking:
    dlsrc=dl_dlopen.xs, dlext=so, d_dlsymun=undef, ccdlflags=' '
    cccdlflags='-DPIC -fPIC ', lddlflags='-shared -fPIC  -L/usr/local/lib -fstack-protector-strong'


Characteristics of this binary (from libperl): 
  Compile-time options: HAS_TIMES PERLIO_LAYERS PERL_DONT_CREATE_GVSV
                        PERL_HASH_FUNC_ONE_AT_A_TIME_HARD PERL_MALLOC_WRAP
                        PERL_NEW_COPY_ON_WRITE PERL_PRESERVE_IVUV
                        USE_LARGE_FILES USE_LOCALE USE_LOCALE_COLLATE
                        USE_LOCALE_CTYPE USE_LOCALE_NUMERIC USE_LOCALE_TIME
                        USE_PERLIO USE_PERL_ATOF
  Locally applied patches:
	Devel::PatchPerl 1.38
  Built under openbsd
  Compiled at Aug 20 2015 22:28:58
  %ENV:
    PERL5LIB="/home/arfreitas/.cpan/build/IO-Pipely-0.005-JJTItf/blib/arch:/home/arfreitas/.cpan/build/IO-Pipely-0.005-JJTItf/blib/lib:/home/arfreitas/.cpan/build/POE-Test-Loops-1.360-lroGj4/blib/arch:/home/arfreitas/.cpan/build/POE-Test-Loops-1.360-lroGj4/blib/lib:/home/arfreitas/.cpan/build/HTML-Format-2.11-3LgDgD/blib/arch:/home/arfreitas/.cpan/build/HTML-Format-2.11-3LgDgD/blib/lib:/home/arfreitas/.cpan/build/File-Slurp-9999.19-b5HHkk/blib/arch:/home/arfreitas/.cpan/build/File-Slurp-9999.19-b5HHkk/blib/lib:/home/arfreitas/.cpan/build/Font-AFM-1.20-fWYxc7/blib/arch:/home/arfreitas/.cpan/build/Font-AFM-1.20-fWYxc7/blib/lib:/home/arfreitas/.cpan/build/HTML-Tree-5.03-kJyRtS/blib/arch:/home/arfreitas/.cpan/build/HTML-Tree-5.03-kJyRtS/blib/lib"
    PERL5OPT=""
    PERL5_CPANPLUS_IS_RUNNING="15333"
    PERL5_CPAN_IS_RUNNING="15333"
    PERL5_CPAN_IS_RUNNING_IN_RECURSION="5229,15333"
    PERLBREW_BASHRC_VERSION="0.73"
    PERLBREW_HOME="/home/arfreitas/.perlbrew"
    PERLBREW_MANPATH="/home/arfreitas/perl5/perlbrew/perls/perl-5.22.0/man"
    PERLBREW_PATH="/home/arfreitas/perl5/perlbrew/bin:/home/arfreitas/perl5/perlbrew/perls/perl-5.22.0/bin"
    PERLBREW_PERL="perl-5.22.0"
    PERLBREW_ROOT="/home/arfreitas/perl5/perlbrew"
    PERLBREW_VERSION="0.73"
    PERL_CR_SMOKER_CURRENT="App-DuckPAN-0.192"
    PERL_EXTUTILS_AUTOINSTALL="--defaultdeps"
    PERL_MM_USE_DEFAULT="1"
  @INC:
    /home/arfreitas/.cpan/build/IO-Pipely-0.005-JJTItf/blib/arch
    /home/arfreitas/.cpan/build/IO-Pipely-0.005-JJTItf/blib/lib
    /home/arfreitas/.cpan/build/POE-Test-Loops-1.360-lroGj4/blib/arch
    /home/arfreitas/.cpan/build/POE-Test-Loops-1.360-lroGj4/blib/lib
    /home/arfreitas/.cpan/build/HTML-Format-2.11-3LgDgD/blib/arch
    /home/arfreitas/.cpan/build/HTML-Format-2.11-3LgDgD/blib/lib
    /home/arfreitas/.cpan/build/File-Slurp-9999.19-b5HHkk/blib/arch
    /home/arfreitas/.cpan/build/File-Slurp-9999.19-b5HHkk/blib/lib
    /home/arfreitas/.cpan/build/Font-AFM-1.20-fWYxc7/blib/arch
    /home/arfreitas/.cpan/build/Font-AFM-1.20-fWYxc7/blib/lib
    /home/arfreitas/.cpan/build/HTML-Tree-5.03-kJyRtS/blib/arch
    /home/arfreitas/.cpan/build/HTML-Tree-5.03-kJyRtS/blib/lib
    /home/arfreitas/perl5/perlbrew/perls/perl-5.22.0/lib/site_perl/5.22.0/OpenBSD.i386-openbsd
    /home/arfreitas/perl5/perlbrew/perls/perl-5.22.0/lib/site_perl/5.22.0
    /home/arfreitas/perl5/perlbrew/perls/perl-5.22.0/lib/5.22.0/OpenBSD.i386-openbsd
    /home/arfreitas/perl5/perlbrew/perls/perl-5.22.0/lib/5.22.0
    .