Back
From: metabase:user:9c36dc84-a30f-11e0-a9fc-0a18abbd4f2f
Subject: PASS XML-Rabbit-0.4.1 v5.25.7 GNU/Linux
Date: 2017-01-08T23:07:48Z
This distribution has been tested as part of the CPAN Testers
project, supporting the Perl programming language. See
http://wiki.cpantesters.org/ for more information or email
questions to cpan-testers-discuss@perl.org
--
Dear Robin Smidsrod,
This is a computer-generated report for XML-Rabbit-0.4.1
on perl 5.25.7, created by CPAN-Reporter-1.2018.
Thank you for uploading your work to CPAN. Congratulations!
All tests were successful.
Sections of this report:
* Tester comments
* Program output
* Prerequisites
* Environment and other context
------------------------------
TESTER COMMENTS
------------------------------
Additional comments from tester:
none provided
------------------------------
PROGRAM OUTPUT
------------------------------
Output from '/usr/bin/make test':
PERL_DL_NONLAZY=1 "/home/alceu/perl5/perlbrew/perls/perl-5.25.7/bin/perl5.25.7" "-MExtUtils::Command::MM" "-MTest::Harness" "-e" "undef *Test::Harness::Switches; test_harness(0, 'blib/lib', 'blib/arch')" t/*.t t/regression/*.t
# Testing XML::Rabbit 0.4.1, Perl 5.025007, /home/alceu/perl5/perlbrew/perls/perl-5.25.7/bin/perl5.25.7
t/00_load.t ........................... ok
# Detected libxml2 version: 20903
t/01_libxml_version.t ................. ok
t/10_parse_xhtml_fh.t ................. ok
t/10_parse_xhtml_file.t ............... ok
t/10_parse_xhtml_string.t ............. ok
t/11_parse_imsqti.t ................... ok
t/12_xpath_value_map.t ................ ok
t/13_xpath_object_map.t ............... ok
t/14_sugar_parse_xhtml_file.t ......... ok
t/15_sugar_parse_imsqti.t ............. ok
t/16_sugar_xpath_value_map.t .......... ok
t/17_sugar_xpath_object_map.t ......... ok
t/18_dump_xml.t ....................... ok
t/19_RT_71815.t ....................... ok
t/20_RT_81519.t ....................... ok
t/author-critic.t ..................... skipped: these tests are for testing by the author
t/regression/node_attribute_traits.t .. ok
t/release-eol.t ....................... skipped: these tests are for release candidate testing
t/release-kwalitee.t .................. skipped: these tests are for release candidate testing
t/release-no-tabs.t ................... skipped: these tests are for release candidate testing
t/release-pod-coverage.t .............. skipped: these tests are for release candidate testing
t/release-pod-syntax.t ................ skipped: these tests are for release candidate testing
All tests successful.
Files=22, Tests=165, 5 wallclock secs ( 0.09 usr 0.03 sys + 5.12 cusr 0.31 csys = 5.55 CPU)
Result: PASS
------------------------------
PREREQUISITES
------------------------------
Prerequisite modules loaded:
requires:
Module Need Have
---------------------------- ---- --------
Carp 0 1.42
Class::Load 0 0.23
Encode 0 2.86
Moose 0.89 2.1806
Moose::Exporter 0 2.1806
Moose::Role 0 2.1806
Moose::Util::TypeConstraints 0 2.1806
MooseX::Role::Parameterized 0 1.09
namespace::autoclean 0 0.28
Perl6::Junction 0 1.60000
Scalar::Util 0 1.46_02
strict 0 1.11
warnings 0 1.37
XML::LibXML 1.70 2.0128
build_requires:
Module Need Have
---------------------------- ---- --------
lib 0 0.63
Test::Exception 0 0.43
Test::More 0 1.302067
utf8 0 1.19
configure_requires:
Module Need Have
---------------------------- ---- --------
ExtUtils::MakeMaker 6.30 7.24
XML::LibXML 1.70 2.0128
------------------------------
ENVIRONMENT AND OTHER CONTEXT
------------------------------
Environment variables:
LANG = pt_BR.UTF-8
LANGUAGE = pt_BR:pt:en
PATH = /home/alceu/perl5/perlbrew/bin:/home/alceu/perl5/perlbrew/perls/perl-5.25.7/bin:/home/alceu/bin:/usr/local/sbin:/usr/local/bin:/usr/sbin:/usr/bin:/sbin:/bin:/usr/games:/usr/local/games:/snap/bin
PERL5LIB =
PERL5OPT =
PERL5_CPANPLUS_IS_RUNNING = 27872
PERL5_CPAN_IS_RUNNING = 27872
PERLBREW_BASHRC_VERSION = 0.73
PERLBREW_HOME = /home/alceu/.perlbrew
PERLBREW_MANPATH = /home/alceu/perl5/perlbrew/perls/perl-5.25.7/man
PERLBREW_PATH = /home/alceu/perl5/perlbrew/bin:/home/alceu/perl5/perlbrew/perls/perl-5.25.7/bin
PERLBREW_PERL = perl-5.25.7
PERLBREW_ROOT = /home/alceu/perl5/perlbrew
PERLBREW_VERSION = 0.73
SHELL = /bin/bash
TERM = xterm
Perl special variables (and OS-specific diagnostics, for MSWin32):
$^X = /home/alceu/perl5/perlbrew/perls/perl-5.25.7/bin/perl5.25.7
$UID/$EUID = 1000 / 1000
$GID = 1000 4 24 27 30 46 108 124 129 1000 1002
$EGID = 1000 4 24 27 30 46 108 124 129 1000 1002
Perl module toolchain versions installed:
Module Have
------------------- ----------
CPAN 2.14_01
CPAN::Meta 2.150010
Cwd 3.66
ExtUtils::CBuilder 0.280225
ExtUtils::Command 7.24
ExtUtils::Install 2.04
ExtUtils::MakeMaker 7.24
ExtUtils::Manifest 1.70
ExtUtils::ParseXS 3.33
File::Spec 3.66
JSON 2.90
JSON::PP 2.27400_02
Module::Build 0.4220
Module::Signature n/a
Parse::CPAN::Meta 2.150010
Test::Harness 3.36_01
Test::More 1.302067
YAML 1.19
YAML::Syck 1.29
version 0.9917
--
Summary of my perl5 (revision 5 version 25 subversion 7) configuration:
Platform:
osname=linux
osvers=3.13.0-88-generic
archname=x86_64-linux
uname='linux yggdrasil 3.13.0-88-generic #135-ubuntu smp wed jun 8 21:10:42 utc 2016 x86_64 x86_64 x86_64 gnulinux '
config_args='-de -Dprefix=/home/alceu/perl5/perlbrew/perls/perl-5.25.7 -Dusedevel -Aeval:scriptdir=/home/alceu/perl5/perlbrew/perls/perl-5.25.7/bin'
hint=recommended
useposix=true
d_sigaction=define
useithreads=undef
usemultiplicity=undef
use64bitint=define
use64bitall=define
uselongdouble=undef
usemymalloc=n
bincompat5005=undef
Compiler:
cc='cc'
ccflags ='-fwrapv -fno-strict-aliasing -pipe -fstack-protector -I/usr/local/include -D_LARGEFILE_SOURCE -D_FILE_OFFSET_BITS=64'
optimize='-O2'
cppflags='-fwrapv -fno-strict-aliasing -pipe -fstack-protector -I/usr/local/include'
ccversion=''
gccversion='4.8.4'
gccosandvers=''
intsize=4
longsize=8
ptrsize=8
doublesize=8
byteorder=12345678
doublekind=3
d_longlong=define
longlongsize=8
d_longdbl=define
longdblsize=16
longdblkind=3
ivtype='long'
ivsize=8
nvtype='double'
nvsize=8
Off_t='off_t'
lseeksize=8
alignbytes=8
prototype=define
Linker and Libraries:
ld='cc'
ldflags =' -fstack-protector -L/usr/local/lib'
libpth=/usr/local/lib /usr/lib/gcc/x86_64-linux-gnu/4.8/include-fixed /usr/include/x86_64-linux-gnu /usr/lib /lib/x86_64-linux-gnu /lib/../lib /usr/lib/x86_64-linux-gnu /usr/lib/../lib /lib
libs=-lpthread -lnsl -ldl -lm -lcrypt -lutil -lc
perllibs=-lpthread -lnsl -ldl -lm -lcrypt -lutil -lc
libc=libc-2.19.so
so=so
useshrplib=false
libperl=libperl.a
gnulibc_version='2.19'
Dynamic Linking:
dlsrc=dl_dlopen.xs
dlext=so
d_dlsymun=undef
ccdlflags='-Wl,-E'
cccdlflags='-fPIC'
lddlflags='-shared -O2 -L/usr/local/lib -fstack-protector'
Characteristics of this binary (from libperl):
Compile-time options:
HAS_TIMES
PERLIO_LAYERS
PERL_COPY_ON_WRITE
PERL_DONT_CREATE_GVSV
PERL_HASH_FUNC_ONE_AT_A_TIME_HARD
PERL_MALLOC_WRAP
PERL_OP_PARENT
PERL_PRESERVE_IVUV
PERL_USE_DEVEL
USE_64_BIT_ALL
USE_64_BIT_INT
USE_LARGE_FILES
USE_LOCALE
USE_LOCALE_COLLATE
USE_LOCALE_CTYPE
USE_LOCALE_NUMERIC
USE_LOCALE_TIME
USE_PERLIO
USE_PERL_ATOF
Locally applied patches:
Devel::PatchPerl 1.38
Built under linux
Compiled at Dec 3 2016 20:56:21
%ENV:
PERL5LIB=""
PERL5OPT=""
PERL5_CPANPLUS_IS_RUNNING="27872"
PERL5_CPAN_IS_RUNNING="27872"
PERLBREW_BASHRC_VERSION="0.73"
PERLBREW_HOME="/home/alceu/.perlbrew"
PERLBREW_MANPATH="/home/alceu/perl5/perlbrew/perls/perl-5.25.7/man"
PERLBREW_PATH="/home/alceu/perl5/perlbrew/bin:/home/alceu/perl5/perlbrew/perls/perl-5.25.7/bin"
PERLBREW_PERL="perl-5.25.7"
PERLBREW_ROOT="/home/alceu/perl5/perlbrew"
PERLBREW_VERSION="0.73"
@INC:
/home/alceu/perl5/perlbrew/perls/perl-5.25.7/lib/site_perl/5.25.7/x86_64-linux
/home/alceu/perl5/perlbrew/perls/perl-5.25.7/lib/site_perl/5.25.7
/home/alceu/perl5/perlbrew/perls/perl-5.25.7/lib/5.25.7/x86_64-linux
/home/alceu/perl5/perlbrew/perls/perl-5.25.7/lib/5.25.7
.