Catalyst-Controller-ActionRole v0.17 Perl 5 v5.32.0 OpenBSD.amd64-openbsd

Status
Pass
From
Carlos Guevara
Dist
Catalyst-Controller-ActionRole v0.17
Platform
Perl 5 v5.32.0 OpenBSD.amd64-openbsd
Date
2020-06-18 02:49:03
ID
454afd08-b10e-11ea-beb7-a9b7dcb5a7d3
This distribution has been tested as part of the CPAN Testers
project, supporting the Perl programming language.  See
http://wiki.cpantesters.org/ for more information or email
questions to cpan-testers-discuss@perl.org


--
Dear Karen Etheridge,

This is a computer-generated report for Catalyst-Controller-ActionRole-0.17
on perl 5.32.0, created by CPAN-Reporter-1.2018.

Thank you for uploading your work to CPAN.  Congratulations!
All tests were successful.

Sections of this report:

    * Tester comments
    * Program output
    * Prerequisites
    * Environment and other context

------------------------------
TESTER COMMENTS
------------------------------

Additional comments from tester:

this report is from an automated smoke testing program
and was not reviewed by a human for accuracy

------------------------------
PROGRAM OUTPUT
------------------------------

Output from './Build test':

# 
# Versions for all modules listed in MYMETA.json (including optional ones):
# 
# === Configure Requires ===
# 
#     Module               Want  Have
#     ------------------- ----- -----
#     Module::Build::Tiny 0.039 0.039
# 
# === Test Requires ===
# 
#     Module                 Want     Have
#     ---------------------- ---- --------
#     Catalyst                any  5.90126
#     Catalyst::Action        any    undef
#     Catalyst::Action::REST 0.74     1.21
#     Catalyst::Test          any    undef
#     ExtUtils::MakeMaker     any     7.44
#     File::Spec              any     3.78
#     FindBin                 any     1.51
#     Moose::Role             any   2.2012
#     Test::More              any 1.302175
#     lib                     any     0.65
#     namespace::clean        any     0.27
#     parent                  any    0.238
#     strict                  any     1.11
#     warnings                any     1.47
# 
# === Test Recommends ===
# 
#     Module         Want     Have
#     ---------- -------- --------
#     CPAN::Meta 2.120900 2.150010
# 
# === Runtime Requires ===
# 
#     Module                   Want    Have
#     --------------------- ------- -------
#     Catalyst::Controller      any   undef
#     Catalyst::Runtime     5.80025 5.90126
#     Catalyst::Utils           any   undef
#     Class::Load               any    0.25
#     List::Util                any    1.55
#     Moose                     any  2.2012
#     Moose::Meta::Class        any  2.2012
#     MooseX::Types::Moose      any    0.50
#     String::RewritePrefix   0.004   0.008
#     namespace::autoclean      any    0.29
# 
t/00-report-prereqs.t ..... ok
t/action-class.t .......... ok
t/basic.t ................. ok
t/basic_rest.t ............ ok
t/execution-via-config.t .. ok
t/execution-via-does.t .... ok
All tests successful.
Files=6, Tests=44, 10 wallclock secs ( 0.06 usr  0.08 sys +  8.80 cusr  1.47 csys = 10.41 CPU)
Result: PASS

------------------------------
PREREQUISITES
------------------------------

Prerequisite modules loaded:

requires:

    Module                 Need    Have    
    ---------------------- ------- --------
    Catalyst::Controller   0       0       
    Catalyst::Runtime      5.80025 5.90126 
    Catalyst::Utils        0       0       
    Class::Load            0       0.25    
    List::Util             0       1.55    
    Moose                  0       2.2012  
    Moose::Meta::Class     0       2.2012  
    MooseX::Types::Moose   0       0.50    
    namespace::autoclean   0       0.29    
    perl                   5.006   5.032000
    String::RewritePrefix  0.004   0.008   

build_requires:

    Module                 Need    Have    
    ---------------------- ------- --------
    Catalyst               0       5.90126 
    Catalyst::Action       0       0       
    Catalyst::Action::REST 0.74    1.21    
    Catalyst::Test         0       0       
    ExtUtils::MakeMaker    0       7.44    
    File::Spec             0       3.78    
    FindBin                0       1.51    
    lib                    0       0.65    
    Moose::Role            0       2.2012  
    namespace::clean       0       0.27    
    parent                 0       0.238   
    perl                   5.006   5.032000
    strict                 0       1.11    
    Test::More             0       1.302175
    warnings               0       1.47    

configure_requires:

    Module                 Need    Have    
    ---------------------- ------- --------
    Module::Build::Tiny    0.039   0.039   
    perl                   5.006   5.032000


------------------------------
ENVIRONMENT AND OTHER CONTEXT
------------------------------

Environment variables:

    AUTOMATED_TESTING = 1
    DATE_MANIP_TEST_DM5 = 1
    LC_ALL = C
    NONINTERACTIVE_TESTING = 1
    PATH = /home/cpan/bin/perl-blead/bin:/home/cpan/bin:/home/cpan/bin:/bin:/sbin:/usr/bin:/usr/sbin:/usr/X11R6/bin:/usr/local/bin:/usr/local/sbin:/usr/games
    PERL5LIB = 
    PERL5OPT = 
    PERL5_CPANPLUS_IS_RUNNING = 5002
    PERL5_CPAN_IS_RUNNING = 5002
    PERL_MM_USE_DEFAULT = 1
    PERL_USE_UNSAFE_INC = 1
    PERL_VERSION = blead
    SHELL = /usr/local/bin/bash
    TERM = screen.xterm-256color
    TMPDIR = /home/cpan/tmp

Perl special variables (and OS-specific diagnostics, for MSWin32):

    $^X = /home/cpan/bin/perl-blead/bin/perl5.32.0
    $UID/$EUID = 1001 / 1001
    $GID = 1001 1001
    $EGID = 1001 1001

Perl module toolchain versions installed:

    Module              Have    
    ------------------- --------
    CPAN                2.28    
    CPAN::Meta          2.150010
    Cwd                 3.78    
    ExtUtils::CBuilder  0.280234
    ExtUtils::Command   7.44    
    ExtUtils::Install   2.14    
    ExtUtils::MakeMaker 7.44    
    ExtUtils::Manifest  1.72    
    ExtUtils::ParseXS   3.40    
    File::Spec          3.78    
    JSON                4.02    
    JSON::PP            4.04    
    Module::Build       0.4231  
    Module::Signature   n/a     
    Parse::CPAN::Meta   2.150010
    Test::Harness       3.42    
    Test::More          1.302175
    YAML                1.30    
    YAML::Syck          n/a     
    version             0.9924  


--

Summary of my perl5 (revision 5 version 32 subversion 0) configuration:
  Commit id: e1052518d48fc4ba035c937b203ddad70d6ccb11
  Platform:
    osname=openbsd
    osvers=6.7
    archname=OpenBSD.amd64-openbsd
    uname='openbsd cjg-openbsd6 6.7 generic#2 amd64 '
    config_args='-des -Dprefix=~/bin/perl-blead -Dscriptdir=~/bin/perl-blead/bin -Dusedevel -Duse64bitall'
    hint=recommended
    useposix=true
    d_sigaction=define
    useithreads=undef
    usemultiplicity=undef
    use64bitint=define
    use64bitall=define
    uselongdouble=undef
    usemymalloc=n
    default_inc_excludes_dot=define
    bincompat5005=undef
  Compiler:
    cc='cc'
    ccflags ='-fno-strict-aliasing -pipe -fstack-protector-strong -I/usr/local/include -D_FORTIFY_SOURCE=2'
    optimize='-O2'
    cppflags='-fno-strict-aliasing -pipe -fstack-protector-strong -I/usr/local/include'
    ccversion=''
    gccversion='4.2.1 Compatible OpenBSD Clang 8.0.1 (tags/RELEASE_801/final)'
    gccosandvers=''
    intsize=4
    longsize=8
    ptrsize=8
    doublesize=8
    byteorder=12345678
    doublekind=3
    d_longlong=define
    longlongsize=8
    d_longdbl=define
    longdblsize=16
    longdblkind=3
    ivtype='long'
    ivsize=8
    nvtype='double'
    nvsize=8
    Off_t='off_t'
    lseeksize=8
    alignbytes=8
    prototype=define
  Linker and Libraries:
    ld='cc'
    ldflags ='-Wl,-E  -fstack-protector-strong -L/usr/local/lib'
    libpth=/usr/lib /usr/local/lib
    libs=-lpthread -lm -lutil -lc
    perllibs=-lpthread -lm -lutil -lc
    libc=/usr/lib/libc.so.96.0
    so=so
    useshrplib=false
    libperl=libperl.a
    gnulibc_version=''
  Dynamic Linking:
    dlsrc=dl_dlopen.xs
    dlext=so
    d_dlsymun=undef
    ccdlflags=' '
    cccdlflags='-DPIC -fPIC '
    lddlflags='-shared -fPIC  -L/usr/local/lib -fstack-protector-strong'


Characteristics of this binary (from libperl): 
  Compile-time options:
    HAS_TIMES
    PERLIO_LAYERS
    PERL_COPY_ON_WRITE
    PERL_DONT_CREATE_GVSV
    PERL_MALLOC_WRAP
    PERL_OP_PARENT
    PERL_PRESERVE_IVUV
    PERL_USE_DEVEL
    USE_64_BIT_ALL
    USE_64_BIT_INT
    USE_LARGE_FILES
    USE_LOCALE
    USE_LOCALE_COLLATE
    USE_LOCALE_CTYPE
    USE_LOCALE_NUMERIC
    USE_LOCALE_TIME
    USE_PERLIO
    USE_PERL_ATOF
  Built under openbsd
  Compiled at Jun 17 2020 09:51:07
  %ENV:
    PERL5LIB=""
    PERL5OPT=""
    PERL5_CPANPLUS_IS_RUNNING="5002"
    PERL5_CPAN_IS_RUNNING="5002"
    PERL_MM_USE_DEFAULT="1"
    PERL_USE_UNSAFE_INC="1"
    PERL_VERSION="blead"
  @INC:
    /home/cpan/bin/perl-blead/lib/site_perl/5.32.0/OpenBSD.amd64-openbsd
    /home/cpan/bin/perl-blead/lib/site_perl/5.32.0
    /home/cpan/bin/perl-blead/lib/5.32.0/OpenBSD.amd64-openbsd
    /home/cpan/bin/perl-blead/lib/5.32.0
    .