Net-DNS v1.50 Perl 5 v5.40.1 x86_64-linux

Status
Pass
From
Len Jaffe
Dist
Net-DNS v1.50
Platform
Perl 5 v5.40.1 x86_64-linux
Date
2025-03-02 17:46:28
ID
4505fa8e-f78e-11ef-bbfd-e08617f540fb
This distribution has been tested as part of the CPAN Testers
project, supporting the Perl programming language.  See
http://wiki.cpantesters.org/ for more information or email
questions to cpan-testers-discuss@perl.org


--
Dear NLNETLABS,

This is a computer-generated report for Net-DNS-1.50
on perl 5.40.1, created by App::cpanminus::reporter 0.22 (1.7042).

Thank you for uploading your work to CPAN.  Congratulations!
All tests were successful.

Sections of this report:

    * Tester comments
    * Program output
    * Prerequisites
    * Environment and other context

------------------------------
TESTER COMMENTS
------------------------------

Additional comments from tester:

none provided

------------------------------
PROGRAM OUTPUT
------------------------------

Output from '':

Building and testing Net-DNS-1.50
cp lib/Net/DNS/Packet.pm blib/lib/Net/DNS/Packet.pm
cp lib/Net/DNS/RR/LOC.pm blib/lib/Net/DNS/RR/LOC.pm
cp lib/Net/DNS/RR/IPSECKEY.pm blib/lib/Net/DNS/RR/IPSECKEY.pm
cp lib/Net/DNS/RR/ISDN.pm blib/lib/Net/DNS/RR/ISDN.pm
cp lib/Net/DNS/RR/CDS.pm blib/lib/Net/DNS/RR/CDS.pm
cp lib/Net/DNS/RR/KX.pm blib/lib/Net/DNS/RR/KX.pm
cp lib/Net/DNS/RR/MR.pm blib/lib/Net/DNS/RR/MR.pm
cp lib/Net/DNS/RR/CDNSKEY.pm blib/lib/Net/DNS/RR/CDNSKEY.pm
cp lib/Net/DNS/RR/CNAME.pm blib/lib/Net/DNS/RR/CNAME.pm
cp lib/Net/DNS/RR/AMTRELAY.pm blib/lib/Net/DNS/RR/AMTRELAY.pm
cp lib/Net/DNS/DomainName.pm blib/lib/Net/DNS/DomainName.pm
cp lib/Net/DNS/FAQ.pod blib/lib/Net/DNS/FAQ.pod
cp lib/Net/DNS/RR/DELEG.pm blib/lib/Net/DNS/RR/DELEG.pm
cp lib/Net/DNS/Question.pm blib/lib/Net/DNS/Question.pm
cp lib/Net/DNS/RR/KEY.pm blib/lib/Net/DNS/RR/KEY.pm
cp lib/Net/DNS/RR/L32.pm blib/lib/Net/DNS/RR/L32.pm
cp lib/Net/DNS/RR/MINFO.pm blib/lib/Net/DNS/RR/MINFO.pm
cp lib/Net/DNS/RR/EUI48.pm blib/lib/Net/DNS/RR/EUI48.pm
cp lib/Net/DNS/RR/L64.pm blib/lib/Net/DNS/RR/L64.pm
cp lib/Net/DNS/RR/DNSKEY.pm blib/lib/Net/DNS/RR/DNSKEY.pm
cp lib/Net/DNS/RR/A.pm blib/lib/Net/DNS/RR/A.pm
cp lib/Net/DNS/Parameters.pm blib/lib/Net/DNS/Parameters.pm
cp lib/Net/DNS/RR/MG.pm blib/lib/Net/DNS/RR/MG.pm
cp lib/Net/DNS/RR/CSYNC.pm blib/lib/Net/DNS/RR/CSYNC.pm
cp lib/Net/DNS/RR/CAA.pm blib/lib/Net/DNS/RR/CAA.pm
cp lib/Net/DNS/RR/HIP.pm blib/lib/Net/DNS/RR/HIP.pm
cp lib/Net/DNS/RR/APL.pm blib/lib/Net/DNS/RR/APL.pm
cp lib/Net/DNS/RR/AFSDB.pm blib/lib/Net/DNS/RR/AFSDB.pm
cp lib/Net/DNS/RR/AAAA.pm blib/lib/Net/DNS/RR/AAAA.pm
cp lib/Net/DNS/RR/HINFO.pm blib/lib/Net/DNS/RR/HINFO.pm
cp lib/Net/DNS/RR/GPOS.pm blib/lib/Net/DNS/RR/GPOS.pm
cp lib/Net/DNS/RR/MB.pm blib/lib/Net/DNS/RR/MB.pm
cp lib/Net/DNS/Mailbox.pm blib/lib/Net/DNS/Mailbox.pm
cp lib/Net/DNS/Header.pm blib/lib/Net/DNS/Header.pm
cp lib/Net/DNS/Domain.pm blib/lib/Net/DNS/Domain.pm
cp lib/Net/DNS.pm blib/lib/Net/DNS.pm
cp lib/Net/DNS/RR/DS.pm blib/lib/Net/DNS/RR/DS.pm
cp lib/Net/DNS/RR/DSYNC.pm blib/lib/Net/DNS/RR/DSYNC.pm
cp lib/Net/DNS/RR/CERT.pm blib/lib/Net/DNS/RR/CERT.pm
cp lib/Net/DNS/RR/LP.pm blib/lib/Net/DNS/RR/LP.pm
cp lib/Net/DNS/Nameserver.pm blib/lib/Net/DNS/Nameserver.pm
cp lib/Net/DNS/RR/DHCID.pm blib/lib/Net/DNS/RR/DHCID.pm
cp lib/Net/DNS/RR/EUI64.pm blib/lib/Net/DNS/RR/EUI64.pm
cp lib/Net/DNS/RR.pm blib/lib/Net/DNS/RR.pm
cp lib/Net/DNS/RR/HTTPS.pm blib/lib/Net/DNS/RR/HTTPS.pm
cp lib/Net/DNS/RR/DNAME.pm blib/lib/Net/DNS/RR/DNAME.pm
cp lib/Net/DNS/RR/NSEC3PARAM.pm blib/lib/Net/DNS/RR/NSEC3PARAM.pm
cp lib/Net/DNS/Resolver/Recurse.pm blib/lib/Net/DNS/Resolver/Recurse.pm
cp lib/Net/DNS/RR/OPENPGPKEY.pm blib/lib/Net/DNS/RR/OPENPGPKEY.pm
cp lib/Net/DNS/RR/TXT.pm blib/lib/Net/DNS/RR/TXT.pm
cp lib/Net/DNS/RR/RT.pm blib/lib/Net/DNS/RR/RT.pm
cp lib/Net/DNS/Update.pm blib/lib/Net/DNS/Update.pm
cp lib/Net/DNS/Resolver/cygwin.pm blib/lib/Net/DNS/Resolver/cygwin.pm
cp lib/Net/DNS/Resolver/android.pm blib/lib/Net/DNS/Resolver/android.pm
cp lib/Net/DNS/Resolver/os390.pm blib/lib/Net/DNS/Resolver/os390.pm
cp lib/Net/DNS/RR/ZONEMD.pm blib/lib/Net/DNS/RR/ZONEMD.pm
cp lib/Net/DNS/RR/TKEY.pm blib/lib/Net/DNS/RR/TKEY.pm
cp lib/Net/DNS/Resolver/UNIX.pm blib/lib/Net/DNS/Resolver/UNIX.pm
cp lib/Net/DNS/RR/X25.pm blib/lib/Net/DNS/RR/X25.pm
cp lib/Net/DNS/RR/SOA.pm blib/lib/Net/DNS/RR/SOA.pm
cp lib/Net/DNS/RR/MX.pm blib/lib/Net/DNS/RR/MX.pm
cp lib/Net/DNS/Resolver/MSWin32.pm blib/lib/Net/DNS/Resolver/MSWin32.pm
cp lib/Net/DNS/RR/RESINFO.pm blib/lib/Net/DNS/RR/RESINFO.pm
cp lib/Net/DNS/RR/SRV.pm blib/lib/Net/DNS/RR/SRV.pm
cp lib/Net/DNS/RR/NAPTR.pm blib/lib/Net/DNS/RR/NAPTR.pm
cp lib/Net/DNS/RR/RP.pm blib/lib/Net/DNS/RR/RP.pm
cp lib/Net/DNS/Resolver/os2.pm blib/lib/Net/DNS/Resolver/os2.pm
cp lib/Net/DNS/ZoneFile.pm blib/lib/Net/DNS/ZoneFile.pm
cp lib/Net/DNS/Resolver/Base.pm blib/lib/Net/DNS/Resolver/Base.pm
cp lib/Net/DNS/RR/PTR.pm blib/lib/Net/DNS/RR/PTR.pm
cp lib/Net/DNS/RR/OPT.pm blib/lib/Net/DNS/RR/OPT.pm
cp lib/Net/DNS/RR/NSEC3.pm blib/lib/Net/DNS/RR/NSEC3.pm
cp lib/Net/DNS/RR/NID.pm blib/lib/Net/DNS/RR/NID.pm
cp lib/Net/DNS/RR/PX.pm blib/lib/Net/DNS/RR/PX.pm
cp lib/Net/DNS/RR/NSEC.pm blib/lib/Net/DNS/RR/NSEC.pm
cp lib/Net/DNS/RR/RRSIG.pm blib/lib/Net/DNS/RR/RRSIG.pm
cp lib/Net/DNS/Text.pm blib/lib/Net/DNS/Text.pm
cp lib/Net/DNS/RR/SSHFP.pm blib/lib/Net/DNS/RR/SSHFP.pm
cp lib/Net/DNS/RR/SIG.pm blib/lib/Net/DNS/RR/SIG.pm
cp lib/Net/DNS/RR/SMIMEA.pm blib/lib/Net/DNS/RR/SMIMEA.pm
cp lib/Net/DNS/RR/TSIG.pm blib/lib/Net/DNS/RR/TSIG.pm
cp lib/Net/DNS/Resolver.pm blib/lib/Net/DNS/Resolver.pm
cp lib/Net/DNS/RR/NULL.pm blib/lib/Net/DNS/RR/NULL.pm
cp lib/Net/DNS/RR/SPF.pm blib/lib/Net/DNS/RR/SPF.pm
cp lib/Net/DNS/RR/TLSA.pm blib/lib/Net/DNS/RR/TLSA.pm
cp lib/Net/DNS/RR/SVCB.pm blib/lib/Net/DNS/RR/SVCB.pm
cp lib/Net/DNS/RR/URI.pm blib/lib/Net/DNS/RR/URI.pm
cp lib/Net/DNS/RR/NS.pm blib/lib/Net/DNS/RR/NS.pm
Manifying 38 pod documents
Manifying 38 pod documents
Manifying 12 pod documents
PERL_DL_NONLAZY=1 HARNESS_OPTIONS=j1:c "/home/len/perl5/perlbrew/perls/perl-5.40.1/bin/perl" "-It" "-MExtUtils::Command::MM" "-MTest::Harness" "-e" "undef *Test::Harness::Switches; test_harness(0, 'blib/lib', 'blib/arch')" t/*.t
t/00-install.t ............. ok
# 
# These tests were run using:
# 	Net::DNS                   1.50
# 	Carp                       1.54
# 	Config                     5.040001
# 	Digest::HMAC               1.05
# 	Digest::MD5                2.59
# 	Digest::SHA                6.04
# 	Encode                     3.21
# 	Exporter                   5.78
# 	ExtUtils::MakeMaker        7.70
# 	File::Find                 1.44
# 	File::Spec                 3.91
# 	Getopt::Long               2.58
# 	IO::File                   1.55
# 	IO::Select                 1.55
# 	IO::Socket                 1.55
# 	IO::Socket::IP             0.42
# 	MIME::Base64               3.16_01
# 	PerlIO                     1.12
# 	Scalar::Util               1.63
# 	Socket                     2.038
# 	Test::Builder              1.302199
# 	Test::More                 1.302199
# 	Time::Local                1.35
# 	base                       2.27
# 	constant                   1.33
# 	integer                    1.01
# 	overload                   1.37
# 	strict                     1.13
# 	warnings                   1.70
t/00-load.t ................ ok
t/00-pod.t ................. ok
t/01-resolver-config.t ..... ok
t/01-resolver-env.t ........ ok
t/01-resolver-file.t ....... ok
t/01-resolver-flags.t ...... ok
t/01-resolver-opt.t ........ ok
t/01-resolver.t ............ ok
t/02-domain.t .............. ok
t/02-domainname.t .......... ok
t/02-IDN.t ................. skipped: Net::LibIDN2 not installed
t/02-mailbox.t ............. ok
t/02-text.t ................ ok
t/03-header.t .............. ok
t/03-parameters.t .......... ok
t/03-question.t ............ ok
t/03-rr.t .................. ok
t/04-packet-truncate.t ..... ok
t/04-packet.t .............. ok
t/05-A.t ................... ok
t/05-AAAA.t ................ ok
t/05-AFSDB.t ............... ok
t/05-AMTRELAY.t ............ ok
t/05-APL.t ................. ok
t/05-CAA.t ................. ok
t/05-CDNSKEY.t ............. ok
t/05-CDS.t ................. ok
t/05-CERT.t ................ ok
t/05-CNAME.t ............... ok
t/05-CSYNC.t ............... ok
t/05-DHCID.t ............... ok
t/05-DNAME.t ............... ok
t/05-DNSKEY.t .............. ok
t/05-DS.t .................. ok
t/05-DSYNC.t ............... ok
t/05-EUI48.t ............... ok
t/05-EUI64.t ............... ok
t/05-HINFO.t ............... ok
t/05-HIP.t ................. ok
t/05-HTTPS.t ............... ok
t/05-IPSECKEY.t ............ ok
t/05-ISDN.t ................ ok
t/05-KEY.t ................. ok
t/05-KX.t .................. ok
t/05-L32.t ................. ok
t/05-L64.t ................. ok
t/05-LOC.t ................. ok
t/05-LP.t .................. ok
t/05-MINFO.t ............... ok
t/05-MX.t .................. ok
t/05-NAPTR.t ............... ok
t/05-NID.t ................. ok
t/05-NS.t .................. ok
t/05-NSEC.t ................ ok
t/05-NSEC3.t ............... ok
t/05-NSEC3PARAM.t .......... ok
t/05-NULL.t ................ ok
t/05-OPENPGPKEY.t .......... ok
t/05-OPT.t ................. ok
t/05-PTR.t ................. ok
t/05-PX.t .................. ok
t/05-RP.t .................. ok
t/05-RRSIG.t ............... ok
t/05-RT.t .................. ok
t/05-SIG.t ................. ok
t/05-SMIMEA.t .............. ok
t/05-SOA.t ................. ok
t/05-SPF.t ................. ok
t/05-SRV.t ................. ok
t/05-SSHFP.t ............... ok
t/05-SVCB.t ................ ok
t/05-TKEY.t ................ ok
t/05-TLSA.t ................ ok
t/05-TSIG.t ................ ok
t/05-TXT.t ................. ok
t/05-URI.t ................. ok
t/05-X25.t ................. ok
t/05-ZONEMD.t .............. ok
t/06-update-unique-push.t .. ok
t/06-update.t .............. ok
t/07-rrsort.t .............. ok
t/07-zonefile.t ............ ok
t/08-IPv4.t ................ ok
t/08-IPv6.t ................ ok
t/08-recurse.t ............. ok
t/21-NSEC-typelist.t ....... ok
t/22-NSEC-match.t .......... ok
t/23-NSEC-covered.t ........ ok
t/24-NSEC-encloser.t ....... ok
t/31-NSEC3-base32.t ........ ok
t/32-NSEC3-typelist.t ...... ok
t/33-NSEC3-hash.t .......... ok
t/34-NSEC3-flags.t ......... ok
t/36-NSEC3-covered.t ....... ok
t/37-NSEC3-encloser.t ...... ok
t/41-DNSKEY-keytag.t ....... ok
t/42-DNSKEY-flags.t ........ ok
t/43-DNSKEY-keylength.t .... ok
t/51-DS-SHA1.t ............. ok
t/52-DS-SHA256.t ........... ok
t/54-DS-SHA384.t ........... ok
t/71-TSIG-create.t ......... ok
t/72-TSIG-verify.t ......... ok
# Cleaning
t/99-cleanup.t ............. ok
All tests successful.
Files=105, Tests=3401, 63 wallclock secs ( 0.65 usr  0.12 sys + 17.73 cusr  1.14 csys = 19.64 CPU)
Result: PASS

------------------------------
PREREQUISITES
------------------------------

Prerequisite modules loaded:

runtime:

    Module              Need     Have    
    ------------------- -------- --------
    base                2.13     2.27    
    Carp                1.1      1.54    
    constant            1.17     1.33    
    Digest::HMAC        1.03     1.05    
    Digest::MD5         2.37     2.59    
    Digest::SHA         5.23     6.04    
    Encode              2.26     3.21    
    Exporter            5.63     5.78    
    File::Spec          3.29     3.91    
    integer             1        1.01    
    IO::File            1.14     1.55    
    IO::Select          1.17     1.55    
    IO::Socket          1.3      1.55    
    IO::Socket::IP      0.38     0.43    
    MIME::Base64        3.07     3.16_01 
    overload            1.06     1.37    
    perl                5.008009 5.040001
    PerlIO              1.05     1.12    
    Scalar::Util        1.19     1.68    
    Socket              1.81     2.038   
    strict              1.03     1.13    
    Time::Local         1.19     1.35    
    warnings            1.0501   1.70    

build:

    Module              Need     Have    
    ------------------- -------- --------
    ExtUtils::MakeMaker 0        7.70    

configure:

    Module              Need     Have    
    ------------------- -------- --------
    Config              0        5.040001
    ExtUtils::MakeMaker 6.48     7.70    
    Getopt::Long        2.43     2.58    
    IO::File            1.14     1.55    
    IO::Socket::IP      0.38     0.43    


------------------------------
ENVIRONMENT AND OTHER CONTEXT
------------------------------

Environment variables:

    LANG = en_US.UTF-8
    LANGUAGE = en_US
    PATH = /home/len/perl5/perlbrew/bin:/home/len/perl5/perlbrew/perls/perl-5.40.1/bin:/home/len/bin:/usr/local/lib/nodejs/node-v18.7.0-linux-x64/bin:/home/len/.rvm/gems/ruby-2.3.1/bin:/home/len/.rvm/gems/ruby-2.3.1@global/bin:/home/len/.rvm/rubies/ruby-2.3.1/bin:/usr/local/lib/nodejs/node-v18.7.0-linux-x64/bin:/usr/local/sbin:/usr/local/bin:/usr/sbin:/usr/bin:/sbin:/bin:/usr/games:/usr/local/games:/home/len/.rvm/bin:/home/len/.rvm/bin:/usr/local/heroku/bin:/home/len/.rvm/bin:/usr/local/bin:/usr/bin:/usr/local/go/bin:/home/len/go/bin
    PERL5LIB = /home/len/perl5/lib/perl5
    PERLBREW_HOME = /home/len/.perlbrew
    PERLBREW_MANPATH = /home/len/perl5/perlbrew/perls/perl-5.40.1/man
    PERLBREW_PATH = /home/len/perl5/perlbrew/bin:/home/len/perl5/perlbrew/perls/perl-5.40.1/bin
    PERLBREW_PERL = perl-5.40.1
    PERLBREW_ROOT = /home/len/perl5/perlbrew
    PERLBREW_SHELLRC_VERSION = 0.98
    PERLBREW_VERSION = 1.01
    SHELL = /bin/bash
    TERM = xterm

Perl special variables (and OS-specific diagnostics, for MSWin32):

    EGID = 1000 4 24 27 30 46 108 124 125 130 1000 1001
    EUID = 1000
    EXECUTABLE_NAME = /home/len/perl5/perlbrew/perls/perl-5.40.1/bin/perl
    GID = 1000 4 24 27 30 46 108 124 125 130 1000 1001
    UID = 1000

Perl module toolchain versions installed:

    Module              Have    
    ------------------- --------
    CPAN                2.38    
    CPAN::Meta          2.150010
    Cwd                 3.91    
    ExtUtils::CBuilder  0.280240
    ExtUtils::Command   7.70    
    ExtUtils::Install   2.22    
    ExtUtils::MakeMaker 7.70    
    ExtUtils::Manifest  1.75    
    ExtUtils::ParseXS   3.51    
    File::Spec          3.91    
    JSON                4.10    
    JSON::PP            4.16    
    Module::Build       0.4234  
    Module::Signature   n/a     
    Parse::CPAN::Meta   2.150010
    Test::Harness       3.50    
    Test::More          1.302209
    YAML                1.31    
    YAML::Syck          n/a     
    version             0.9933  


--

Summary of my perl5 (revision 5 version 40 subversion 1) configuration:
   
  Platform:
    osname=linux
    osvers=4.4.0-51-generic
    archname=x86_64-linux
    uname='linux echoes 4.4.0-51-generic #72~14.04.1-ubuntu smp thu nov 24 19:22:30 utc 2016 x86_64 x86_64 x86_64 gnulinux '
    config_args='-de -Dprefix=/home/len/perl5/perlbrew/perls/perl-5.40.1 -Aeval:scriptdir=/home/len/perl5/perlbrew/perls/perl-5.40.1/bin'
    hint=recommended
    useposix=true
    d_sigaction=define
    useithreads=undef
    usemultiplicity=undef
    use64bitint=define
    use64bitall=define
    uselongdouble=undef
    usemymalloc=n
    default_inc_excludes_dot=define
  Compiler:
    cc='cc'
    ccflags ='-std=gnu99 -fwrapv -fno-strict-aliasing -pipe -fstack-protector -I/usr/local/include -D_LARGEFILE_SOURCE -D_FILE_OFFSET_BITS=64'
    optimize='-O2'
    cppflags='-std=gnu99 -fwrapv -fno-strict-aliasing -pipe -fstack-protector -I/usr/local/include'
    ccversion=''
    gccversion='4.8.4'
    gccosandvers=''
    intsize=4
    longsize=8
    ptrsize=8
    doublesize=8
    byteorder=12345678
    doublekind=3
    d_longlong=define
    longlongsize=8
    d_longdbl=define
    longdblsize=16
    longdblkind=3
    ivtype='long'
    ivsize=8
    nvtype='double'
    nvsize=8
    Off_t='off_t'
    lseeksize=8
    alignbytes=8
    prototype=define
  Linker and Libraries:
    ld='cc'
    ldflags =' -fstack-protector -L/usr/local/lib'
    libpth=/usr/local/lib /usr/lib/x86_64-linux-gnu /usr/lib /lib/x86_64-linux-gnu /lib/../lib /usr/lib/../lib /lib /lib64 /usr/lib64
    libs=-lpthread -lgdbm -ldl -lm -lcrypt -lutil -lc -lgdbm_compat
    perllibs=-lpthread -ldl -lm -lcrypt -lutil -lc
    libc=libc-2.19.so
    so=so
    useshrplib=false
    libperl=libperl.a
    gnulibc_version='2.19'
  Dynamic Linking:
    dlsrc=dl_dlopen.xs
    dlext=so
    d_dlsymun=undef
    ccdlflags='-Wl,-E'
    cccdlflags='-fPIC'
    lddlflags='-shared -O2 -L/usr/local/lib -fstack-protector'


Characteristics of this binary (from libperl): 
  Compile-time options:
    HAS_LONG_DOUBLE
    HAS_STRTOLD
    HAS_TIMES
    PERLIO_LAYERS
    PERL_COPY_ON_WRITE
    PERL_DONT_CREATE_GVSV
    PERL_HASH_FUNC_SIPHASH13
    PERL_HASH_USE_SBOX32
    PERL_MALLOC_WRAP
    PERL_OP_PARENT
    PERL_PRESERVE_IVUV
    PERL_USE_SAFE_PUTENV
    USE_64_BIT_ALL
    USE_64_BIT_INT
    USE_LARGE_FILES
    USE_LOCALE
    USE_LOCALE_COLLATE
    USE_LOCALE_CTYPE
    USE_LOCALE_NUMERIC
    USE_LOCALE_TIME
    USE_PERLIO
    USE_PERL_ATOF
  Built under linux
  Compiled at Mar  2 2025 10:40:52
  %ENV:
    PERL5LIB="/home/len/perl5/lib/perl5"
    PERLBREW_HOME="/home/len/.perlbrew"
    PERLBREW_MANPATH="/home/len/perl5/perlbrew/perls/perl-5.40.1/man"
    PERLBREW_PATH="/home/len/perl5/perlbrew/bin:/home/len/perl5/perlbrew/perls/perl-5.40.1/bin"
    PERLBREW_PERL="perl-5.40.1"
    PERLBREW_ROOT="/home/len/perl5/perlbrew"
    PERLBREW_SHELLRC_VERSION="0.98"
    PERLBREW_VERSION="1.01"
  @INC:
    /home/len/perl5/lib/perl5
    /home/len/perl5/perlbrew/perls/perl-5.40.1/lib/site_perl/5.40.1/x86_64-linux
    /home/len/perl5/perlbrew/perls/perl-5.40.1/lib/site_perl/5.40.1
    /home/len/perl5/perlbrew/perls/perl-5.40.1/lib/5.40.1/x86_64-linux
    /home/len/perl5/perlbrew/perls/perl-5.40.1/lib/5.40.1