Dancer-Plugin-FontSubset v0.1.2 Perl 5 v5.14.4 x86_64-linux

Status
Pass
From
Andreas J. König (ANDK)
Dist
Dancer-Plugin-FontSubset v0.1.2
Platform
Perl 5 v5.14.4 x86_64-linux
Date
2017-11-09 20:26:29
ID
44bf116e-c58c-11e7-9c6e-fd090a32219d
This distribution has been tested as part of the CPAN Testers
project, supporting the Perl programming language.  See
http://wiki.cpantesters.org/ for more information or email
questions to cpan-testers-discuss@perl.org


--
Dear Yanick Champoux,

This is a computer-generated report for Dancer-Plugin-FontSubset-0.1.2
on perl 5.14.4, created by CPAN-Reporter-1.2018.

Thank you for uploading your work to CPAN.  Congratulations!
All tests were successful.

Sections of this report:

    * Tester comments
    * Program output
    * Prerequisites
    * Environment and other context

------------------------------
TESTER COMMENTS
------------------------------

Additional comments from tester:

this report is from an automated smoke testing program
and was not reviewed by a human for accuracy

------------------------------
PROGRAM OUTPUT
------------------------------

Output from './Build test':

t/00-compile.t ................ ok
# 
# 
# Generated by Dist::Zilla::Plugin::ReportVersions::Tiny v1.08
# perl: 5.014004 (wanted v5.12.0) on linux from /home/sand/src/perl/repoperls/installed-perls/host/k93msid/v5.14.4/d2d1/bin/perl
# 
# Dancer                                        => 1.3202     (want any version)
# Dancer::Plugin                                => 1.3202     (want any version)
# Dancer::Plugin::Cache::CHI                    => 1.4.0      (want any version)
# Dancer::Test                                  => 1.3202     (want any version)
# File::Find                                    => 1.19       (want any version)
# File::Temp                                    => 0.2304     (want any version)
# Font::TTF::Font                               => 0.39       (want any version)
# Font::TTF::Scripts::Name                      => <undef>    (want any version)
# List::AllUtils                                => 0.14       (want any version)
# Module::Build                                 => 0.4224     (want 0.3601) 
# Moo                                           => 2.003002   (want any version)
# MooX::Singleton                               => 1.20       (want any version)
# Test::More                                    => 1.302106   (want 0.88)   
# strict                                        => 1.04       (want any version)
# version                                       => 0.9918     (want 0.9901) 
# warnings                                      => 1.12       (want any version)
# 
# Thanks for using my code.  I hope it works for you.
# If not, please try and include this output in the bug report.
# That will help me reproduce the issue and solve your problem.
# 
t/000-report-versions-tiny.t .. ok
t/basic.t ..................... ok
t/cache.t ..................... ok
All tests successful.
Files=4, Tests=10,  5 wallclock secs ( 0.02 usr  0.04 sys +  1.23 cusr  0.29 csys =  1.58 CPU)
Result: PASS

------------------------------
PREREQUISITES
------------------------------

Prerequisite modules loaded:

requires:

    Module                     Need    Have    
    -------------------------- ------- --------
    Dancer                     0       1.3202  
    Dancer::Plugin             0       1.3202  
    Font::TTF::Font            0       0.39    
    Font::TTF::Scripts::Name   0       0       
    List::AllUtils             0       0.14    
    Moo                        0       2.003002
    MooX::Singleton            0       1.20    
    perl                       v5.12.0 5.014004
    warnings                   0       1.12    

build_requires:

    Module                     Need    Have    
    -------------------------- ------- --------
    Dancer::Plugin::Cache::CHI 0       1.4.0   
    Dancer::Test               0       1.3202  
    File::Find                 0       1.19    
    File::Temp                 0       0.2304  
    Module::Build              0.3601  0.4224  
    strict                     0       1.04    
    Test::More                 0.88    1.302106

configure_requires:

    Module                     Need    Have    
    -------------------------- ------- --------
    Module::Build              0.3601  0.4224  


------------------------------
ENVIRONMENT AND OTHER CONTEXT
------------------------------

Environment variables:

    AUTOMATED_TESTING = 1
    LANG = en_US.UTF-8
    PATH = /home/sand/bin:/usr/local/bin:/usr/bin:/bin:/usr/games:/usr/local/perl/bin:/usr/X11/bin:/sbin:/usr/sbin
    PERL5LIB = /tmp/loop_over_bdir-12544-WBJgC8/MooX-Singleton-1.20-0/blib/arch:/tmp/loop_over_bdir-12544-WBJgC8/MooX-Singleton-1.20-0/blib/lib:/tmp/loop_over_bdir-12544-WBJgC8/Font-TTF-Scripts-1.05-0/blib/arch:/tmp/loop_over_bdir-12544-WBJgC8/Font-TTF-Scripts-1.05-0/blib/lib:/tmp/loop_over_bdir-12544-WBJgC8/Text-Unicode-Equivalents-0.05-0/blib/arch:/tmp/loop_over_bdir-12544-WBJgC8/Text-Unicode-Equivalents-0.05-0/blib/lib:/tmp/loop_over_bdir-12544-WBJgC8/Text-PDF-0.29-0/blib/arch:/tmp/loop_over_bdir-12544-WBJgC8/Text-PDF-0.29-0/blib/lib:/tmp/loop_over_bdir-12544-WBJgC8/Dancer-Plugin-Cache-CHI-1.4.0-0/blib/arch:/tmp/loop_over_bdir-12544-WBJgC8/Dancer-Plugin-Cache-CHI-1.4.0-0/blib/lib:/tmp/loop_over_bdir-12544-WBJgC8/CHI-0.60-0/blib/arch:/tmp/loop_over_bdir-12544-WBJgC8/CHI-0.60-0/blib/lib:/tmp/loop_over_bdir-12544-WBJgC8/MooX-Types-MooseLike-Numeric-1.03-0/blib/arch:/tmp/loop_over_bdir-12544-WBJgC8/MooX-Types-MooseLike-Numeric-1.03-0/blib/lib:/tmp/loop_over_bdir-12544-WBJgC8/Hash-MoreUtils-0.05-0/blib/arch:/tmp/loop_over_bdir-12544-WBJgC8/Hash-MoreUtils-0.05-0/blib/lib
    PERL5OPT = 
    PERL5_CPANPLUS_IS_RUNNING = 12555
    PERL5_CPAN_IS_RUNNING = 12555
    PERL5_CPAN_IS_RUNNING_IN_RECURSION = 5905,12555
    PERL_CANARY_STABILITY_NOPROMPT = 1
    PERL_MM_USE_DEFAULT = 1
    PERL_USE_UNSAFE_INC = 1
    SHELL = /usr/bin/zsh
    TERM = screen

Perl special variables (and OS-specific diagnostics, for MSWin32):

    $^X = /home/sand/src/perl/repoperls/installed-perls/host/k93msid/v5.14.4/d2d1/bin/perl
    $UID/$EUID = 1005 / 1005
    $GID = 1005 1005
    $EGID = 1005 1005

Perl module toolchain versions installed:

    Module              Have    
    ------------------- --------
    CPAN                2.19    
    CPAN::Meta          2.150010
    Cwd                 3.62    
    ExtUtils::CBuilder  0.280226
    ExtUtils::Command   7.30    
    ExtUtils::Install   2.06    
    ExtUtils::MakeMaker 7.30    
    ExtUtils::Manifest  1.70    
    ExtUtils::ParseXS   3.35    
    File::Spec          3.62    
    JSON                2.94    
    JSON::PP            2.94    
    Module::Build       0.4224  
    Module::Signature   0.81    
    Parse::CPAN::Meta   2.150010
    Test::Harness       3.39    
    Test::More          1.302106
    YAML                1.24    
    YAML::Syck          1.30    
    version             0.9918  


--

Summary of my perl5 (revision 5 version 14 subversion 4) configuration:
  Derived from: 26c5c13a4ece9084f310610bb17fb2f24c72a73e
  Platform:
    osname=linux, osvers=4.12.0-2-amd64, archname=x86_64-linux
    uname='linux k93msid 4.12.0-2-amd64 #1 smp debian 4.12.13-1 (2017-09-19) x86_64 gnulinux '
    config_args='-Dprefix=/home/sand/src/perl/repoperls/installed-perls/host/k93msid/v5.14.4/d2d1 -Dmyhostname=k93msid -Dinstallusrbinperl=n -Uversiononly -Dusedevel -des -Ui_db -Dlibswanted=cl pthread socket inet nsl gdbm dbm malloc dl ld sun m crypt sec util c cposix posix ucb BSD gdbm_compat -Uuseithreads -Uuselongdouble -DDEBUGGING=both'
    hint=recommended, useposix=true, d_sigaction=define
    useithreads=undef, usemultiplicity=undef
    useperlio=define, d_sfio=undef, uselargefiles=define, usesocks=undef
    use64bitint=define, use64bitall=define, uselongdouble=undef
    usemymalloc=n, bincompat5005=undef
  Compiler:
    cc='cc', ccflags ='-DDEBUGGING -fno-strict-aliasing -pipe -fstack-protector -I/usr/local/include -D_LARGEFILE_SOURCE -D_FILE_OFFSET_BITS=64',
    optimize='-O2 -g',
    cppflags='-DDEBUGGING -fno-strict-aliasing -pipe -fstack-protector -I/usr/local/include'
    ccversion='', gccversion='7.2.0', gccosandvers=''
    intsize=4, longsize=8, ptrsize=8, doublesize=8, byteorder=12345678
    d_longlong=define, longlongsize=8, d_longdbl=define, longdblsize=16
    ivtype='long', ivsize=8, nvtype='double', nvsize=8, Off_t='off_t', lseeksize=8
    alignbytes=8, prototype=define
  Linker and Libraries:
    ld='cc', ldflags =' -fstack-protector -L/usr/local/lib'
    libpth=/usr/local/lib /lib/x86_64-linux-gnu /lib/../lib /usr/lib/x86_64-linux-gnu /usr/lib/../lib /lib /usr/lib
    libs=-lpthread -lnsl -ldl -lm -lcrypt -lutil -lc
    perllibs=-lpthread -lnsl -ldl -lm -lcrypt -lutil -lc
    libc=libc-2.24.so, so=so, useshrplib=false, libperl=libperl.a
    gnulibc_version='2.24'
  Dynamic Linking:
    dlsrc=dl_dlopen.xs, dlext=so, d_dlsymun=undef, ccdlflags='-Wl,-E'
    cccdlflags='-fPIC', lddlflags='-shared -O2 -g -L/usr/local/lib -fstack-protector'


Characteristics of this binary (from libperl): 
  Compile-time options: DEBUGGING PERL_DONT_CREATE_GVSV PERL_MALLOC_WRAP
                        PERL_PRESERVE_IVUV PERL_USE_DEVEL USE_64_BIT_ALL
                        USE_64_BIT_INT USE_LARGE_FILES USE_PERLIO
                        USE_PERL_ATOF
  Locally applied patches:
	uncommitted-changes
  Built under linux
  Compiled at Oct  3 2017 20:50:35
  %ENV:
    PERL5LIB="/tmp/loop_over_bdir-12544-WBJgC8/MooX-Singleton-1.20-0/blib/arch:/tmp/loop_over_bdir-12544-WBJgC8/MooX-Singleton-1.20-0/blib/lib:/tmp/loop_over_bdir-12544-WBJgC8/Font-TTF-Scripts-1.05-0/blib/arch:/tmp/loop_over_bdir-12544-WBJgC8/Font-TTF-Scripts-1.05-0/blib/lib:/tmp/loop_over_bdir-12544-WBJgC8/Text-Unicode-Equivalents-0.05-0/blib/arch:/tmp/loop_over_bdir-12544-WBJgC8/Text-Unicode-Equivalents-0.05-0/blib/lib:/tmp/loop_over_bdir-12544-WBJgC8/Text-PDF-0.29-0/blib/arch:/tmp/loop_over_bdir-12544-WBJgC8/Text-PDF-0.29-0/blib/lib:/tmp/loop_over_bdir-12544-WBJgC8/Dancer-Plugin-Cache-CHI-1.4.0-0/blib/arch:/tmp/loop_over_bdir-12544-WBJgC8/Dancer-Plugin-Cache-CHI-1.4.0-0/blib/lib:/tmp/loop_over_bdir-12544-WBJgC8/CHI-0.60-0/blib/arch:/tmp/loop_over_bdir-12544-WBJgC8/CHI-0.60-0/blib/lib:/tmp/loop_over_bdir-12544-WBJgC8/MooX-Types-MooseLike-Numeric-1.03-0/blib/arch:/tmp/loop_over_bdir-12544-WBJgC8/MooX-Types-MooseLike-Numeric-1.03-0/blib/lib:/tmp/loop_over_bdir-12544-WBJgC8/Hash-MoreUtils-0.05-0/blib/arch:/tmp/loop_over_bdir-12544-WBJgC8/Hash-MoreUtils-0.05-0/blib/lib"
    PERL5OPT=""
    PERL5_CPANPLUS_IS_RUNNING="12555"
    PERL5_CPAN_IS_RUNNING="12555"
    PERL5_CPAN_IS_RUNNING_IN_RECURSION="5905,12555"
    PERL_CANARY_STABILITY_NOPROMPT="1"
    PERL_MM_USE_DEFAULT="1"
    PERL_USE_UNSAFE_INC="1"
  @INC:
    /tmp/loop_over_bdir-12544-WBJgC8/MooX-Singleton-1.20-0/blib/arch
    /tmp/loop_over_bdir-12544-WBJgC8/MooX-Singleton-1.20-0/blib/lib
    /tmp/loop_over_bdir-12544-WBJgC8/Font-TTF-Scripts-1.05-0/blib/arch
    /tmp/loop_over_bdir-12544-WBJgC8/Font-TTF-Scripts-1.05-0/blib/lib
    /tmp/loop_over_bdir-12544-WBJgC8/Text-Unicode-Equivalents-0.05-0/blib/arch
    /tmp/loop_over_bdir-12544-WBJgC8/Text-Unicode-Equivalents-0.05-0/blib/lib
    /tmp/loop_over_bdir-12544-WBJgC8/Text-PDF-0.29-0/blib/arch
    /tmp/loop_over_bdir-12544-WBJgC8/Text-PDF-0.29-0/blib/lib
    /tmp/loop_over_bdir-12544-WBJgC8/Dancer-Plugin-Cache-CHI-1.4.0-0/blib/arch
    /tmp/loop_over_bdir-12544-WBJgC8/Dancer-Plugin-Cache-CHI-1.4.0-0/blib/lib
    /tmp/loop_over_bdir-12544-WBJgC8/CHI-0.60-0/blib/arch
    /tmp/loop_over_bdir-12544-WBJgC8/CHI-0.60-0/blib/lib
    /tmp/loop_over_bdir-12544-WBJgC8/MooX-Types-MooseLike-Numeric-1.03-0/blib/arch
    /tmp/loop_over_bdir-12544-WBJgC8/MooX-Types-MooseLike-Numeric-1.03-0/blib/lib
    /tmp/loop_over_bdir-12544-WBJgC8/Hash-MoreUtils-0.05-0/blib/arch
    /tmp/loop_over_bdir-12544-WBJgC8/Hash-MoreUtils-0.05-0/blib/lib
    /home/sand/src/perl/repoperls/installed-perls/host/k93msid/v5.14.4/d2d1/lib/site_perl/5.14.4/x86_64-linux
    /home/sand/src/perl/repoperls/installed-perls/host/k93msid/v5.14.4/d2d1/lib/site_perl/5.14.4
    /home/sand/src/perl/repoperls/installed-perls/host/k93msid/v5.14.4/d2d1/lib/5.14.4/x86_64-linux
    /home/sand/src/perl/repoperls/installed-perls/host/k93msid/v5.14.4/d2d1/lib/5.14.4
    .