Report for Module-Setup-0.09

Back
From: metabase:user:d2c9f356-b46f-11df-9a90-20a83c0b7757
Subject: PASS Module-Setup-0.09 v5.15.4 SunOS/Solaris
Date: 2011-11-06T21:42:47Z

This distribution has been tested as part of the CPAN Testers
project, supporting the Perl programming language.  See
http://wiki.cpantesters.org/ for more information or email
questions to cpan-testers-discuss@perl.org


--
Dear Kazuhiro Osawa,

This is a computer-generated report for Module-Setup-0.09
on perl 5.15.4, created by CPAN-Reporter-1.2002.

Thank you for uploading your work to CPAN.  Congratulations!
All tests were successful.

Sections of this report:

    * Tester comments
    * Program output
    * Prerequisites
    * Environment and other context

------------------------------
TESTER COMMENTS
------------------------------

Additional comments from tester:

this report is from an automated smoke testing program
and was not reviewed by a human for accuracy

------------------------------
PROGRAM OUTPUT
------------------------------

Output from '/usr/local/bin/make test':

PERL_DL_NONLAZY=1 /export/home/cpant4/perl5/bin/perl5.15.4 "-MExtUtils::Command::MM" "-e" "test_harness(0, 'inc', 'blib/lib', 'blib/arch')" t/*.t t/*/*.t
t/00_compile.t .................................... ok
t/010_core/detect-flavor-tests-error.t ............ ok
t/010_core/detect_module_and_flavor_name_error.t .. ok
t/010_core/dialog.t ............................... ok
t/010_core/distribute.t ........................... ok
t/010_core/flavor.t ............................... ok
t/010_core/load_argv.t ............................ ok
t/010_core/path.t ................................. ok
t/010_core/select-flavor.t ........................ ok
t/010_core/setup_base_dir.t ....................... ok
t/010_core/setup_options.t ........................ ok
t/010_core/setup_options_code.t ................... ok
t/010_core/stdout-log.t ........................... ok
t/010_core/system.t ............................... ok
t/010_core/test_util.t ............................ ok
t/020_run/additional.t ............................ ok
t/020_run/binary.t ................................ ok
t/020_run/direct.t ................................ ok
t/020_run/dupe-flavor.t ........................... ok
t/020_run/dupe.t .................................. ok
t/020_run/empty_dir.t ............................. ok
t/020_run/fail_flavor.t ........................... ok
t/020_run/hasnt-flavorclass.t ..................... ok
t/020_run/init.t .................................. ok
t/020_run/nullflavors.t ........................... ok
t/020_run/pack-additional.t ....................... ok
t/020_run/pack.t .................................. ok
t/020_run/simple.t ................................ ok
t/030_plugin/append_template_file.t ............... ok
t/030_plugin/append_template_file2.t .............. ok
t/030_plugin/illegalplugin.t ...................... ok
t/030_plugin/illegalpluginconfig.t ................ ok
t/030_plugin/localplugin.t ........................ ok
t/030_plugin/plain.t .............................. ok
Can't exec "git": No such file or directory at t/030_plugin/site_github.t line 4.
t/030_plugin/site_github.t ........................ skipped: git is not installed.
t/030_plugin/template.t ........................... ok
cannot remove path when cwd is /tmp/f3VjiOf4G7/Test-Makefile3_3 for /tmp/f3VjiOf4G7:  at /export/home/cpant4/perl5/lib/5.15.4/File/Temp.pm line 2445
t/030_plugin/test_makefile.t ...................... ok
Can't exec "git": No such file or directory at t/030_plugin/vc_git.t line 4.
t/030_plugin/vc_git.t ............................. skipped: git is not installed.
Name "Module::Setup::Flavor::Default::setup_config" used only once: possible typo at t/030_plugin/vc_svk.t line 17.
t/030_plugin/vc_svk.t ............................. ok
t/030_plugin/vc_svn.t ............................. ok
t/040_flavor/coderepos.t .......................... ok
t/040_flavor/default-setup_config.t ............... ok
t/040_flavor/default.t ............................ ok
Can't exec "git": No such file or directory at /export/home/cpant4/.cpan/build/Module-Setup-0.09-F8o9al/blib/lib/Module/Setup.pm line 564, <DATA> line 1.
Use of uninitialized value $user in scalar chomp at /export/home/cpant4/.cpan/build/Module-Setup-0.09-F8o9al/blib/lib/Module/Setup/Plugin/Site/GitHub.pm line 40, <DATA> line 1.
Can't exec "git": No such file or directory at /export/home/cpant4/.cpan/build/Module-Setup-0.09-F8o9al/blib/lib/Module/Setup.pm line 564, <DATA> line 1.
Use of uninitialized value $token in scalar chomp at /export/home/cpant4/.cpan/build/Module-Setup-0.09-F8o9al/blib/lib/Module/Setup/Plugin/Site/GitHub.pm line 42, <DATA> line 1.
t/040_flavor/github.t ............................. ok
t/050_helper/basic-callback.t ..................... ok
t/050_helper/basic-foo.t .......................... ok
t/050_helper/basic.t .............................. ok
All tests successful.
Files=47, Tests=430, 18 wallclock secs ( 0.21 usr  0.08 sys + 15.04 cusr  1.96 csys = 17.29 CPU)
Result: PASS

------------------------------
PREREQUISITES
------------------------------

Prerequisite modules loaded:

requires:

    Module                       Need Have   
    ---------------------------- ---- -------
    Class::Trigger               0    0.14   
    Cwd                          0    3.37   
    ExtUtils::MakeMaker          0    6.62   
    File::Basename               0    2.83   
    File::Find::Rule             0    0.33   
    File::HomeDir                0    0.98   
    File::Path                   0    2.08_01
    File::Temp                   0.2  0.22   
    Filter::Util::Call           0    1.39   
    Getopt::Long                 0    2.38   
    IO::Scalar                   0    2.110  
    LWP::UserAgent               0    6.03   
    Module::Collect              0.06 0.06   
    Module::Install::AuthorTests 0    0.002  
    Module::Install::Repository  0    0.06   
    Path::Class                  0    0.24   
    Pod::Usage                   0    1.36   
    Scalar::Util                 0    1.23   
    Storable                     0    2.32   
    Template                     2.2  2.22   
    Test::More                   0    0.98   
    Test::Requires               0    0.06   
    Text::Patch                  0    1.8    
    YAML                         0    0.77   

build_requires:

    Module                       Need Have   
    ---------------------------- ---- -------
    ExtUtils::MakeMaker          0    6.62   

configure_requires:

    Module                       Need Have   
    ---------------------------- ---- -------
    ExtUtils::MakeMaker          6.42 6.62   


------------------------------
ENVIRONMENT AND OTHER CONTEXT
------------------------------

Environment variables:

    AUTOMATED_TESTING = 1
    LANG = C
    LD_LIBRARY_PATH = /usr/local/lib:
    PATH = /export/home/cpant4/perl5/bin:/usr/local/bin:/usr/bin
    PERL5LIB = /export/home/cpant4/.cpan/build/Module-Install-Repository-0.06-eVugg_/blib/arch:/export/home/cpant4/.cpan/build/Module-Install-Repository-0.06-eVugg_/blib/lib:/export/home/cpant4/.cpan/build/Class-Trigger-0.14-gi620p/blib/arch:/export/home/cpant4/.cpan/build/Class-Trigger-0.14-gi620p/blib/lib:/export/home/cpant4/.cpan/build/Template-Toolkit-2.22-kDulYL/blib/arch:/export/home/cpant4/.cpan/build/Template-Toolkit-2.22-kDulYL/blib/lib:/export/home/cpant4/.cpan/build/Module-Install-AuthorTests-0.002-Se6u2x/blib/arch:/export/home/cpant4/.cpan/build/Module-Install-AuthorTests-0.002-Se6u2x/blib/lib:/export/home/cpant4/.cpan/build/Module-Install-1.04-6pDVY7/blib/arch:/export/home/cpant4/.cpan/build/Module-Install-1.04-6pDVY7/blib/lib:/export/home/cpant4/.cpan/build/YAML-Tiny-1.50-xEIK3O/blib/arch:/export/home/cpant4/.cpan/build/YAML-Tiny-1.50-xEIK3O/blib/lib:/export/home/cpant4/.cpan/build/Module-Collect-0.06-sdscnf/blib/arch:/export/home/cpant4/.cpan/build/Module-Collect-0.06-sdscnf/blib/lib
    PERL5OPT = 
    PERL5_CPANPLUS_IS_RUNNING = 3145
    PERL5_CPAN_IS_RUNNING = 3145
    PERL5_CPAN_IS_RUNNING_IN_RECURSION = 8306,3145
    PERL_CR_SMOKER_CURRENT = Task-BeLike-JJNAPIORK-0.09
    PERL_EXTUTILS_AUTOINSTALL = --defaultdeps
    PERL_MM_USE_DEFAULT = 1
    SHELL = /bin/bash
    TERM = xterm

Perl special variables (and OS-specific diagnostics, for MSWin32):

    $^X = /export/home/cpant4/perl5/bin/perl5.15.4
    $UID/$EUID = 104 / 104
    $GID = 1 1
    $EGID = 1 1

Perl module toolchain versions installed:

    Module              Have    
    ------------------- --------
    CPAN                1.9800  
    CPAN::Meta          2.112621
    Cwd                 3.37    
    ExtUtils::CBuilder  0.280204
    ExtUtils::Command   1.17    
    ExtUtils::Install   1.57    
    ExtUtils::MakeMaker 6.62    
    ExtUtils::Manifest  1.60    
    ExtUtils::ParseXS   3.05    
    File::Spec          3.34    
    JSON                2.53    
    JSON::PP            2.27200 
    Module::Build       0.39_01 
    Module::Signature   n/a     
    Parse::CPAN::Meta   1.4401  
    Test::Harness       3.23    
    Test::More          0.98    
    YAML                0.77    
    YAML::Syck          n/a     
    version             0.94    


--

Summary of my perl5 (revision 5 version 15 subversion 4) configuration:
   
  Platform:
    osname=solaris, osvers=2.10, archname=i86pc-solaris-64int
    uname='sunos vmrz0046 5.10 generic_141445-09 i86pc i386 i86pc solaris '
    config_args='-Dcc=gcc -Dprefix=~/perl5 -Duse64bitint -Dusedevel -d'
    hint=recommended, useposix=true, d_sigaction=define
    useithreads=undef, usemultiplicity=undef
    useperlio=define, d_sfio=undef, uselargefiles=define, usesocks=undef
    use64bitint=define, use64bitall=undef, uselongdouble=undef
    usemymalloc=n, bincompat5005=undef
  Compiler:
    cc='gcc', ccflags ='-DPTR_IS_LONG -fno-strict-aliasing -pipe -I/usr/local/include -D_LARGEFILE_SOURCE -D_FILE_OFFSET_BITS=64 -DPERL_USE_SAFE_PUTENV',
    optimize='-O',
    cppflags='-DPTR_IS_LONG -fno-strict-aliasing -pipe -I/usr/local/include'
    ccversion='', gccversion='3.4.6', gccosandvers='solaris2.10'
    intsize=4, longsize=4, ptrsize=4, doublesize=8, byteorder=12345678
    d_longlong=define, longlongsize=8, d_longdbl=define, longdblsize=12
    ivtype='long long', ivsize=8, nvtype='double', nvsize=8, Off_t='off_t', lseeksize=8
    alignbytes=4, prototype=define
  Linker and Libraries:
    ld='gcc', ldflags =' -L/usr/local/lib '
    libpth=/usr/local/lib /usr/lib /usr/ccs/lib
    libs=-lsocket -lnsl -lgdbm -ldl -lm -lc
    perllibs=-lsocket -lnsl -ldl -lm -lc
    libc=/lib/libc.so, so=so, useshrplib=false, libperl=libperl.a
    gnulibc_version=''
  Dynamic Linking:
    dlsrc=dl_dlopen.xs, dlext=so, d_dlsymun=undef, ccdlflags=' '
    cccdlflags='-fPIC', lddlflags='-G -L/usr/local/lib'


Characteristics of this binary (from libperl): 
  Compile-time options: HAS_TIMES PERLIO_LAYERS PERL_DONT_CREATE_GVSV
                        PERL_MALLOC_WRAP PERL_PRESERVE_IVUV PERL_USE_DEVEL
                        PERL_USE_SAFE_PUTENV USE_64_BIT_INT USE_LARGE_FILES
                        USE_LOCALE USE_LOCALE_COLLATE USE_LOCALE_CTYPE
                        USE_LOCALE_NUMERIC USE_PERLIO USE_PERL_ATOF
  Built under solaris
  Compiled at Oct 24 2011 11:26:38
  %ENV:
    PERL5LIB="/export/home/cpant4/.cpan/build/Module-Install-Repository-0.06-eVugg_/blib/arch:/export/home/cpant4/.cpan/build/Module-Install-Repository-0.06-eVugg_/blib/lib:/export/home/cpant4/.cpan/build/Class-Trigger-0.14-gi620p/blib/arch:/export/home/cpant4/.cpan/build/Class-Trigger-0.14-gi620p/blib/lib:/export/home/cpant4/.cpan/build/Template-Toolkit-2.22-kDulYL/blib/arch:/export/home/cpant4/.cpan/build/Template-Toolkit-2.22-kDulYL/blib/lib:/export/home/cpant4/.cpan/build/Module-Install-AuthorTests-0.002-Se6u2x/blib/arch:/export/home/cpant4/.cpan/build/Module-Install-AuthorTests-0.002-Se6u2x/blib/lib:/export/home/cpant4/.cpan/build/Module-Install-1.04-6pDVY7/blib/arch:/export/home/cpant4/.cpan/build/Module-Install-1.04-6pDVY7/blib/lib:/export/home/cpant4/.cpan/build/YAML-Tiny-1.50-xEIK3O/blib/arch:/export/home/cpant4/.cpan/build/YAML-Tiny-1.50-xEIK3O/blib/lib:/export/home/cpant4/.cpan/build/Module-Collect-0.06-sdscnf/blib/arch:/export/home/cpant4/.cpan/build/Module-Collect-0.06-sdscnf/blib/lib"
    PERL5OPT=""
    PERL5_CPANPLUS_IS_RUNNING="3145"
    PERL5_CPAN_IS_RUNNING="3145"
    PERL5_CPAN_IS_RUNNING_IN_RECURSION="8306,3145"
    PERL_CR_SMOKER_CURRENT="Task-BeLike-JJNAPIORK-0.09"
    PERL_EXTUTILS_AUTOINSTALL="--defaultdeps"
    PERL_MM_USE_DEFAULT="1"
  @INC:
    /export/home/cpant4/.cpan/build/Module-Install-Repository-0.06-eVugg_/blib/arch
    /export/home/cpant4/.cpan/build/Module-Install-Repository-0.06-eVugg_/blib/lib
    /export/home/cpant4/.cpan/build/Class-Trigger-0.14-gi620p/blib/arch
    /export/home/cpant4/.cpan/build/Class-Trigger-0.14-gi620p/blib/lib
    /export/home/cpant4/.cpan/build/Template-Toolkit-2.22-kDulYL/blib/arch
    /export/home/cpant4/.cpan/build/Template-Toolkit-2.22-kDulYL/blib/lib
    /export/home/cpant4/.cpan/build/Module-Install-AuthorTests-0.002-Se6u2x/blib/arch
    /export/home/cpant4/.cpan/build/Module-Install-AuthorTests-0.002-Se6u2x/blib/lib
    /export/home/cpant4/.cpan/build/Module-Install-1.04-6pDVY7/blib/arch
    /export/home/cpant4/.cpan/build/Module-Install-1.04-6pDVY7/blib/lib
    /export/home/cpant4/.cpan/build/YAML-Tiny-1.50-xEIK3O/blib/arch
    /export/home/cpant4/.cpan/build/YAML-Tiny-1.50-xEIK3O/blib/lib
    /export/home/cpant4/.cpan/build/Module-Collect-0.06-sdscnf/blib/arch
    /export/home/cpant4/.cpan/build/Module-Collect-0.06-sdscnf/blib/lib
    /export/home/cpant4/perl5/lib/site_perl/5.15.4/i86pc-solaris-64int
    /export/home/cpant4/perl5/lib/site_perl/5.15.4
    /export/home/cpant4/perl5/lib/5.15.4/i86pc-solaris-64int
    /export/home/cpant4/perl5/lib/5.15.4
    /export/home/cpant4/perl5/lib/site_perl
    .