Report for MetaPOD-Format-JSON-0.3.0

Back
From: metabase:user:43e5c9e0-6c15-1014-a87a-699bdef9c21c
Subject: PASS MetaPOD-Format-JSON-0.3.0 v5.19.11 
Date: 2014-04-25T08:52:53Z

This distribution has been tested as part of the CPAN Testers
project, supporting the Perl programming language.  See
http://wiki.cpantesters.org/ for more information or email
questions to cpan-testers-discuss@perl.org


--
Dear KENTNL,

This is a computer-generated report for MetaPOD-Format-JSON-0.3.0
on perl 5.19.11, created by App::cpanminus::reporter 0.10 (1.7001).

Thank you for uploading your work to CPAN.  Congratulations!
All tests were successful.

Sections of this report:

    * Tester comments
    * Program output
    * Prerequisites
    * Environment and other context

------------------------------
TESTER COMMENTS
------------------------------

Additional comments from tester:

none provided

------------------------------
PROGRAM OUTPUT
------------------------------

Output from '':

Building and testing MetaPOD-Format-JSON-0.3.0
Building MetaPOD-Format-JSON
t/00-compile/lib_MetaPOD_Format_JSON_Decoder_v1_pm.t ...... ok
t/00-compile/lib_MetaPOD_Format_JSON_PostCheck_v1_pm.t .... ok
t/00-compile/lib_MetaPOD_Format_JSON_does_v1_pm.t ......... ok
t/00-compile/lib_MetaPOD_Format_JSON_inherits_v1_pm.t ..... ok
t/00-compile/lib_MetaPOD_Format_JSON_interface_v1_1_pm.t .. ok
t/00-compile/lib_MetaPOD_Format_JSON_namespace_v1_pm.t .... ok
t/00-compile/lib_MetaPOD_Format_JSON_pm.t ................. ok
t/00-compile/lib_MetaPOD_Format_JSON_v1_1_pm.t ............ ok
t/00-compile/lib_MetaPOD_Format_JSON_v1_pm.t .............. ok
# 
# 
# Generated by Dist::Zilla::Plugin::ReportVersions::Tiny v1.10
# perl: 5.019011 (wanted v5.10.0) on MSWin32 from C:\strawberry-5.19.11\perl\bin\perl.exe
# 
# Carp                                          => 1.3301     (want any version)
# FindBin                                       => 1.51       (want any version)
# JSON                                          => 2.90       (want any version)
# MetaPOD::Assembler                            => 0.3.6      (want any version)
# MetaPOD::Exception::Decode::Data              => 0.3.6      (want any version)
# MetaPOD::Role::Format                         => 0.3.6      (want any version)
# Module::Build                                 => 0.4205     (want 0.4202) 
# Moo                                           => 1.004002   (want 1.000008)
# Moo::Role                                     => 1.004002   (want any version)
# Path::Iterator::Rule                          => 1.008      (want any version)
# Path::Tiny                                    => 0.052      (want any version)
# Test::Fatal                                   => 0.013      (want any version)
# Test::More                                    => 1.001003   (want 1.001002)
# Try::Tiny                                     => 0.21       (want any version)
# strict                                        => 1.08       (want any version)
# version                                       => 0.9908     (want 0.77)   
# warnings                                      => 1.23       (want any version)
# 
# Thanks for using my code.  I hope it works for you.
# If not, please try and include this output in the bug report.
# That will help me reproduce the issue and solve your problem.
# 
t/000-report-versions-tiny.t .............................. ok
t/05-format-json/01-basic.t ............................... ok
t/self-extract.t .......................................... ok
All tests successful.
Files=12, Tests=22,  4 wallclock secs ( 0.14 usr +  0.03 sys =  0.17 CPU)
Result: PASS

------------------------------
PREREQUISITES
------------------------------

Prerequisite modules loaded:

    No requirements found

------------------------------
ENVIRONMENT AND OTHER CONTEXT
------------------------------

Environment variables:

    COMSPEC = C:\Windows\system32\cmd.exe
    NUMBER_OF_PROCESSORS = 4
    PATH = C:\Program Files (x86)\NVIDIA Corporation\PhysX\Common;C:\Program Files (x86)\Intel\iCLS Client\;C:\Program Files\Intel\iCLS Client\;C:\Windows\system32;C:\Windows;C:\Windows\System32\Wbem;C:\Windows\System32\WindowsPowerShell\v1.0\;C:\Program Files (x86)\Intel\OpenCL SDK\2.0\bin\x86;C:\Program Files (x86)\Intel\OpenCL SDK\2.0\bin\x64;C:\strawberry-5.19.11\c\bin;C:\strawberry-5.19.11\perl\site\bin;C:\strawberry-5.19.11\perl\bin
    PROCESSOR_IDENTIFIER = Intel64 Family 6 Model 42 Stepping 7, GenuineIntel
    TEMP = C:\Users\Kent\AppData\Local\Temp

Perl special variables (and OS-specific diagnostics, for MSWin32):

    EGID = 0
    EUID = 0
    EXECUTABLE_NAME = C:\strawberry-5.19.11\perl\bin\perl.exe
    GID = 0
    UID = 0
    Win32::FsType = NTFS
    Win32::GetOSName = Win7
    Win32::GetOSVersion = Service Pack 1, 6, 1, 7601, 2, 1, 0, 256, 1
    Win32::IsAdminUser = 0

Perl module toolchain versions installed:

    Module              Have    
    ------------------- --------
    CPAN                2.05    
    CPAN::Meta          2.140640
    Cwd                 3.47    
    ExtUtils::CBuilder  0.280216
    ExtUtils::Command   1.18    
    ExtUtils::Install   1.67    
    ExtUtils::MakeMaker 6.96    
    ExtUtils::Manifest  1.63    
    ExtUtils::ParseXS   3.24    
    File::Spec          3.47    
    JSON                2.90    
    JSON::PP            2.27203 
    Module::Build       0.4205  
    Module::Signature   n/a     
    Parse::CPAN::Meta   1.4414  
    Test::Harness       3.30    
    Test::More          1.001003
    YAML                0.90    
    YAML::Syck          n/a     
    version             0.9908  


--

Summary of my perl5 (revision 5 version 19 subversion 11) configuration:
   
  Platform:
    osname=MSWin32, osvers=6.1, archname=MSWin32-x64-multi-thread
    uname='Win32 strawberry-perl 5.19.11.1 #1 Wed Apr 23 11:18:31 2014 x64'
    config_args='undef'
    hint=recommended, useposix=true, d_sigaction=undef
    useithreads=define, usemultiplicity=define
    use64bitint=define, use64bitall=undef, uselongdouble=undef
    usemymalloc=n, bincompat5005=undef
  Compiler:
    cc='gcc', ccflags =' -s -O2 -DWIN32 -DWIN64 -DCONSERVATIVE  -DPERL_TEXTMODE_SCRIPTS -DPERL_IMPLICIT_CONTEXT -DPERL_IMPLICIT_SYS -DUSE_PERLIO -fno-strict-aliasing -mms-bitfields',
    optimize='-s -O2',
    cppflags='-DWIN32'
    ccversion='', gccversion='4.8.2', gccosandvers=''
    intsize=4, longsize=4, ptrsize=8, doublesize=8, byteorder=12345678
    d_longlong=define, longlongsize=8, d_longdbl=define, longdblsize=12
    ivtype='long long', ivsize=8, nvtype='double', nvsize=8, Off_t='long long', lseeksize=8
    alignbytes=8, prototype=define
  Linker and Libraries:
    ld='g++', ldflags ='-s -L"C:\STRAWB~1.11\perl\lib\CORE" -L"C:\STRAWB~1.11\c\lib"'
    libpth=C:\STRAWB~1.11\c\lib C:\STRAWB~1.11\c\x86_64-w64-mingw32\lib C:\STRAWB~1.11\c\lib\gcc\x86_64-w64-mingw32\4.8.2
    libs=-lmoldname -lkernel32 -luser32 -lgdi32 -lwinspool -lcomdlg32 -ladvapi32 -lshell32 -lole32 -loleaut32 -lnetapi32 -luuid -lws2_32 -lmpr -lwinmm -lversion -lodbc32 -lodbccp32 -lcomctl32
    perllibs=-lmoldname -lkernel32 -luser32 -lgdi32 -lwinspool -lcomdlg32 -ladvapi32 -lshell32 -lole32 -loleaut32 -lnetapi32 -luuid -lws2_32 -lmpr -lwinmm -lversion -lodbc32 -lodbccp32 -lcomctl32
    libc=, so=dll, useshrplib=true, libperl=libperl519.a
    gnulibc_version=''
  Dynamic Linking:
    dlsrc=dl_win32.xs, dlext=xs.dll, d_dlsymun=undef, ccdlflags=' '
    cccdlflags=' ', lddlflags='-mdll -s -L"C:\STRAWB~1.11\perl\lib\CORE" -L"C:\STRAWB~1.11\c\lib"'


Characteristics of this binary (from libperl): 
  Compile-time options: HAS_TIMES HAVE_INTERP_INTERN MULTIPLICITY
                        PERLIO_LAYERS PERL_DONT_CREATE_GVSV
                        PERL_HASH_FUNC_ONE_AT_A_TIME_HARD
                        PERL_IMPLICIT_CONTEXT PERL_IMPLICIT_SYS
                        PERL_MALLOC_WRAP PERL_NEW_COPY_ON_WRITE
                        PERL_PRESERVE_IVUV USE_64_BIT_INT USE_ITHREADS
                        USE_LARGE_FILES USE_LOCALE USE_LOCALE_COLLATE
                        USE_LOCALE_CTYPE USE_LOCALE_NUMERIC USE_PERLIO
                        USE_PERL_ATOF
  Built under MSWin32
  Compiled at Apr 23 2014 11:20:46
  @INC:
    C:/strawberry-5.19.11/perl/site/lib/MSWin32-x64-multi-thread
    C:/strawberry-5.19.11/perl/site/lib
    C:/strawberry-5.19.11/perl/vendor/lib
    C:/strawberry-5.19.11/perl/lib
    .