Report for Crypt-SSLeay-0.72

Back
From: metabase:user:af96679a-7f7c-1014-abd5-eff69454ae4a
Subject: PASS Crypt-SSLeay-0.72 v5.14.2 
Date: 2014-04-28T15:13:52Z

This distribution has been tested as part of the CPAN Testers
project, supporting the Perl programming language.  See
http://wiki.cpantesters.org/ for more information or email
questions to cpan-testers-discuss@perl.org


--
Dear A. Sinan Unur,

This is a computer-generated report for Crypt-SSLeay-0.72
on perl 5.14.2, created by CPAN-Reporter-1.2011.

Thank you for uploading your work to CPAN.  Congratulations!
All tests were successful.

Sections of this report:

    * Tester comments
    * Program output
    * Prerequisites
    * Environment and other context

------------------------------
TESTER COMMENTS
------------------------------

Additional comments from tester:

none provided

------------------------------
PROGRAM OUTPUT
------------------------------

Output from 'D:\PROGRAMS\Microsoft_Visual_Studio_8\VC\BIN\nmake.EXE test':


Microsoft (R) Program Maintenance Utility Version 8.00.50727.42
Copyright (C) Microsoft Corporation.  All rights reserved.

	D:\PROGRAMS\perl\5.14.2\bin\perl.exe "-MExtUtils::Command::MM" "-MTest::Harness" "-e" "undef *Test::Harness::Switches; test_harness(0, 'blib\lib', 'blib\arch')" t/*.t
t/00-basic.t ..... ok
t/01-connect.t ... ok
# Reading configuration from 'test.config' on MSWin32
# network_tests : 1
# [RT #73755] Cheat by disabling LWP::UserAgent host verification
t/02-live.t ...... ok
#     You have 'OpenSSL 1.0.1e 11 Feb 2013'
#     built on 'built on: Mon May 27 14:25:11 2013'
#     and SSL Heartbeats are not disabled.
# 
#     That means your client may be vulnerable to a server exploiting the
#     Heartbleed bug unless the vulnerability was patched without changing
#     version. The vulnerability was disclosed on or about 2014/04/07. A
#     build date after that may indicate that the library you are using
#     may have been patched. You should check this.
# 
#     The risk is compounded by the fact that Crypt::SSLeay does not
#     verify hosts.  You can still force install Crypt::SSLeay, but you
#     need to be aware of this issue, and strongly consider upgrading to a
#     safer version of OpenSSL.
# 
#     See also:
# 
#       - https://cve.mitre.org/cgi-bin/cvename.cgi?name=CVE-2014-0160
#       - http://isc.sans.edu/diary/17945
#       - http://seclists.org/fulldisclosure/2014/Apr/91
t/03-version.t ... ok
t/boilerplate.t .. ok
t/manifest.t ..... skipped: Author tests not required for installation
All tests successful.
Files=6, Tests=52, 17 wallclock secs ( 0.09 usr +  0.06 sys =  0.16 CPU)
Result: PASS

------------------------------
PREREQUISITES
------------------------------

Prerequisite modules loaded:

requires:

    Module               Need     Have    
    -------------------- -------- --------
    LWP::Protocol::https 6.02     6.04    
    MIME::Base64         0        3.14    
    perl                 5.006    5.014002

build_requires:

    Module               Need     Have    
    -------------------- -------- --------
    ExtUtils::MakeMaker  0        6.96    
    Test::More           0.19     1.001003
    Try::Tiny            0.19     0.21    

configure_requires:

    Module               Need     Have    
    -------------------- -------- --------
    ExtUtils::CBuilder   0.280205 0.280216
    Getopt::Long         0        2.42    
    Path::Class          0.26     0.33    
    Try::Tiny            0.19     0.21    


------------------------------
ENVIRONMENT AND OTHER CONTEXT
------------------------------

Environment variables:

    COMSPEC = C:\WINDOWS\system32\cmd.exe
    CRYPT_SSLEAY_LIVE_TEST_WANTED = 1
    INCLUDE = D:\PROGRAMS\OpenSSL\include;D:\Programs\Microsoft_Visual_Studio_8\VC\ATLMFC\INCLUDE;D:\Programs\Microsoft_Visual_Studio_8\VC\INCLUDE;D:\Programs\Microsoft_Visual_Studio_8\VC\PlatformSDK\include;D:\Programs\Microsoft_Visual_Studio_8\SDK\v2.0\include;
    LIB = D:\PROGRAMS\OpenSSL\lib;D:\Programs\Microsoft_Visual_Studio_8\VC\ATLMFC\LIB;D:\Programs\Microsoft_Visual_Studio_8\VC\LIB;D:\Programs\Microsoft_Visual_Studio_8\VC\PlatformSDK\lib;D:\Programs\Microsoft_Visual_Studio_8\SDK\v2.0\lib;
    NUMBER_OF_PROCESSORS = 2
    PATH = D:\Programs\Microsoft_Visual_Studio_8\Common7\IDE;D:\Programs\Microsoft_Visual_Studio_8\VC\BIN;D:\Programs\Microsoft_Visual_Studio_8\Common7\Tools;D:\Programs\Microsoft_Visual_Studio_8\Common7\Tools\bin;D:\Programs\Microsoft_Visual_Studio_8\VC\PlatformSDK\bin;D:\Programs\Microsoft_Visual_Studio_8\SDK\v2.0\bin;C:\WINDOWS\Microsoft.NET\Framework\v2.0.50727;D:\Programs\Microsoft_Visual_Studio_8\VC\VCPackages;D:\Programs\Sybase\Jaguar CTS 3.5\bin;D:\Programs\Sybase\Jaguar CTS 3.5\dll;D:\Programs\Sybase\Jaguar CTS 3.5\client\dll;D:\Programs\Sybase\Shared\Sun\JDK118\bin;D:\Programs\Sybase\Shared\PowerBuilder;C:\WINDOWS\system32;C:\WINDOWS;C:\WINDOWS\System32\Wbem;C:\Program Files\ATI Technologies\ATI.ACE;C:\Program Files\Hummingbird\Connectivity\7.11\Accessories;C:\WINDOWS\system32\WindowsPowerShell\v1.0;D:\PROGRAMS\perl\5.14.2\bin;D:\PROGRAMS\OpenSSL\bin;D:\PROGRAMS\NASM;D:\Programs\Rational\ClearCase\bin;D:\Programs\Rational\common;d:\programs\gnu\gnupg;D:\PROGRAMS\SQLANY50\win32;D:\PROGRAMS\SYBTOOLS\win32;D:\PROGRAMS\SQLANY50\win;D:\PROGRAMS\ORANT\Bin;D:\PROGRAMS\ascom\pms_7_30_07_I\actif\System;D:\Programs\Sybase\Shared\Web Targets;D:\Programs\Sybase\Shared\PowerBuilder;D:\Programs\Sybase\SQL Anywhere 7\win32;D:\Programs\Sybase\Shared\win32;D:\Programs\Sybase\Shared\Sybase Central 4.0\java;D:\Programs\Sybase\PowerDynamo\win32;D:\Programs\Sybase\Shared\Sun\jdk118\bin;C:\Program Files\CVSNT\;D:\PROGRAMS\ORANT\BIN;D:\PROGRAMS\bin
    PERL5LIB = D:\temp\.cpan\mylib
    PERL5OPT = 
    PERL5_CPANPLUS_IS_RUNNING = 4500
    PERL5_CPAN_IS_RUNNING = 4500
    PERL_CPAN_REPORTER_DIR = D:\temp\.cpan\cpanreporter
    PROCESSOR_IDENTIFIER = x86 Family 6 Model 15 Stepping 2, GenuineIntel
    TEMP = D:\temp\.cpan\temp
    TERM = dumb

Perl special variables (and OS-specific diagnostics, for MSWin32):

    $^X = D:\PROGRAMS\perl\5.14.2\bin\perl.exe
    $UID/$EUID = 0 / 0
    $GID = 0
    $EGID = 0
    Win32::GetOSName = WinXP/.Net
    Win32::GetOSVersion = Service Pack 3, 5, 1, 2600, 2, 3, 0, 256, 1
    Win32::FsType = NTFS
    Win32::IsAdminUser = 1

Perl module toolchain versions installed:

    Module              Have    
    ------------------- --------
    CPAN                2.00    
    CPAN::Meta          2.140640
    Cwd                 3.40    
    ExtUtils::CBuilder  0.280216
    ExtUtils::Command   1.18    
    ExtUtils::Install   1.66    
    ExtUtils::MakeMaker 6.96    
    ExtUtils::Manifest  1.63    
    ExtUtils::ParseXS   3.24    
    File::Spec          3.40    
    JSON                2.90    
    JSON::PP            2.27203 
    Module::Build       0.4202  
    Module::Signature   n/a     
    Parse::CPAN::Meta   1.4414  
    Test::Harness       3.30    
    Test::More          1.001003
    YAML                0.90    
    YAML::Syck          n/a     
    version             0.9908  


--

Summary of my perl5 (revision 5 version 14 subversion 2) configuration:
   
  Platform:
    osname=MSWin32, osvers=5.1, archname=MSWin32-x86-multi-thread
    uname=''
    config_args='undef'
    hint=recommended, useposix=true, d_sigaction=undef
    useithreads=define, usemultiplicity=define
    useperlio=define, d_sfio=undef, uselargefiles=define, usesocks=undef
    use64bitint=undef, use64bitall=undef, uselongdouble=undef
    usemymalloc=n, bincompat5005=undef
  Compiler:
    cc='cl', ccflags ='-nologo -GF -W3 -MD -Zi -DNDEBUG -O1 -DWIN32 -D_CONSOLE -DNO_STRICT -D_CRT_SECURE_NO_DEPRECATE -D_CRT_NONSTDC_NO_DEPRECATE  -DPERL_TEXTMODE_SCRIPTS -DPERL_IMPLICIT_CONTEXT -DPERL_IMPLICIT_SYS -DUSE_PERLIO',
    optimize='-MD -Zi -DNDEBUG -O1',
    cppflags='-DWIN32'
    ccversion='14.00.50727.42', gccversion='', gccosandvers=''
    intsize=4, longsize=4, ptrsize=4, doublesize=8, byteorder=1234
    d_longlong=undef, longlongsize=8, d_longdbl=define, longdblsize=8
    ivtype='long', ivsize=4, nvtype='double', nvsize=8, Off_t='__int64', lseeksize=8
    alignbytes=8, prototype=define
  Linker and Libraries:
    ld='link', ldflags ='-nologo -nodefaultlib -debug -opt:ref,icf  -libpath:"D:\PROGRAMS\perl\5.14.2\lib\CORE"  -machine:x86 "/manifestdependency:type='Win32' name='Microsoft.Windows.Common-Controls' version='6.0.0.0' processorArchitecture='*' publicKeyToken='6595b64144ccf1df' language='*'"'
    libpth=D:\Programs\Microsoft_Visual_Studio_8\VC\lib
    libs=oldnames.lib kernel32.lib user32.lib gdi32.lib winspool.lib  comdlg32.lib advapi32.lib shell32.lib ole32.lib oleaut32.lib  netapi32.lib uuid.lib ws2_32.lib mpr.lib winmm.lib  version.lib odbc32.lib odbccp32.lib comctl32.lib msvcrt.lib
    perllibs=oldnames.lib kernel32.lib user32.lib gdi32.lib winspool.lib  comdlg32.lib advapi32.lib shell32.lib ole32.lib oleaut32.lib  netapi32.lib uuid.lib ws2_32.lib mpr.lib winmm.lib  version.lib odbc32.lib odbccp32.lib comctl32.lib msvcrt.lib
    libc=msvcrt.lib, so=dll, useshrplib=true, libperl=perl514.lib
    gnulibc_version=''
  Dynamic Linking:
    dlsrc=dl_win32.xs, dlext=dll, d_dlsymun=undef, ccdlflags=' '
    cccdlflags=' ', lddlflags='-dll -nologo -nodefaultlib -debug -opt:ref,icf  -libpath:"D:\PROGRAMS\perl\5.14.2\lib\CORE"  -machine:x86 "/manifestdependency:type='Win32' name='Microsoft.Windows.Common-Controls' version='6.0.0.0' processorArchitecture='*' publicKeyToken='6595b64144ccf1df' language='*'"'


Characteristics of this binary (from libperl): 
  Compile-time options: MULTIPLICITY PERL_DONT_CREATE_GVSV
                        PERL_IMPLICIT_CONTEXT PERL_IMPLICIT_SYS
                        PERL_MALLOC_WRAP PERL_PRESERVE_IVUV PL_OP_SLAB_ALLOC
                        USE_ITHREADS USE_LARGE_FILES USE_PERLIO
                        USE_PERL_ATOF
  Built under MSWin32
  Compiled at Jun  5 2012 11:16:53
  %ENV:
    PERL5LIB="D:\temp\.cpan\mylib"
    PERL5_CPANPLUS_IS_RUNNING="4500"
    PERL5_CPAN_IS_RUNNING="4500"
    PERL_CPAN_REPORTER_DIR="D:\temp\.cpan\cpanreporter"
  @INC:
    D:\temp\.cpan\mylib
    D:/PROGRAMS/perl/site/5.14.2/lib
    D:/PROGRAMS/perl/5.14.2/lib
    .