Dist-Zilla-Plugin-CopyFilesFromBuild v0.170880 Perl 5 v5.26.0 x86_64-linux-thread-multi
- Status
- Pass
- From
- David Cantrell (DCANTRELL)
- Dist
-
Dist-Zilla-Plugin-CopyFilesFromBuild v0.170880
- Platform
- Perl 5 v5.26.0 x86_64-linux-thread-multi
- Date
- 2019-06-26 14:25:36
- ID
- 4410a19a-981e-11e9-9e64-5c10052d0de1
This distribution has been tested as part of the CPAN Testers
project, supporting the Perl programming language. See
http://wiki.cpantesters.org/ for more information or email
questions to cpan-testers-discuss@perl.org
--
Dear Ryan C. Thompson,
This is a computer-generated report for Dist-Zilla-Plugin-CopyFilesFromBuild-0.170880
on perl 5.26.0, created by CPAN-Reporter-1.2018.
Thank you for uploading your work to CPAN. Congratulations!
All tests were successful.
Sections of this report:
* Tester comments
* Program output
* Prerequisites
* Environment and other context
------------------------------
TESTER COMMENTS
------------------------------
Additional comments from tester:
this report is from an automated smoke testing program
and was not reviewed by a human for accuracy
------------------------------
PROGRAM OUTPUT
------------------------------
Output from '/usr/bin/make test':
PERL_DL_NONLAZY=1 "/home/david/cpantesting/perl-5.26.0/bin/perl" "-MExtUtils::Command::MM" "-MTest::Harness" "-e" "undef *Test::Harness::Switches; test_harness(0, 'blib/lib', 'blib/arch')" t/*.t
t/00-compile.t ........... ok
# Testing with Perl 5.026000, /home/david/cpantesting/perl-5.26.0/bin/perl
# Carp version is 1.42
# Dist::Zilla::Plugin::ReadmeAnyFromPod version is 0.163250
# Dist::Zilla::Role::AfterBuild version is 6.012
# ExtUtils::MakeMaker version is 7.24
# File::Copy version is 2.32
# File::Spec version is 3.67
# IO::File version is 1.16
# IO::Handle version is 1.36
# IPC::Open3 version is 1.20
# List::Util version is 1.4602
# Moose version is 2.2011
# MooseX::Has::Sugar version is 1.000006
# Path::Tiny version is 0.108
# Scalar::Util version is 1.4602
# Set::Scalar version is 1.29
# Test::DZil version is 6.012
# Test::Exception version is 0.43
# Test::More version is 1.302164
# Test::Most version is 0.35
# autodie version is 2.29
# blib version is 1.06
# strict version is 1.11
# utf8 version is 1.19
# warnings version is 1.37
t/000-report-versions.t .. ok
t/author-critic.t ........ skipped: these tests are for testing by the author
t/author-pod-coverage.t .. skipped: these tests are for testing by the author
t/author-pod-syntax.t .... skipped: these tests are for testing by the author
t/basic.t ................ ok
t/release-has-version.t .. skipped: these tests are for release candidate testing
t/release-kwalitee.t ..... skipped: these tests are for release candidate testing
t/release-portability.t .. skipped: these tests are for release candidate testing
t/release-unused-vars.t .. skipped: these tests are for release candidate testing
All tests successful.
Files=10, Tests=34, 17 wallclock secs ( 0.04 usr 0.02 sys + 1.75 cusr 0.15 csys = 1.96 CPU)
Result: PASS
------------------------------
PREREQUISITES
------------------------------
Prerequisite modules loaded:
requires:
Module Need Have
------------------------------------- ----- --------
Dist::Zilla::Role::AfterBuild 0 6.012
File::Copy 0 2.32
IO::File 0 1.16
List::Util 1.33 1.46_02
Moose 0 2.2011
MooseX::Has::Sugar 0 1.000006
Path::Tiny 0 0.108
perl 5.008 5.026000
Set::Scalar 0 1.29
strict 0 1.11
utf8 0 1.19
warnings 0 1.37
build_requires:
Module Need Have
------------------------------------- ----- --------
autodie 0 2.29
blib 1.01 1.06
Carp 0 1.42
Dist::Zilla::Plugin::ReadmeAnyFromPod 0 0.163250
ExtUtils::MakeMaker 0 7.24
File::Spec 0 3.67
IO::Handle 0 1.36
IPC::Open3 0 1.20
Scalar::Util 0 1.46_02
Test::DZil 0 6.012
Test::Exception 0 0.43
Test::More 0.94 1.302164
Test::Most 0 0.35
configure_requires:
Module Need Have
------------------------------------- ----- --------
ExtUtils::MakeMaker 0 7.24
perl 5.008 5.026000
------------------------------
ENVIRONMENT AND OTHER CONTEXT
------------------------------
Environment variables:
AUTOMATED_TESTING = 1
LANG = en_US.UTF-8
NONINTERACTIVE_TESTING = 1
PATH = /usr/local/bin:/usr/bin:/bin:/usr/local/games:/usr/games
PERL = 5.26.0
PERL5LIB =
PERL5OPT =
PERL5_CPANPLUS_IS_RUNNING = 3233
PERL5_CPAN_IS_RUNNING = 3233
PERLVER = 5.26.0
PERL_INLINE_DIRECTORY = /home/david/.Inline-5.26.0
PERL_MM_USE_DEFAULT = 1
PERL_USE_UNSAFE_INC = 0
SHELL = /bin/bash
TERM = screen
Perl special variables (and OS-specific diagnostics, for MSWin32):
$^X = /home/david/cpantesting/perl-5.26.0/bin/perl
$UID/$EUID = 1000 / 1000
$GID = 1000 27 1000
$EGID = 1000 27 1000
Perl module toolchain versions installed:
Module Have
------------------- ----------
CPAN 2.18
CPAN::Meta 2.150010
Cwd 3.67
ExtUtils::CBuilder 0.280225
ExtUtils::Command 7.24
ExtUtils::Install 2.04
ExtUtils::MakeMaker 7.24
ExtUtils::Manifest 1.70
ExtUtils::ParseXS 3.34
File::Spec 3.67
JSON n/a
JSON::PP 2.27400_02
Module::Build 0.4229
Module::Signature n/a
Parse::CPAN::Meta 2.150010
Test::Harness 3.38
Test::More 1.302164
YAML n/a
YAML::Syck n/a
version 0.9917
--
Summary of my perl5 (revision 5 version 26 subversion 0) configuration:
Platform:
osname=linux
osvers=4.9.0-8-amd64
archname=x86_64-linux-thread-multi
uname='linux pigsty 4.9.0-8-amd64 #1 smp debian 4.9.144-3 (2019-02-02) x86_64 gnulinux '
config_args='-de -Duse64bitall -Dusethreads -Dprefix=/home/david/cpantesting/perl-5.26.0'
hint=recommended
useposix=true
d_sigaction=define
useithreads=define
usemultiplicity=define
use64bitint=define
use64bitall=define
uselongdouble=undef
usemymalloc=n
default_inc_excludes_dot=define
bincompat5005=undef
Compiler:
cc='cc'
ccflags ='-D_REENTRANT -D_GNU_SOURCE -fwrapv -fno-strict-aliasing -pipe -fstack-protector-strong -I/usr/local/include -D_LARGEFILE_SOURCE -D_FILE_OFFSET_BITS=64'
optimize='-O2'
cppflags='-D_REENTRANT -D_GNU_SOURCE -fwrapv -fno-strict-aliasing -pipe -fstack-protector-strong -I/usr/local/include'
ccversion=''
gccversion='6.3.0 20170516'
gccosandvers=''
intsize=4
longsize=8
ptrsize=8
doublesize=8
byteorder=12345678
doublekind=3
d_longlong=define
longlongsize=8
d_longdbl=define
longdblsize=16
longdblkind=3
ivtype='long'
ivsize=8
nvtype='double'
nvsize=8
Off_t='off_t'
lseeksize=8
alignbytes=8
prototype=define
Linker and Libraries:
ld='cc'
ldflags =' -fstack-protector-strong -L/usr/local/lib'
libpth=/usr/local/lib /usr/lib/gcc/x86_64-linux-gnu/6/include-fixed /usr/include/x86_64-linux-gnu /usr/lib /lib/x86_64-linux-gnu /lib/../lib /usr/lib/x86_64-linux-gnu /usr/lib/../lib /lib
libs=-lpthread -lnsl -ldb -ldl -lm -lcrypt -lutil -lc
perllibs=-lpthread -lnsl -ldl -lm -lcrypt -lutil -lc
libc=libc-2.24.so
so=so
useshrplib=false
libperl=libperl.a
gnulibc_version='2.24'
Dynamic Linking:
dlsrc=dl_dlopen.xs
dlext=so
d_dlsymun=undef
ccdlflags='-Wl,-E'
cccdlflags='-fPIC'
lddlflags='-shared -O2 -L/usr/local/lib -fstack-protector-strong'
Characteristics of this binary (from libperl):
Compile-time options:
HAS_TIMES
MULTIPLICITY
PERLIO_LAYERS
PERL_COPY_ON_WRITE
PERL_DONT_CREATE_GVSV
PERL_IMPLICIT_CONTEXT
PERL_MALLOC_WRAP
PERL_OP_PARENT
PERL_PRESERVE_IVUV
USE_64_BIT_ALL
USE_64_BIT_INT
USE_ITHREADS
USE_LARGE_FILES
USE_LOCALE
USE_LOCALE_COLLATE
USE_LOCALE_CTYPE
USE_LOCALE_NUMERIC
USE_LOCALE_TIME
USE_PERLIO
USE_PERL_ATOF
USE_REENTRANT_API
Built under linux
Compiled at Apr 25 2019 01:36:39
%ENV:
PERL="5.26.0"
PERL5LIB=""
PERL5OPT=""
PERL5_CPANPLUS_IS_RUNNING="3233"
PERL5_CPAN_IS_RUNNING="3233"
PERLVER="5.26.0"
PERL_INLINE_DIRECTORY="/home/david/.Inline-5.26.0"
PERL_MM_USE_DEFAULT="1"
PERL_USE_UNSAFE_INC="0"
@INC:
/home/david/cpantesting/perl-5.26.0/lib/site_perl/5.26.0/x86_64-linux-thread-multi
/home/david/cpantesting/perl-5.26.0/lib/site_perl/5.26.0
/home/david/cpantesting/perl-5.26.0/lib/5.26.0/x86_64-linux-thread-multi
/home/david/cpantesting/perl-5.26.0/lib/5.26.0