Report for Inline-Ruby-0.03

Back
From: metabase:user:314402c4-2aae-11df-837a-5e0a49663a4f
Subject: PASS Inline-Ruby-0.03 v5.10.1 FreeBSD
Date: 2012-08-09T20:17:38Z

This distribution has been tested as part of the CPAN Testers
project, supporting the Perl programming language.  See
http://wiki.cpantesters.org/ for more information or email
questions to cpan-testers-discuss@perl.org


--
Dear Shlomi Fish,

This is a computer-generated report for Inline-Ruby-0.03
on perl 5.10.1, created by CPAN-Reporter-1.2006.

Thank you for uploading your work to CPAN.  Congratulations!
All tests were successful.

Sections of this report:

    * Tester comments
    * Program output
    * Prerequisites
    * Environment and other context

------------------------------
TESTER COMMENTS
------------------------------

Additional comments from tester:

none provided

------------------------------
PROGRAM OUTPUT
------------------------------

Output from '/usr/bin/make test':

PERL_DL_NONLAZY=1 /usr/perl5.10.1/bin/perl5.10.1 "-MExtUtils::Command::MM" "-e" "test_harness(0, 'blib/lib', 'blib/arch')" t/*.t
Subroutine inspect redefined at (eval 11) line 246.
Subroutine object_id redefined at (eval 11) line 250.
Subroutine tap redefined at (eval 11) line 254.
Subroutine clone redefined at (eval 11) line 258.
Subroutine public_methods redefined at (eval 11) line 262.
Subroutine __send__ redefined at (eval 11) line 266.
Subroutine some_iter redefined at (eval 11) line 270.
Subroutine freeze redefined at (eval 11) line 274.
Subroutine extend redefined at (eval 11) line 278.
Subroutine send redefined at (eval 11) line 282.
Subroutine methods redefined at (eval 11) line 286.
Subroutine to_enum redefined at (eval 11) line 290.
Subroutine hash redefined at (eval 11) line 298.
Subroutine dup redefined at (eval 11) line 302.
Subroutine inline_ruby_class_grokker redefined at (eval 11) line 306.
Subroutine instance_variables redefined at (eval 11) line 310.
Subroutine instance_eval redefined at (eval 11) line 314.
Subroutine id redefined at (eval 11) line 318.
Subroutine singleton_methods redefined at (eval 11) line 322.
Subroutine enum_for redefined at (eval 11) line 326.
Subroutine method redefined at (eval 11) line 330.
Subroutine taint redefined at (eval 11) line 334.
Subroutine instance_variable_get redefined at (eval 11) line 338.
Subroutine to_a redefined at (eval 11) line 342.
Subroutine type redefined at (eval 11) line 350.
Subroutine instance_exec redefined at (eval 11) line 354.
Subroutine protected_methods redefined at (eval 11) line 358.
Subroutine display redefined at (eval 11) line 362.
Subroutine some_function redefined at (eval 11) line 366.
Subroutine instance_variable_set redefined at (eval 11) line 370.
Subroutine to_s redefined at (eval 11) line 374.
Subroutine class redefined at (eval 11) line 382.
Subroutine __id__ redefined at (eval 11) line 386.
Subroutine private_methods redefined at (eval 11) line 390.
Subroutine untaint redefined at (eval 11) line 394.
t/01basic.t ..... ok
Subroutine inspect redefined at (eval 8) line 230.
Subroutine object_id redefined at (eval 8) line 234.
Subroutine tap redefined at (eval 8) line 242.
Subroutine clone redefined at (eval 8) line 246.
Subroutine public_methods redefined at (eval 8) line 250.
Subroutine __send__ redefined at (eval 8) line 254.
Subroutine freeze redefined at (eval 8) line 258.
Subroutine extend redefined at (eval 8) line 266.
Subroutine send redefined at (eval 8) line 270.
Subroutine methods redefined at (eval 8) line 274.
Subroutine to_enum redefined at (eval 8) line 278.
Subroutine hash redefined at (eval 8) line 282.
Subroutine dup redefined at (eval 8) line 286.
Subroutine inline_ruby_class_grokker redefined at (eval 8) line 290.
Subroutine instance_variables redefined at (eval 8) line 294.
Subroutine instance_eval redefined at (eval 8) line 298.
Subroutine id redefined at (eval 8) line 302.
Subroutine singleton_methods redefined at (eval 8) line 306.
Subroutine enum_for redefined at (eval 8) line 310.
Subroutine method redefined at (eval 8) line 314.
Subroutine taint redefined at (eval 8) line 318.
Subroutine instance_variable_get redefined at (eval 8) line 322.
Subroutine to_a redefined at (eval 8) line 326.
Subroutine type redefined at (eval 8) line 330.
Subroutine instance_exec redefined at (eval 8) line 334.
Subroutine protected_methods redefined at (eval 8) line 338.
Subroutine display redefined at (eval 8) line 342.
Subroutine instance_variable_set redefined at (eval 8) line 346.
Subroutine to_s redefined at (eval 8) line 350.
Subroutine class redefined at (eval 8) line 354.
Subroutine __id__ redefined at (eval 8) line 358.
Subroutine private_methods redefined at (eval 8) line 362.
Subroutine untaint redefined at (eval 8) line 366.
t/02iter.t ...... ok
t/03bindfunc.t .. ok
t/04iterator.t .. ok
t/05rb_exc.t .... ok
	(in cleanup) Illegal division by zero at t/06pl_exc.t line 53.
	(in cleanup) Missing right curly or square bracket at (eval 18) line 2, at end of line
syntax error at (eval 18) line 2, at EOF
	(in cleanup) Illegal division by zero at t/06pl_exc.t line 73.
t/06pl_exc.t .... ok
t/07proc.t ...... ok
Subroutine inspect redefined at (eval 8) line 234.
Subroutine object_id redefined at (eval 8) line 238.
Subroutine tap redefined at (eval 8) line 242.
Subroutine clone redefined at (eval 8) line 246.
Subroutine public_methods redefined at (eval 8) line 250.
Subroutine __send__ redefined at (eval 8) line 254.
Subroutine freeze redefined at (eval 8) line 258.
Subroutine extend redefined at (eval 8) line 262.
Subroutine send redefined at (eval 8) line 266.
Subroutine methods redefined at (eval 8) line 270.
Subroutine to_enum redefined at (eval 8) line 274.
Subroutine hash redefined at (eval 8) line 278.
Subroutine dup redefined at (eval 8) line 282.
Subroutine inline_ruby_class_grokker redefined at (eval 8) line 286.
Subroutine instance_variables redefined at (eval 8) line 290.
Subroutine some_func redefined at (eval 8) line 294.
Subroutine instance_eval redefined at (eval 8) line 298.
Subroutine id redefined at (eval 8) line 302.
Subroutine singleton_methods redefined at (eval 8) line 306.
Subroutine enum_for redefined at (eval 8) line 310.
Subroutine method redefined at (eval 8) line 314.
Subroutine taint redefined at (eval 8) line 318.
Subroutine instance_variable_get redefined at (eval 8) line 322.
Subroutine to_a redefined at (eval 8) line 326.
Subroutine type redefined at (eval 8) line 330.
Subroutine instance_exec redefined at (eval 8) line 334.
Subroutine protected_methods redefined at (eval 8) line 338.
Subroutine display redefined at (eval 8) line 342.
Subroutine instance_variable_set redefined at (eval 8) line 346.
Subroutine to_s redefined at (eval 8) line 350.
Subroutine class redefined at (eval 8) line 358.
Subroutine __id__ redefined at (eval 8) line 362.
Subroutine private_methods redefined at (eval 8) line 366.
Subroutine untaint redefined at (eval 8) line 370.
t/08bind1.t ..... ok
t/08bind2.t ..... ok
t/09regex.t ..... ok
All tests successful.
Files=10, Tests=64,  2 wallclock secs ( 0.05 usr  0.02 sys +  0.74 cusr  0.23 csys =  1.05 CPU)
Result: PASS

------------------------------
PREREQUISITES
------------------------------

Prerequisite modules loaded:

requires:

    Module              Need Have
    ------------------- ---- ----
    Inline              0.42 0.50

build_requires:

    Module              Need Have
    ------------------- ---- ----
    ExtUtils::MakeMaker 0    6.62

configure_requires:

    Module              Need Have
    ------------------- ---- ----
    ExtUtils::MakeMaker 0    6.62


------------------------------
ENVIRONMENT AND OTHER CONTEXT
------------------------------

Environment variables:

    DBIC_NO_WARN_BAD_PERL = 1
    PATH = /usr/local/bin:/usr/X11R6/bin:/usr/X11/bin:/usr/perl5.8.0/bin:/usr/bin:/bin:/usr/local/sbin:/usr/sbin:/sbin:/usr/local/pilot/bin:/home/cpansand/bin/freebsd8.0:/home/cpansand/bin/sh:/home/cpansand/bin:/usr/X386/bin:/usr/games:/home/cpansand/devel:/usr/home/e/eserte/work/srezic-misc/scripts
    PERL5LIB = /usr/local/src/CPAN/build/Tie-Array-Lazy-0.02-GXnETr/blib/arch:/usr/local/src/CPAN/build/Tie-Array-Lazy-0.02-GXnETr/blib/lib:/usr/local/src/CPAN/build/ATIFK-iAZl6Q/blib/arch:/usr/local/src/CPAN/build/ATIFK-iAZl6Q/blib/lib
    PERL5OPT = 
    PERL5_CPANPLUS_IS_RUNNING = 82458
    PERL5_CPAN_IS_RUNNING = 82458
    PERL5_CPAN_IS_RUNNING_IN_RECURSION = 82433,82458
    PERL_BATCH = yes
    PERL_CPAN_REPORTER_CONFIG = /var/tmp/cpansmoker-1023/MXMToEKM1Q_config.ini
    PERL_EXTUTILS_AUTOINSTALL = --defaultdeps
    PERL_HTML_DISPLAY_CLASS = HTML::Display::Mozilla
    SHELL = /usr/local/bin/zsh
    TERM = screen
    TMPDIR = /var/tmp/cpansmoker-1023

Perl special variables (and OS-specific diagnostics, for MSWin32):

    $^X = /usr/perl5.10.1/bin/perl5.10.1
    $UID/$EUID = 1023 / 1023
    $GID = 1023 1023
    $EGID = 1023 1023

Perl module toolchain versions installed:

    Module              Have    
    ------------------- --------
    CPAN                1.9800  
    CPAN::Meta          2.112150
    Cwd                 3.33    
    ExtUtils::CBuilder  0.280205
    ExtUtils::Command   1.17    
    ExtUtils::Install   1.54    
    ExtUtils::MakeMaker 6.62    
    ExtUtils::Manifest  1.60    
    ExtUtils::ParseXS   3.15    
    File::Spec          3.33    
    JSON                2.53    
    JSON::PP            2.27200 
    Module::Build       0.4002  
    Module::Signature   0.68    
    Parse::CPAN::Meta   1.4403  
    Test::Harness       3.23    
    Test::More          0.98    
    YAML                0.81    
    YAML::Syck          1.20    
    version             0.96    


--

Summary of my perl5 (revision 5 version 10 subversion 1) configuration:
   
  Platform:
    osname=freebsd, osvers=8.0-release, archname=i386-freebsd
    uname='freebsd biokovo.herceg.de 8.0-release freebsd 8.0-release #0: sat nov 21 15:48:17 utc 2009 root@almeida.cse.buffalo.edu:usrobjusrsrcsysgeneric i386 '
    config_args='-Dprefix=/usr/perl5.10.1 -Dusemymalloc=n -D cc=ccache cc -Dgccansipedantic -Duse64bit -de -D hintfile=myfreebsd'
    hint=recommended, useposix=true, d_sigaction=define
    useithreads=undef, usemultiplicity=undef
    useperlio=define, d_sfio=undef, uselargefiles=define, usesocks=undef
    use64bitint=undef, use64bitall=undef, uselongdouble=undef
    usemymalloc=n, bincompat5005=undef
  Compiler:
    cc='ccache cc', ccflags ='-DHAS_FPSETMASK -DHAS_FLOATINGPOINT_H -fno-strict-aliasing -pipe -fstack-protector -I/usr/local/include',
    optimize='-O2 -mtune=athlon64 -pipe',
    cppflags='-DHAS_FPSETMASK -DHAS_FLOATINGPOINT_H -fno-strict-aliasing -pipe -fstack-protector -I/usr/local/include'
    ccversion='', gccversion='4.2.1 20070719  [FreeBSD]', gccosandvers=''
    intsize=4, longsize=4, ptrsize=4, doublesize=8, byteorder=1234
    d_longlong=define, longlongsize=8, d_longdbl=define, longdblsize=12
    ivtype='long', ivsize=4, nvtype='double', nvsize=8, Off_t='off_t', lseeksize=8
    alignbytes=4, prototype=define
  Linker and Libraries:
    ld='ccache cc', ldflags ='-Wl,-E  -fstack-protector -L/usr/local/lib'
    libpth=/usr/lib /usr/local/lib
    libs=-lgdbm -lm -lcrypt -lutil -lc
    perllibs=-lm -lcrypt -lutil -lc
    libc=, so=so, useshrplib=false, libperl=libperl.a
    gnulibc_version=''
  Dynamic Linking:
    dlsrc=dl_dlopen.xs, dlext=so, d_dlsymun=undef, ccdlflags=' '
    cccdlflags='-DPIC -fPIC', lddlflags='-shared  -L/usr/local/lib -fstack-protector'


Characteristics of this binary (from libperl): 
  Compile-time options: PERL_DONT_CREATE_GVSV PERL_MALLOC_WRAP PERL_USE_DEVEL
                        USE_LARGE_FILES USE_PERLIO
  Built under freebsd
  Compiled at Feb  6 2010 13:47:51
  %ENV:
    PERL5LIB="/usr/local/src/CPAN/build/Tie-Array-Lazy-0.02-GXnETr/blib/arch:/usr/local/src/CPAN/build/Tie-Array-Lazy-0.02-GXnETr/blib/lib:/usr/local/src/CPAN/build/ATIFK-iAZl6Q/blib/arch:/usr/local/src/CPAN/build/ATIFK-iAZl6Q/blib/lib"
    PERL5OPT=""
    PERL5_CPANPLUS_IS_RUNNING="82458"
    PERL5_CPAN_IS_RUNNING="82458"
    PERL5_CPAN_IS_RUNNING_IN_RECURSION="82433,82458"
    PERL_BATCH="yes"
    PERL_CPAN_REPORTER_CONFIG="/var/tmp/cpansmoker-1023/MXMToEKM1Q_config.ini"
    PERL_EXTUTILS_AUTOINSTALL="--defaultdeps"
    PERL_HTML_DISPLAY_CLASS="HTML::Display::Mozilla"
  @INC:
    /usr/local/src/CPAN/build/Tie-Array-Lazy-0.02-GXnETr/blib/arch
    /usr/local/src/CPAN/build/Tie-Array-Lazy-0.02-GXnETr/blib/lib
    /usr/local/src/CPAN/build/ATIFK-iAZl6Q/blib/arch
    /usr/local/src/CPAN/build/ATIFK-iAZl6Q/blib/lib
    /usr/perl5.10.1/lib/5.10.1/i386-freebsd
    /usr/perl5.10.1/lib/5.10.1
    /usr/perl5.10.1/lib/site_perl/5.10.1/i386-freebsd
    /usr/perl5.10.1/lib/site_perl/5.10.1
    .