Async-Defer vv1.0.1 Perl 5 v5.41.12 aarch64-freebsd

Status
Pass
From
Slaven Rezić
Dist
Async-Defer vv1.0.1
Platform
Perl 5 v5.41.12 aarch64-freebsd
Date
2025-05-14 19:04:30
ID
43c737ae-30f6-11f0-9c08-b5ea6d8775ea
This distribution has been tested as part of the CPAN Testers
project, supporting the Perl programming language.  See
http://wiki.cpantesters.org/ for more information or email
questions to cpan-testers-discuss@perl.org


--
Dear Alex Efros,

This is a computer-generated report for Async-Defer-v1.0.1
on perl 5.41.12, created by CPAN-Reporter-1.2020.

Thank you for uploading your work to CPAN.  Congratulations!
All tests were successful.

Sections of this report:

    * Tester comments
    * Program output
    * Prerequisites
    * Environment and other context

------------------------------
TESTER COMMENTS
------------------------------

Additional comments from tester:

none provided

------------------------------
PROGRAM OUTPUT
------------------------------

Output from './Build test':

# Testing Async::Defer v1.0.1, Perl 5.041012, /usr/perl5.41.12/bin/perl5.41.12
t/00.load.t .................... ok
t/1-clone.t .................... ok
t/1-iter.t ..................... ok
t/1-new.t ...................... ok
t/2-do.t ....................... ok
t/2-do_batch.t ................. ok
t/2-if.t ....................... ok
t/2-try.t ...................... ok
t/2-while.t .................... ok
t/3-run.t ...................... ok
t/4-done.t ..................... ok
t/4-last.t ..................... ok
t/4-next.t ..................... ok
t/4-throw.t .................... ok
t/5-interface_modifications.t .. ok
t/7-run_with_coderef.t ......... ok
t/8-nested_defers.t ............ ok
t/author-perlcritic.t .......... skipped: these tests are for testing by the author
t/author-pod-syntax.t .......... skipped: these tests are for testing by the author
t/release-distribution.t ....... skipped: these tests are for release candidate testing
All tests successful.
Files=20, Tests=166,  3 wallclock secs ( 0.09 usr  0.06 sys +  0.69 cusr  0.29 csys =  1.12 CPU)
Result: PASS

------------------------------
PREREQUISITES
------------------------------

Prerequisite modules loaded:

requires:

    Module              Need  Have    
    ------------------- ----- --------
    List::Util          1.33  1.68_01 
    perl                5.012 5.041012
    Scalar::Util        0     1.68_01 

build_requires:

    Module              Need  Have    
    ------------------- ----- --------
    AE                  0     7.17    
    Test::Exception     0     0.43    
    Test::More          0     1.302210

configure_requires:

    Module              Need  Have    
    ------------------- ----- --------
    Module::Build::Tiny 0.034 0.051   


------------------------------
ENVIRONMENT AND OTHER CONTEXT
------------------------------

Environment variables:

    LANG = C.UTF-8
    PATH = /usr/local/bin:/usr/bin:/bin:/usr/local/sbin:/usr/sbin:/sbin:/home/cpansand/bin/freebsd14.1:/home/cpansand/bin/sh:/home/cpansand/bin:/usr/games:/home/cpansand/devel:/home/eserte/src/srezic-misc/scripts
    PERL5LIB = /home/cpansand/.cpan/build/2025051418/Devel-Leak-0.04-0/blib/arch:/home/cpansand/.cpan/build/2025051418/Devel-Leak-0.04-0/blib/lib:/home/cpansand/.cpan/build/2025051418/BSD-Resource-1.2911-0/blib/arch:/home/cpansand/.cpan/build/2025051418/BSD-Resource-1.2911-0/blib/lib
    PERL5OPT = 
    PERL5_CPANPLUS_IS_RUNNING = 16447
    PERL5_CPAN_IS_RUNNING = 16447
    PERL5_CPAN_IS_RUNNING_IN_RECURSION = 98479,16447
    PERLDOC = -MPod::Perldoc::ToTextOverstrike
    PERL_BATCH = yes
    PERL_CANARY_STABILITY_NOPROMPT = 1
    PERL_CPAN_REPORTER_CONFIG = /var/tmp/cpansmoker-1023/2025051417/cpanreporter_000_config.ini
    PERL_EXTUTILS_AUTOINSTALL = --defaultdeps
    PERL_USE_UNSAFE_INC = 1
    SHELL = /usr/local/bin/zsh
    TERM = screen
    TMPDIR = /var/tmp/cpansmoker-1023/2025051417

Perl special variables (and OS-specific diagnostics, for MSWin32):

    $^X = /usr/perl5.41.12/bin/perl5.41.12
    $UID/$EUID = 1023 / 1023
    $GID = 1023 1023
    $EGID = 1023 1023

Perl module toolchain versions installed:

    Module              Have    
    ------------------- --------
    CPAN                2.38    
    CPAN::Meta          2.150010
    Cwd                 3.94    
    ExtUtils::CBuilder  0.280240
    ExtUtils::Command   7.74    
    ExtUtils::Install   2.22    
    ExtUtils::MakeMaker 7.74    
    ExtUtils::Manifest  1.75    
    ExtUtils::ParseXS   3.57    
    File::Spec          3.94    
    JSON                4.10    
    JSON::PP            4.16    
    Module::Build       0.4234  
    Module::Signature   n/a     
    Parse::CPAN::Meta   2.150010
    Test2               1.302210
    Test::Harness       3.50    
    Test::More          1.302210
    YAML                1.31    
    YAML::Syck          1.34    
    version             0.9933  


--

Summary of my perl5 (revision 5 version 41 subversion 12) configuration:
   
  Platform:
    osname=freebsd
    osvers=14.2-stable
    archname=aarch64-freebsd
    uname='freebsd cloud9.bbbike.org 14.2-stable freebsd 14.2-stable stable14-n271081-df4b8eff7b19 generic arm64 '
    config_args='-ds -e -Dprefix=/usr/perl5.41.12 -Uinstallusrbinperl -Dusedevel -Dusemallocwrap=no -Dcf_email=srezic@cpan.org -Doptimize=-O2 -pipe'
    hint=recommended
    useposix=true
    d_sigaction=define
    useithreads=undef
    usemultiplicity=undef
    use64bitint=define
    use64bitall=define
    uselongdouble=undef
    usemymalloc=n
    default_inc_excludes_dot=define
  Compiler:
    cc='cc'
    ccflags ='-DHAS_FPSETMASK -DHAS_FLOATINGPOINT_H -DNO_POSIX_2008_LOCALE -fno-strict-aliasing -pipe -fstack-protector-strong -I/usr/local/include'
    optimize='-O2 -pipe'
    cppflags='-DHAS_FPSETMASK -DHAS_FLOATINGPOINT_H -DNO_POSIX_2008_LOCALE -fno-strict-aliasing -pipe -fstack-protector-strong -I/usr/local/include'
    ccversion=''
    gccversion='FreeBSD Clang 19.1.7 (https://github.com/llvm/llvm-project.git llvmorg-19.1.7-0-gcd708029e0b2)'
    gccosandvers=''
    intsize=4
    longsize=8
    ptrsize=8
    doublesize=8
    byteorder=12345678
    doublekind=3
    d_longlong=define
    longlongsize=8
    d_longdbl=define
    longdblsize=16
    longdblkind=1
    ivtype='long'
    ivsize=8
    nvtype='double'
    nvsize=8
    Off_t='off_t'
    lseeksize=8
    alignbytes=8
    prototype=define
  Linker and Libraries:
    ld='cc'
    ldflags ='-Wl,-E  -fstack-protector-strong -L/usr/local/lib'
    libpth=/usr/lib /usr/local/lib /usr/lib/clang/19/lib
    libs=-lpthread -lgdbm -ldl -lm -lcrypt -lutil -lc
    perllibs=-lpthread -ldl -lm -lcrypt -lutil -lc
    libc=
    so=so
    useshrplib=false
    libperl=libperl.a
    gnulibc_version=''
  Dynamic Linking:
    dlsrc=dl_dlopen.xs
    dlext=so
    d_dlsymun=undef
    ccdlflags=' '
    cccdlflags='-DPIC -fPIC'
    lddlflags='-shared  -L/usr/local/lib -fstack-protector-strong'


Characteristics of this binary (from libperl): 
  Compile-time options:
    HAS_LONG_DOUBLE
    HAS_STRTOLD
    HAS_TIMES
    PERLIO_LAYERS
    PERL_COPY_ON_WRITE
    PERL_DONT_CREATE_GVSV
    PERL_HASH_FUNC_SIPHASH13
    PERL_HASH_USE_SBOX32
    PERL_OP_PARENT
    PERL_PRESERVE_IVUV
    PERL_USE_DEVEL
    PERL_USE_SAFE_PUTENV
    USE_64_BIT_ALL
    USE_64_BIT_INT
    USE_LARGE_FILES
    USE_LOCALE
    USE_LOCALE_COLLATE
    USE_LOCALE_CTYPE
    USE_LOCALE_NUMERIC
    USE_LOCALE_TIME
    USE_PERLIO
    USE_PERL_ATOF
  Built under freebsd
  Compiled at Apr 23 2025 15:15:57
  %ENV:
    PERL5LIB="/home/cpansand/.cpan/build/2025051418/Devel-Leak-0.04-0/blib/arch:/home/cpansand/.cpan/build/2025051418/Devel-Leak-0.04-0/blib/lib:/home/cpansand/.cpan/build/2025051418/BSD-Resource-1.2911-0/blib/arch:/home/cpansand/.cpan/build/2025051418/BSD-Resource-1.2911-0/blib/lib"
    PERL5OPT=""
    PERL5_CPANPLUS_IS_RUNNING="16447"
    PERL5_CPAN_IS_RUNNING="16447"
    PERL5_CPAN_IS_RUNNING_IN_RECURSION="98479,16447"
    PERLDOC="-MPod::Perldoc::ToTextOverstrike"
    PERL_BATCH="yes"
    PERL_CANARY_STABILITY_NOPROMPT="1"
    PERL_CPAN_REPORTER_CONFIG="/var/tmp/cpansmoker-1023/2025051417/cpanreporter_000_config.ini"
    PERL_EXTUTILS_AUTOINSTALL="--defaultdeps"
    PERL_USE_UNSAFE_INC="1"
  @INC:
    /home/cpansand/.cpan/build/2025051418/Devel-Leak-0.04-0/blib/arch
    /home/cpansand/.cpan/build/2025051418/Devel-Leak-0.04-0/blib/lib
    /home/cpansand/.cpan/build/2025051418/BSD-Resource-1.2911-0/blib/arch
    /home/cpansand/.cpan/build/2025051418/BSD-Resource-1.2911-0/blib/lib
    /usr/perl5.41.12/lib/site_perl/5.41.12/aarch64-freebsd
    /usr/perl5.41.12/lib/site_perl/5.41.12
    /usr/perl5.41.12/lib/5.41.12/aarch64-freebsd
    /usr/perl5.41.12/lib/5.41.12
    .