HTML-Formatter v2.16 Perl 5 v5.30.0 x86_64-linux-thread-multi-ld
- Status
- Pass
- From
- Dist
-
HTML-Formatter v2.16
- Platform
- Perl 5 v5.30.0 x86_64-linux-thread-multi-ld
- Date
- 2019-09-22 03:37:12
- ID
- 43c315d6-dcea-11e9-9d0c-2837c2393cdc
This distribution has been tested as part of the CPAN Testers
project, supporting the Perl programming language. See
http://wiki.cpantesters.org/ for more information or email
questions to cpan-testers-discuss@perl.org
--
Dear Nigel Metheringham,
This is a computer-generated report for HTML-Formatter-2.16
on perl 5.30.0, created by CPAN-Reporter-1.2018.
Thank you for uploading your work to CPAN. Congratulations!
All tests were successful.
Sections of this report:
* Tester comments
* Program output
* Prerequisites
* Environment and other context
------------------------------
TESTER COMMENTS
------------------------------
Additional comments from tester:
none provided
------------------------------
PROGRAM OUTPUT
------------------------------
Output from '/usr/bin/make test':
PERL_DL_NONLAZY=1 "/opt/Perl/bin/perl" "-MExtUtils::Command::MM" "-MTest::Harness" "-e" "undef *Test::Harness::Switches; test_harness(0, 'blib/lib', 'blib/arch')" t/*.t
t/00-compile.t ............... ok
#
# Versions for all modules listed in MYMETA.json (including optional ones):
#
# === Configure Requires ===
#
# Module Want Have
# ------------------- ---- ----
# ExtUtils::MakeMaker any 7.34
#
# === Build Requires ===
#
# Module Want Have
# ------------------- ---- ----
# ExtUtils::MakeMaker any 7.34
#
# === Test Requires ===
#
# Module Want Have
# ------------------- ---- --------
# ExtUtils::MakeMaker any 7.34
# File::Slurper any 0.012
# File::Spec any 3.78
# FindBin any 1.51
# IO::Handle any 1.40
# IPC::Open3 any 1.20
# Test::More 0.96 1.302162
# Test::Warnings any 0.026
# blib 1.01 1.07
# bytes any 1.07
# lib any 0.65
#
# === Test Recommends ===
#
# Module Want Have
# ---------- -------- --------
# CPAN::Meta 2.120900 2.150010
#
# === Runtime Requires ===
#
# Module Want Have
# ----------------------------------- ---- -----
# Carp any 1.50
# Data::Dumper any 2.174
# Encode any 3.01
# Font::Metrics::Courier any undef
# Font::Metrics::CourierBold any undef
# Font::Metrics::CourierBoldOblique any undef
# Font::Metrics::CourierOblique any undef
# Font::Metrics::Helvetica any undef
# Font::Metrics::HelveticaBold any undef
# Font::Metrics::HelveticaBoldOblique any undef
# Font::Metrics::HelveticaOblique any undef
# Font::Metrics::TimesBold any undef
# Font::Metrics::TimesBoldItalic any undef
# Font::Metrics::TimesItalic any undef
# Font::Metrics::TimesRoman any undef
# HTML::Element 3.15 5.07
# HTML::TreeBuilder any 5.07
# IO::File any 1.40
# base any 2.27
# integer any 1.01
# parent any 0.237
# strict any 1.11
# utf8 any 1.22
# warnings any 1.44
#
t/00-report-prereqs.t ........ ok
t/01_ps.t .................... ok
t/02_rtf.t ................... ok
t/03_text.t .................. ok
t/04_md.t .................... ok
t/author-critic.t ............ skipped: these tests are for testing by the author
t/author-eol.t ............... skipped: these tests are for testing by the author
t/author-no-tabs.t ........... skipped: these tests are for testing by the author
t/author-pod-spell.t ......... skipped: these tests are for testing by the author
t/author-pod-syntax.t ........ skipped: these tests are for testing by the author
t/author-portability.t ....... skipped: these tests are for testing by the author
t/author-synopsis.t .......... skipped: these tests are for testing by the author
t/release-dist-manifest.t .... skipped: these tests are for release candidate testing
t/release-distmeta.t ......... skipped: these tests are for release candidate testing
t/release-has-version.t ...... skipped: these tests are for release candidate testing
t/release-minimum-version.t .. skipped: these tests are for release candidate testing
t/release-unused-vars.t ...... skipped: these tests are for release candidate testing
t/rt111783.t ................. ok
t/rt69426.t .................. ok
All tests successful.
Files=20, Tests=94, 1 wallclock secs ( 0.08 usr 0.02 sys + 0.98 cusr 0.20 csys = 1.28 CPU)
Result: PASS
------------------------------
PREREQUISITES
------------------------------
Prerequisite modules loaded:
requires:
Module Need Have
----------------------------------- -------- --------
base 0 2.27
Carp 0 1.50
Data::Dumper 0 2.174
Encode 0 3.01
Font::Metrics::Courier 0 0
Font::Metrics::CourierBold 0 0
Font::Metrics::CourierBoldOblique 0 0
Font::Metrics::CourierOblique 0 0
Font::Metrics::Helvetica 0 0
Font::Metrics::HelveticaBold 0 0
Font::Metrics::HelveticaBoldOblique 0 0
Font::Metrics::HelveticaOblique 0 0
Font::Metrics::TimesBold 0 0
Font::Metrics::TimesBoldItalic 0 0
Font::Metrics::TimesItalic 0 0
Font::Metrics::TimesRoman 0 0
HTML::Element 3.15 5.07
HTML::TreeBuilder 0 5.07
integer 0 1.01
IO::File 0 1.40
parent 0 0.237
perl 5.008 5.030000
strict 0 1.11
utf8 0 1.22
warnings 0 1.44
build_requires:
Module Need Have
----------------------------------- -------- --------
blib 1.01 1.07
bytes 0 1.07
ExtUtils::MakeMaker 0 7.34
File::Slurper 0 0.012
File::Spec 0 3.78
FindBin 0 1.51
IO::Handle 0 1.40
IPC::Open3 0 1.20
lib 0 0.65
Test::More 0.96 1.302162
Test::Warnings 0 0.026
configure_requires:
Module Need Have
----------------------------------- -------- --------
ExtUtils::MakeMaker 0 7.34
opt_build_requires:
Module Need Have
----------------------------------- -------- --------
CPAN::Meta 2.120900 2.150010
------------------------------
ENVIRONMENT AND OTHER CONTEXT
------------------------------
Environment variables:
LANG = en_US.UTF-8
LANGUAGE =
LC_ALL = en_US.UTF-8
LC_CTYPE = C
PATH = /Users/greeneg/bin:/Users/greeneg/Applications/bin:/opt/coreos/bin:/opt/coreos/sbin:/opt/Perl/bin:/opt/Perl/sbin:/opt/Ruby/bin:/opt/X11/bin:/opt/local/bin:/opt/local/sbin:/opt/local/libexec/gnubin:/opt/local/libexec/qt4/bin:/opt/local/Library/Frameworks/wxWidgets.framework/Versions/wxWidgets/3.1/bin:/usr/local/mysql/bin:/usr/local/go/bin:/Users/ggreene/Development/hrs:/bin:/sbin:/usr/bin:/usr/sbin:/usr/local/bin:/usr/local/sbin
PERL5LIB = /Users/greeneg/.local/share/.cpan/build/Test-RequiresInternet-0.05-0/blib/arch:/Users/greeneg/.local/share/.cpan/build/Test-RequiresInternet-0.05-0/blib/lib
PERL5OPT =
PERL5_CPANPLUS_IS_RUNNING = 822
PERL5_CPAN_IS_RUNNING = 822
PERL_USE_UNSAFE_INC = 1
SHELL = /bin/zsh
TERM = xterm-256color
Perl special variables (and OS-specific diagnostics, for MSWin32):
$^X = /opt/Perl/bin/perl
$UID/$EUID = 1026 / 1026
$GID = 100 42 100
$EGID = 100 42 100
Perl module toolchain versions installed:
Module Have
------------------- --------
CPAN 2.22
CPAN::Meta 2.150010
Cwd 3.78
ExtUtils::CBuilder 0.280231
ExtUtils::Command 7.34
ExtUtils::Install 2.14
ExtUtils::MakeMaker 7.34
ExtUtils::Manifest 1.72
ExtUtils::ParseXS 3.40
File::Spec 3.78
JSON 4.02
JSON::PP 4.02
Module::Build 0.4229
Module::Signature 0.83
Parse::CPAN::Meta 2.150010
Test::Harness 3.42
Test::More 1.302162
YAML 1.29
YAML::Syck 1.31
version 0.9924
--
Summary of my perl5 (revision 5 version 30 subversion 0) configuration:
Platform:
osname=linux
osvers=5.2.11-1-default
archname=x86_64-linux-thread-multi-ld
uname='linux fenrir.tolharadys.net 5.2.11-1-default #1 smp thu aug 29 06:41:19 utc 2019 (6385110) x86_64 x86_64 x86_64 gnulinux '
config_args=''
hint=previous
useposix=true
d_sigaction=define
useithreads=define
usemultiplicity=define
use64bitint=define
use64bitall=define
uselongdouble=define
usemymalloc=n
default_inc_excludes_dot=define
bincompat5005=undef
Compiler:
cc='cc'
ccflags ='-D_REENTRANT -D_GNU_SOURCE -fwrapv -DSOCKS -fno-strict-aliasing -pipe -fstack-protector-strong -I/usr/local/include -D_LARGEFILE_SOURCE -D_FILE_OFFSET_BITS=64 -D_FORTIFY_SOURCE=2'
optimize='-O2'
cppflags='-D_REENTRANT -D_GNU_SOURCE -fwrapv -DSOCKS -fno-strict-aliasing -pipe -fstack-protector-strong -I/usr/local/include'
ccversion=''
gccversion='9.2.1 20190820 [gcc-9-branch revision 274748]'
gccosandvers=''
intsize=4
longsize=8
ptrsize=8
doublesize=8
byteorder=12345678
doublekind=3
d_longlong=define
longlongsize=8
d_longdbl=define
longdblsize=16
longdblkind=3
ivtype='long'
ivsize=8
nvtype='long double'
nvsize=16
Off_t='off_t'
lseeksize=8
alignbytes=16
prototype=define
Linker and Libraries:
ld='cc'
ldflags =' -fstack-protector-strong -L/usr/local/lib'
libpth=/usr/local/lib /usr/lib64/gcc/x86_64-suse-linux/9/include-fixed /usr/lib64/gcc/x86_64-suse-linux/9/../../../../x86_64-suse-linux/lib /usr/lib /lib/../lib64 /usr/lib/../lib64 /lib /lib64 /usr/lib64 /usr/local/lib64 /usr/local/lib /usr/lib64/gcc/x86_64-suse-linux/9/include-fixed /usr/lib64/gcc/x86_64-suse-linux/9/../../../../x86_64-suse-linux/lib /usr/lib
libs=-lpthread -lnsl -lgdbm -ldb -ldl -lm -lcrypt -lutil -lc -lgdbm_compat
perllibs=-lpthread -lnsl -ldl -lm -lcrypt -lutil -lc
libc=libc-2.29.so
so=so
useshrplib=true
libperl=libperl.so
gnulibc_version='2.29'
Dynamic Linking:
dlsrc=dl_dlopen.xs
dlext=so
d_dlsymun=undef
ccdlflags='-Wl,-E -Wl,-rpath,/opt/Perl/lib/perl5/5.30.0/x86_64-linux-thread-multi-ld/CORE'
cccdlflags='-fPIC'
lddlflags='-shared -O2 -L/usr/local/lib -fstack-protector-strong'
Characteristics of this binary (from libperl):
Compile-time options:
HAS_TIMES
MULTIPLICITY
PERLIO_LAYERS
PERL_COPY_ON_WRITE
PERL_DONT_CREATE_GVSV
PERL_IMPLICIT_CONTEXT
PERL_MALLOC_WRAP
PERL_OP_PARENT
PERL_PRESERVE_IVUV
USE_64_BIT_ALL
USE_64_BIT_INT
USE_ITHREADS
USE_LARGE_FILES
USE_LOCALE
USE_LOCALE_COLLATE
USE_LOCALE_CTYPE
USE_LOCALE_NUMERIC
USE_LOCALE_TIME
USE_LONG_DOUBLE
USE_PERLIO
USE_PERL_ATOF
USE_REENTRANT_API
USE_THREAD_SAFE_LOCALE
Built under linux
Compiled at Sep 21 2019 17:23:49
%ENV:
PERL5LIB="/Users/greeneg/.local/share/.cpan/build/Test-RequiresInternet-0.05-0/blib/arch:/Users/greeneg/.local/share/.cpan/build/Test-RequiresInternet-0.05-0/blib/lib"
PERL5OPT=""
PERL5_CPANPLUS_IS_RUNNING="822"
PERL5_CPAN_IS_RUNNING="822"
PERL_USE_UNSAFE_INC="1"
@INC:
/Users/greeneg/.local/share/.cpan/build/Test-RequiresInternet-0.05-0/blib/arch
/Users/greeneg/.local/share/.cpan/build/Test-RequiresInternet-0.05-0/blib/lib
/opt/Perl/lib/perl5/site_perl/5.30.0/x86_64-linux-thread-multi-ld
/opt/Perl/lib/perl5/site_perl/5.30.0
/opt/Perl/lib/perl5/5.30.0/x86_64-linux-thread-multi-ld
/opt/Perl/lib/perl5/5.30.0
.