Database-Async-Engine-PostgreSQL v1.004 Perl 5 v5.24.1 amd64-freebsd

Status
Pass
From
Chris Williams (BINGOS)
Dist
Database-Async-Engine-PostgreSQL v1.004
Platform
Perl 5 v5.24.1 amd64-freebsd
Date
2024-01-15 22:48:56
ID
43b9915c-b3f8-11ee-98b0-b3c3213a625c
This distribution has been tested as part of the CPAN Testers
project, supporting the Perl programming language.  See
http://wiki.cpantesters.org/ for more information or email
questions to cpan-testers-discuss@perl.org


--

Dear TEAM,

This is a computer-generated error report created automatically by
CPANPLUS, version 0.9914. Testers personal comments may appear
at the end of this report.


Thank you for uploading your work to CPAN.  Congratulations!
All tests were successful.

TEST RESULTS:

Below is the error stack from stage 'make test':

PERL_DL_NONLAZY=1 "/usr/home/cpan/pit/bare/perl-5.24.1/bin/perl5.24.1" "-MExtUtils::Command::MM" "-MTest::Harness" "-e" "undef *Test::Harness::Switches; test_harness(0, 'blib/lib', 'blib/arch')" t/*.t
t/00-check-deps.t ...... ok
t/00-compile.t ......... ok
# 
# Versions for all modules listed in MYMETA.json (including optional ones):
# 
# === Configure Requires ===
# 
#     Module              Want Have
#     ------------------- ---- ----
#     ExtUtils::MakeMaker  any 7.70
# 
# === Build Requires ===
# 
#     Module              Want Have
#     ------------------- ---- ----
#     ExtUtils::MakeMaker  any 7.70
# 
# === Test Requires ===
# 
#     Module                  Want     Have
#     ---------------------- ----- --------
#     ExtUtils::MakeMaker      any     7.70
#     File::Spec               any     3.75
#     File::Temp               any   0.2311
#     IO::Handle               any     1.36
#     IPC::Open3               any     1.20
#     Log::Any::Adapter::TAP   any 0.003003
#     Log::Any::Test         1.710    1.717
#     Test::CheckDeps        0.010    0.010
#     Test::Fatal            0.010    0.017
#     Test::MockModule       0.171  0.177.0
#     Test::More              0.98 1.302198
#     Test::Refcount          0.07     0.10
# 
# === Test Recommends ===
# 
#     Module         Want     Have
#     ---------- -------- --------
#     CPAN::Meta 2.120900 2.150010
# 
# === Runtime Requires ===
# 
#     Module                          Want     Have
#     ------------------------------ ----- --------
#     Bytes::Random::Secure            any     0.29
#     Config::Tiny                     any     2.30
#     CryptX                           any    0.080
#     Database::Async                0.019    0.019
#     Encode                           any  2.80_01
#     File::HomeDir                    any    1.006
#     Future                          0.46     0.50
#     Future::AsyncAwait              0.28     0.66
#     Log::Any                       1.050    1.717
#     MIME::Base64                     any     3.15
#     Path::Tiny                       any    0.144
#     Protocol::Database::PostgreSQL 2.000    2.000
#     Ryu                            3.004    3.005
#     Ryu::Async                     0.017    0.020
#     Syntax::Keyword::Try            0.25     0.29
#     Template                        2.28    3.101
#     URI::QueryParam                  any     5.21
#     URI::postgres                    any     0.21
#     Unicode::UTF8                    any     0.62
#     curry                          1.001 2.000001
#     indirect                         any     0.39
#     parent                           any    0.234
# 
t/00-report-prereqs.t .. ok
t/basic.t .............. skipped: set DATABASE_ASYNC_PG_TEST env var to test, but be prepared for it to *delete any and all data* in that database
t/connection.t ......... skipped: set DATABASE_ASYNC_PG_SERVICE env var to test, but be prepared for it to *delete any and all data* in that database
t/encoding.t ........... skipped: set DATABASE_ASYNC_PG_TEST env var to test
t/password.t ........... ok
t/service.t ............ ok
All tests successful.
Files=8, Tests=45,  5 wallclock secs ( 0.05 usr  0.05 sys +  2.75 cusr  1.55 csys =  4.41 CPU)
Result: PASS


PREREQUISITES:

Here is a list of prerequisites you specified and versions we
managed to load:

	  Module Name                        Have     Want
	  Bytes::Random::Secure              0.29        0
	  Config::Tiny                       2.30        0
	  CryptX                            0.080        0
	  Database::Async                   0.019    0.019
	  Encode                          2.80_01        0
	  ExtUtils::MakeMaker                7.70        0
	  File::HomeDir                     1.006        0
	  File::Spec                         3.75        0
	  File::Temp                       0.2311        0
	  Future                             0.50     0.46
	  Future::AsyncAwait                 0.66     0.28
	  IO::Handle                         1.36        0
	  IPC::Open3                         1.20        0
	  Log::Any                          1.717    1.050
	  Log::Any::Adapter::TAP         0.003003        0
	  Log::Any::Test                    1.717    1.710
	  MIME::Base64                       3.15        0
	  Path::Tiny                        0.144        0
	  Protocol::Database::PostgreSQL    2.000    2.000
	  Ryu                               3.005    3.004
	  Ryu::Async                        0.020    0.017
	  Syntax::Keyword::Try               0.29     0.25
	  Template                          3.101     2.28
	  Test::CheckDeps                   0.010    0.010
	  Test::Fatal                       0.017    0.010
	  Test::MockModule                0.177.0    0.171
	  Test::More                     1.302198     0.98
	  Test::Refcount                     0.10     0.07
	  URI::QueryParam                    5.21        0
	  URI::postgres                      0.21        0
	  Unicode::UTF8                      0.62        0
	  curry                          2.000001    1.001
	  indirect                           0.39        0
	  parent                            0.234        0

Perl module toolchain versions installed:
	Module Name                        Have
	CPANPLUS                         0.9914
	CPANPLUS::Dist::Build              0.90
	Cwd                                3.75
	ExtUtils::CBuilder             0.280236
	ExtUtils::Command                  7.70
	ExtUtils::Install                  2.22
	ExtUtils::MakeMaker                7.70
	ExtUtils::Manifest                 1.75
	ExtUtils::ParseXS                  3.51
	File::Spec                         3.75
	Module::Build                    0.4234
	Pod::Parser                        1.63
	Pod::Simple                        3.32
	Test2                          1.302198
	Test::Harness                      3.48
	Test::More                     1.302198
	version                          0.9930

******************************** NOTE ********************************
The comments above are created mechanically, possibly without manual
checking by the sender.  As there are many people performing automatic
tests on each upload to CPAN, it is likely that you will receive
identical messages about the same problem.

If you believe that the message is mistaken, please reply to the first
one with correction and/or additional informations, and do not take
it personally.  We appreciate your patience. :)
**********************************************************************

Additional comments:


This report was machine-generated by CPANPLUS::Dist::YACSmoke 1.08.
Powered by minismokebox version 0.68

CPANPLUS is prefering Build.PL

------------------------------
ENVIRONMENT AND OTHER CONTEXT
------------------------------

Environment variables:

    AUTOMATED_TESTING = 1
    NONINTERACTIVE_TESTING = 1
    PATH = /sbin:/bin:/usr/sbin:/usr/bin:/usr/local/sbin:/usr/local/bin:/home/cpan/bin
    PERL5LIB = /usr/home/cpan/pit/jail/POAIXPC40i/lib/perl5:/usr/home/cpan/pit/bare/conf/perl-5.24.1/.cpanplus/5.24.1/build/gCsqYl86Ir/SUPER-1.20190531/blib/lib:/usr/home/cpan/pit/bare/conf/perl-5.24.1/.cpanplus/5.24.1/build/gCsqYl86Ir/SUPER-1.20190531/blib/arch:/usr/home/cpan/pit/bare/conf/perl-5.24.1/.cpanplus/5.24.1/build/e2JeZ5dJ2P/Test-MockModule-v0.177.0/blib/lib:/usr/home/cpan/pit/bare/conf/perl-5.24.1/.cpanplus/5.24.1/build/e2JeZ5dJ2P/Test-MockModule-v0.177.0/blib/arch:/usr/home/cpan/pit/bare/conf/perl-5.24.1/.cpanplus/5.24.1/build/E0_EaWNK66/Database-Async-Engine-PostgreSQL-1.004/blib/lib:/usr/home/cpan/pit/bare/conf/perl-5.24.1/.cpanplus/5.24.1/build/E0_EaWNK66/Database-Async-Engine-PostgreSQL-1.004/blib/arch
    PERL5_CPANPLUS_IS_RUNNING = 29170
    PERL5_CPANPLUS_IS_VERSION = 0.9914
    PERL5_MINISMOKEBOX = 0.68
    PERL5_YACSMOKE_BASE = /usr/home/cpan/pit/bare/conf/perl-5.24.1
    PERL_EXTUTILS_AUTOINSTALL = --defaultdeps
    PERL_LOCAL_LIB_ROOT = /usr/home/cpan/pit/jail/POAIXPC40i
    PERL_MB_OPT = --install_base "/usr/home/cpan/pit/jail/POAIXPC40i"
    PERL_MM_OPT = INSTALL_BASE=/usr/home/cpan/pit/jail/POAIXPC40i
    PERL_MM_USE_DEFAULT = 1
    SHELL = /usr/local/bin/bash
    TERM = screen

Perl special variables (and OS-specific diagnostics, for MSWin32):

    Perl: $^X = /usr/home/cpan/pit/bare/perl-5.24.1/bin/perl5.24.1
    UID:  $<  = 1002
    EUID: $>  = 1002
    GID:  $(  = 1002 1002
    EGID: $)  = 1002 1002


-------------------------------


--

Summary of my perl5 (revision 5 version 24 subversion 1) configuration:
   
  Platform:
    osname=freebsd, osvers=12.4-release-p1, archname=amd64-freebsd
    uname='freebsd fforc 12.4-release-p1 freebsd 12.4-release-p1 generic amd64 '
    config_args='-des -Dprefix=/usr/home/cpan/pit/bare/perl-5.24.1'
    hint=recommended, useposix=true, d_sigaction=define
    useithreads=undef, usemultiplicity=undef
    use64bitint=define, use64bitall=define, uselongdouble=undef
    usemymalloc=n, bincompat5005=undef
  Compiler:
    cc='cc', ccflags ='-DHAS_FPSETMASK -DHAS_FLOATINGPOINT_H -fno-strict-aliasing -pipe -fstack-protector-strong -I/usr/local/include',
    optimize='-O2',
    cppflags='-DHAS_FPSETMASK -DHAS_FLOATINGPOINT_H -fno-strict-aliasing -pipe -fstack-protector-strong -I/usr/local/include'
    ccversion='', gccversion='FreeBSD Clang 13.0.0 (git@github.com:llvm/llvm-project.git llvmorg-13.0.0-0-gd7b669b3a303)', gccosandvers=''
    intsize=4, longsize=8, ptrsize=8, doublesize=8, byteorder=12345678, doublekind=3
    d_longlong=define, longlongsize=8, d_longdbl=define, longdblsize=16, longdblkind=3
    ivtype='long', ivsize=8, nvtype='double', nvsize=8, Off_t='off_t', lseeksize=8
    alignbytes=8, prototype=define
  Linker and Libraries:
    ld='cc', ldflags ='-Wl,-E  -fstack-protector-strong -L/usr/local/lib'
    libpth=/usr/lib /usr/local/lib /usr/lib/clang/13.0.0/lib /usr/lib
    libs=-lpthread -lgdbm -ldl -lm -lcrypt -lutil -lc
    perllibs=-lpthread -ldl -lm -lcrypt -lutil -lc
    libc=, so=so, useshrplib=false, libperl=libperl.a
    gnulibc_version=''
  Dynamic Linking:
    dlsrc=dl_dlopen.xs, dlext=so, d_dlsymun=undef, ccdlflags=' '
    cccdlflags='-DPIC -fPIC', lddlflags='-shared  -L/usr/local/lib -fstack-protector-strong'


Characteristics of this binary (from libperl): 
  Compile-time options: HAS_TIMES PERLIO_LAYERS PERL_COPY_ON_WRITE
                        PERL_DONT_CREATE_GVSV
                        PERL_HASH_FUNC_ONE_AT_A_TIME_HARD PERL_MALLOC_WRAP
                        PERL_PRESERVE_IVUV USE_64_BIT_ALL USE_64_BIT_INT
                        USE_LARGE_FILES USE_LOCALE USE_LOCALE_COLLATE
                        USE_LOCALE_CTYPE USE_LOCALE_NUMERIC USE_LOCALE_TIME
                        USE_PERLIO USE_PERL_ATOF
  Locally applied patches:
	Devel::PatchPerl 2.08
  Built under freebsd
  Compiled at Mar 30 2023 01:48:45
  %ENV:
    PERL5LIB="/usr/home/cpan/pit/jail/POAIXPC40i/lib/perl5:/usr/home/cpan/pit/bare/conf/perl-5.24.1/.cpanplus/5.24.1/build/gCsqYl86Ir/SUPER-1.20190531/blib/lib:/usr/home/cpan/pit/bare/conf/perl-5.24.1/.cpanplus/5.24.1/build/gCsqYl86Ir/SUPER-1.20190531/blib/arch:/usr/home/cpan/pit/bare/conf/perl-5.24.1/.cpanplus/5.24.1/build/e2JeZ5dJ2P/Test-MockModule-v0.177.0/blib/lib:/usr/home/cpan/pit/bare/conf/perl-5.24.1/.cpanplus/5.24.1/build/e2JeZ5dJ2P/Test-MockModule-v0.177.0/blib/arch:/usr/home/cpan/pit/bare/conf/perl-5.24.1/.cpanplus/5.24.1/build/E0_EaWNK66/Database-Async-Engine-PostgreSQL-1.004/blib/lib:/usr/home/cpan/pit/bare/conf/perl-5.24.1/.cpanplus/5.24.1/build/E0_EaWNK66/Database-Async-Engine-PostgreSQL-1.004/blib/arch"
    PERL5_CPANPLUS_IS_RUNNING="29170"
    PERL5_CPANPLUS_IS_VERSION="0.9914"
    PERL5_MINISMOKEBOX="0.68"
    PERL5_YACSMOKE_BASE="/usr/home/cpan/pit/bare/conf/perl-5.24.1"
    PERL_EXTUTILS_AUTOINSTALL="--defaultdeps"
    PERL_LOCAL_LIB_ROOT="/usr/home/cpan/pit/jail/POAIXPC40i"
    PERL_MB_OPT="--install_base "/usr/home/cpan/pit/jail/POAIXPC40i""
    PERL_MM_OPT="INSTALL_BASE=/usr/home/cpan/pit/jail/POAIXPC40i"
    PERL_MM_USE_DEFAULT="1"
  @INC:
    /usr/home/cpan/pit/jail/POAIXPC40i/lib/perl5/5.24.1/amd64-freebsd
    /usr/home/cpan/pit/jail/POAIXPC40i/lib/perl5/5.24.1
    /usr/home/cpan/pit/jail/POAIXPC40i/lib/perl5/amd64-freebsd
    /usr/home/cpan/pit/jail/POAIXPC40i/lib/perl5
    /usr/home/cpan/pit/bare/conf/perl-5.24.1/.cpanplus/5.24.1/build/gCsqYl86Ir/SUPER-1.20190531/blib/lib
    /usr/home/cpan/pit/bare/conf/perl-5.24.1/.cpanplus/5.24.1/build/gCsqYl86Ir/SUPER-1.20190531/blib/arch
    /usr/home/cpan/pit/bare/conf/perl-5.24.1/.cpanplus/5.24.1/build/e2JeZ5dJ2P/Test-MockModule-v0.177.0/blib/lib
    /usr/home/cpan/pit/bare/conf/perl-5.24.1/.cpanplus/5.24.1/build/e2JeZ5dJ2P/Test-MockModule-v0.177.0/blib/arch
    /usr/home/cpan/pit/bare/conf/perl-5.24.1/.cpanplus/5.24.1/build/E0_EaWNK66/Database-Async-Engine-PostgreSQL-1.004/blib/lib
    /usr/home/cpan/pit/bare/conf/perl-5.24.1/.cpanplus/5.24.1/build/E0_EaWNK66/Database-Async-Engine-PostgreSQL-1.004/blib/arch
    /usr/home/cpan/pit/bare/perl-5.24.1/lib/site_perl/5.24.1/amd64-freebsd
    /usr/home/cpan/pit/bare/perl-5.24.1/lib/site_perl/5.24.1
    /usr/home/cpan/pit/bare/perl-5.24.1/lib/5.24.1/amd64-freebsd
    /usr/home/cpan/pit/bare/perl-5.24.1/lib/5.24.1
    .