Back
From: metabase:user:322078bc-2aae-11df-837a-5e0a49663a4f
Subject: PASS Shatterproof-0.14 v5.18.0 SunOS/Solaris
Date: 2015-06-30T09:13:25Z
This distribution has been tested as part of the CPAN Testers
project, supporting the Perl programming language. See
http://wiki.cpantesters.org/ for more information or email
questions to cpan-testers-discuss@perl.org
--
Dear BOUTROSLB,
This is a computer-generated error report created automatically by
CPANPLUS, version 0.9152. Testers personal comments may appear
at the end of this report.
Thank you for uploading your work to CPAN. Congratulations!
All tests were successful.
TEST RESULTS:
Below is the error stack from stage 'make test':
PERL_DL_NONLAZY=1 "/export/home/cpan/pit/bare/perl-5.18.0/bin/perl" "-MExtUtils::Command::MM" "-MTest::Harness" "-e" "undef *Test::Harness::Switches; test_harness(0, 'blib/lib', 'blib/arch')" t/*.t
given is experimental at /export/home/cpan/pit/bare/conf/perl-5.18.0/.cpanplus/5.18.0/build/Shatterproof-0.14/blib/lib/Shatterproof.pm line 429.
when is experimental at /export/home/cpan/pit/bare/conf/perl-5.18.0/.cpanplus/5.18.0/build/Shatterproof-0.14/blib/lib/Shatterproof.pm line 430.
when is experimental at /export/home/cpan/pit/bare/conf/perl-5.18.0/.cpanplus/5.18.0/build/Shatterproof-0.14/blib/lib/Shatterproof.pm line 432.
given is experimental at /export/home/cpan/pit/bare/conf/perl-5.18.0/.cpanplus/5.18.0/build/Shatterproof-0.14/blib/lib/Shatterproof.pm line 3897.
when is experimental at /export/home/cpan/pit/bare/conf/perl-5.18.0/.cpanplus/5.18.0/build/Shatterproof-0.14/blib/lib/Shatterproof.pm line 3898.
when is experimental at /export/home/cpan/pit/bare/conf/perl-5.18.0/.cpanplus/5.18.0/build/Shatterproof-0.14/blib/lib/Shatterproof.pm line 3899.
when is experimental at /export/home/cpan/pit/bare/conf/perl-5.18.0/.cpanplus/5.18.0/build/Shatterproof-0.14/blib/lib/Shatterproof.pm line 3900.
when is experimental at /export/home/cpan/pit/bare/conf/perl-5.18.0/.cpanplus/5.18.0/build/Shatterproof-0.14/blib/lib/Shatterproof.pm line 3901.
when is experimental at /export/home/cpan/pit/bare/conf/perl-5.18.0/.cpanplus/5.18.0/build/Shatterproof-0.14/blib/lib/Shatterproof.pm line 3902.
when is experimental at /export/home/cpan/pit/bare/conf/perl-5.18.0/.cpanplus/5.18.0/build/Shatterproof-0.14/blib/lib/Shatterproof.pm line 3903.
when is experimental at /export/home/cpan/pit/bare/conf/perl-5.18.0/.cpanplus/5.18.0/build/Shatterproof-0.14/blib/lib/Shatterproof.pm line 3904.
when is experimental at /export/home/cpan/pit/bare/conf/perl-5.18.0/.cpanplus/5.18.0/build/Shatterproof-0.14/blib/lib/Shatterproof.pm line 3905.
when is experimental at /export/home/cpan/pit/bare/conf/perl-5.18.0/.cpanplus/5.18.0/build/Shatterproof-0.14/blib/lib/Shatterproof.pm line 3906.
when is experimental at /export/home/cpan/pit/bare/conf/perl-5.18.0/.cpanplus/5.18.0/build/Shatterproof-0.14/blib/lib/Shatterproof.pm line 3907.
when is experimental at /export/home/cpan/pit/bare/conf/perl-5.18.0/.cpanplus/5.18.0/build/Shatterproof-0.14/blib/lib/Shatterproof.pm line 3908.
when is experimental at /export/home/cpan/pit/bare/conf/perl-5.18.0/.cpanplus/5.18.0/build/Shatterproof-0.14/blib/lib/Shatterproof.pm line 3909.
when is experimental at /export/home/cpan/pit/bare/conf/perl-5.18.0/.cpanplus/5.18.0/build/Shatterproof-0.14/blib/lib/Shatterproof.pm line 3910.
when is experimental at /export/home/cpan/pit/bare/conf/perl-5.18.0/.cpanplus/5.18.0/build/Shatterproof-0.14/blib/lib/Shatterproof.pm line 3911.
when is experimental at /export/home/cpan/pit/bare/conf/perl-5.18.0/.cpanplus/5.18.0/build/Shatterproof-0.14/blib/lib/Shatterproof.pm line 3912.
when is experimental at /export/home/cpan/pit/bare/conf/perl-5.18.0/.cpanplus/5.18.0/build/Shatterproof-0.14/blib/lib/Shatterproof.pm line 3913.
when is experimental at /export/home/cpan/pit/bare/conf/perl-5.18.0/.cpanplus/5.18.0/build/Shatterproof-0.14/blib/lib/Shatterproof.pm line 3914.
when is experimental at /export/home/cpan/pit/bare/conf/perl-5.18.0/.cpanplus/5.18.0/build/Shatterproof-0.14/blib/lib/Shatterproof.pm line 3915.
when is experimental at /export/home/cpan/pit/bare/conf/perl-5.18.0/.cpanplus/5.18.0/build/Shatterproof-0.14/blib/lib/Shatterproof.pm line 3916.
t/analyze_cnv_data.t ............................... ok
given is experimental at /export/home/cpan/pit/bare/conf/perl-5.18.0/.cpanplus/5.18.0/build/Shatterproof-0.14/blib/lib/Shatterproof.pm line 429.
when is experimental at /export/home/cpan/pit/bare/conf/perl-5.18.0/.cpanplus/5.18.0/build/Shatterproof-0.14/blib/lib/Shatterproof.pm line 430.
when is experimental at /export/home/cpan/pit/bare/conf/perl-5.18.0/.cpanplus/5.18.0/build/Shatterproof-0.14/blib/lib/Shatterproof.pm line 432.
given is experimental at /export/home/cpan/pit/bare/conf/perl-5.18.0/.cpanplus/5.18.0/build/Shatterproof-0.14/blib/lib/Shatterproof.pm line 3897.
when is experimental at /export/home/cpan/pit/bare/conf/perl-5.18.0/.cpanplus/5.18.0/build/Shatterproof-0.14/blib/lib/Shatterproof.pm line 3898.
when is experimental at /export/home/cpan/pit/bare/conf/perl-5.18.0/.cpanplus/5.18.0/build/Shatterproof-0.14/blib/lib/Shatterproof.pm line 3899.
when is experimental at /export/home/cpan/pit/bare/conf/perl-5.18.0/.cpanplus/5.18.0/build/Shatterproof-0.14/blib/lib/Shatterproof.pm line 3900.
when is experimental at /export/home/cpan/pit/bare/conf/perl-5.18.0/.cpanplus/5.18.0/build/Shatterproof-0.14/blib/lib/Shatterproof.pm line 3901.
when is experimental at /export/home/cpan/pit/bare/conf/perl-5.18.0/.cpanplus/5.18.0/build/Shatterproof-0.14/blib/lib/Shatterproof.pm line 3902.
when is experimental at /export/home/cpan/pit/bare/conf/perl-5.18.0/.cpanplus/5.18.0/build/Shatterproof-0.14/blib/lib/Shatterproof.pm line 3903.
when is experimental at /export/home/cpan/pit/bare/conf/perl-5.18.0/.cpanplus/5.18.0/build/Shatterproof-0.14/blib/lib/Shatterproof.pm line 3904.
when is experimental at /export/home/cpan/pit/bare/conf/perl-5.18.0/.cpanplus/5.18.0/build/Shatterproof-0.14/blib/lib/Shatterproof.pm line 3905.
when is experimental at /export/home/cpan/pit/bare/conf/perl-5.18.0/.cpanplus/5.18.0/build/Shatterproof-0.14/blib/lib/Shatterproof.pm line 3906.
when is experimental at /export/home/cpan/pit/bare/conf/perl-5.18.0/.cpanplus/5.18.0/build/Shatterproof-0.14/blib/lib/Shatterproof.pm line 3907.
when is experimental at /export/home/cpan/pit/bare/conf/perl-5.18.0/.cpanplus/5.18.0/build/Shatterproof-0.14/blib/lib/Shatterproof.pm line 3908.
when is experimental at /export/home/cpan/pit/bare/conf/perl-5.18.0/.cpanplus/5.18.0/build/Shatterproof-0.14/blib/lib/Shatterproof.pm line 3909.
when is experimental at /export/home/cpan/pit/bare/conf/perl-5.18.0/.cpanplus/5.18.0/build/Shatterproof-0.14/blib/lib/Shatterproof.pm line 3910.
when is experimental at /export/home/cpan/pit/bare/conf/perl-5.18.0/.cpanplus/5.18.0/build/Shatterproof-0.14/blib/lib/Shatterproof.pm line 3911.
when is experimental at /export/home/cpan/pit/bare/conf/perl-5.18.0/.cpanplus/5.18.0/build/Shatterproof-0.14/blib/lib/Shatterproof.pm line 3912.
when is experimental at /export/home/cpan/pit/bare/conf/perl-5.18.0/.cpanplus/5.18.0/build/Shatterproof-0.14/blib/lib/Shatterproof.pm line 3913.
when is experimental at /export/home/cpan/pit/bare/conf/perl-5.18.0/.cpanplus/5.18.0/build/Shatterproof-0.14/blib/lib/Shatterproof.pm line 3914.
when is experimental at /export/home/cpan/pit/bare/conf/perl-5.18.0/.cpanplus/5.18.0/build/Shatterproof-0.14/blib/lib/Shatterproof.pm line 3915.
when is experimental at /export/home/cpan/pit/bare/conf/perl-5.18.0/.cpanplus/5.18.0/build/Shatterproof-0.14/blib/lib/Shatterproof.pm line 3916.
t/analyze_likely_regions.t ......................... ok
given is experimental at /export/home/cpan/pit/bare/conf/perl-5.18.0/.cpanplus/5.18.0/build/Shatterproof-0.14/blib/lib/Shatterproof.pm line 429.
when is experimental at /export/home/cpan/pit/bare/conf/perl-5.18.0/.cpanplus/5.18.0/build/Shatterproof-0.14/blib/lib/Shatterproof.pm line 430.
when is experimental at /export/home/cpan/pit/bare/conf/perl-5.18.0/.cpanplus/5.18.0/build/Shatterproof-0.14/blib/lib/Shatterproof.pm line 432.
given is experimental at /export/home/cpan/pit/bare/conf/perl-5.18.0/.cpanplus/5.18.0/build/Shatterproof-0.14/blib/lib/Shatterproof.pm line 3897.
when is experimental at /export/home/cpan/pit/bare/conf/perl-5.18.0/.cpanplus/5.18.0/build/Shatterproof-0.14/blib/lib/Shatterproof.pm line 3898.
when is experimental at /export/home/cpan/pit/bare/conf/perl-5.18.0/.cpanplus/5.18.0/build/Shatterproof-0.14/blib/lib/Shatterproof.pm line 3899.
when is experimental at /export/home/cpan/pit/bare/conf/perl-5.18.0/.cpanplus/5.18.0/build/Shatterproof-0.14/blib/lib/Shatterproof.pm line 3900.
when is experimental at /export/home/cpan/pit/bare/conf/perl-5.18.0/.cpanplus/5.18.0/build/Shatterproof-0.14/blib/lib/Shatterproof.pm line 3901.
when is experimental at /export/home/cpan/pit/bare/conf/perl-5.18.0/.cpanplus/5.18.0/build/Shatterproof-0.14/blib/lib/Shatterproof.pm line 3902.
when is experimental at /export/home/cpan/pit/bare/conf/perl-5.18.0/.cpanplus/5.18.0/build/Shatterproof-0.14/blib/lib/Shatterproof.pm line 3903.
when is experimental at /export/home/cpan/pit/bare/conf/perl-5.18.0/.cpanplus/5.18.0/build/Shatterproof-0.14/blib/lib/Shatterproof.pm line 3904.
when is experimental at /export/home/cpan/pit/bare/conf/perl-5.18.0/.cpanplus/5.18.0/build/Shatterproof-0.14/blib/lib/Shatterproof.pm line 3905.
when is experimental at /export/home/cpan/pit/bare/conf/perl-5.18.0/.cpanplus/5.18.0/build/Shatterproof-0.14/blib/lib/Shatterproof.pm line 3906.
when is experimental at /export/home/cpan/pit/bare/conf/perl-5.18.0/.cpanplus/5.18.0/build/Shatterproof-0.14/blib/lib/Shatterproof.pm line 3907.
when is experimental at /export/home/cpan/pit/bare/conf/perl-5.18.0/.cpanplus/5.18.0/build/Shatterproof-0.14/blib/lib/Shatterproof.pm line 3908.
when is experimental at /export/home/cpan/pit/bare/conf/perl-5.18.0/.cpanplus/5.18.0/build/Shatterproof-0.14/blib/lib/Shatterproof.pm line 3909.
when is experimental at /export/home/cpan/pit/bare/conf/perl-5.18.0/.cpanplus/5.18.0/build/Shatterproof-0.14/blib/lib/Shatterproof.pm line 3910.
when is experimental at /export/home/cpan/pit/bare/conf/perl-5.18.0/.cpanplus/5.18.0/build/Shatterproof-0.14/blib/lib/Shatterproof.pm line 3911.
when is experimental at /export/home/cpan/pit/bare/conf/perl-5.18.0/.cpanplus/5.18.0/build/Shatterproof-0.14/blib/lib/Shatterproof.pm line 3912.
when is experimental at /export/home/cpan/pit/bare/conf/perl-5.18.0/.cpanplus/5.18.0/build/Shatterproof-0.14/blib/lib/Shatterproof.pm line 3913.
when is experimental at /export/home/cpan/pit/bare/conf/perl-5.18.0/.cpanplus/5.18.0/build/Shatterproof-0.14/blib/lib/Shatterproof.pm line 3914.
when is experimental at /export/home/cpan/pit/bare/conf/perl-5.18.0/.cpanplus/5.18.0/build/Shatterproof-0.14/blib/lib/Shatterproof.pm line 3915.
when is experimental at /export/home/cpan/pit/bare/conf/perl-5.18.0/.cpanplus/5.18.0/build/Shatterproof-0.14/blib/lib/Shatterproof.pm line 3916.
t/analyze_trans_data.t ............................. ok
given is experimental at /export/home/cpan/pit/bare/conf/perl-5.18.0/.cpanplus/5.18.0/build/Shatterproof-0.14/blib/lib/Shatterproof.pm line 429.
when is experimental at /export/home/cpan/pit/bare/conf/perl-5.18.0/.cpanplus/5.18.0/build/Shatterproof-0.14/blib/lib/Shatterproof.pm line 430.
when is experimental at /export/home/cpan/pit/bare/conf/perl-5.18.0/.cpanplus/5.18.0/build/Shatterproof-0.14/blib/lib/Shatterproof.pm line 432.
given is experimental at /export/home/cpan/pit/bare/conf/perl-5.18.0/.cpanplus/5.18.0/build/Shatterproof-0.14/blib/lib/Shatterproof.pm line 3897.
when is experimental at /export/home/cpan/pit/bare/conf/perl-5.18.0/.cpanplus/5.18.0/build/Shatterproof-0.14/blib/lib/Shatterproof.pm line 3898.
when is experimental at /export/home/cpan/pit/bare/conf/perl-5.18.0/.cpanplus/5.18.0/build/Shatterproof-0.14/blib/lib/Shatterproof.pm line 3899.
when is experimental at /export/home/cpan/pit/bare/conf/perl-5.18.0/.cpanplus/5.18.0/build/Shatterproof-0.14/blib/lib/Shatterproof.pm line 3900.
when is experimental at /export/home/cpan/pit/bare/conf/perl-5.18.0/.cpanplus/5.18.0/build/Shatterproof-0.14/blib/lib/Shatterproof.pm line 3901.
when is experimental at /export/home/cpan/pit/bare/conf/perl-5.18.0/.cpanplus/5.18.0/build/Shatterproof-0.14/blib/lib/Shatterproof.pm line 3902.
when is experimental at /export/home/cpan/pit/bare/conf/perl-5.18.0/.cpanplus/5.18.0/build/Shatterproof-0.14/blib/lib/Shatterproof.pm line 3903.
when is experimental at /export/home/cpan/pit/bare/conf/perl-5.18.0/.cpanplus/5.18.0/build/Shatterproof-0.14/blib/lib/Shatterproof.pm line 3904.
when is experimental at /export/home/cpan/pit/bare/conf/perl-5.18.0/.cpanplus/5.18.0/build/Shatterproof-0.14/blib/lib/Shatterproof.pm line 3905.
when is experimental at /export/home/cpan/pit/bare/conf/perl-5.18.0/.cpanplus/5.18.0/build/Shatterproof-0.14/blib/lib/Shatterproof.pm line 3906.
when is experimental at /export/home/cpan/pit/bare/conf/perl-5.18.0/.cpanplus/5.18.0/build/Shatterproof-0.14/blib/lib/Shatterproof.pm line 3907.
when is experimental at /export/home/cpan/pit/bare/conf/perl-5.18.0/.cpanplus/5.18.0/build/Shatterproof-0.14/blib/lib/Shatterproof.pm line 3908.
when is experimental at /export/home/cpan/pit/bare/conf/perl-5.18.0/.cpanplus/5.18.0/build/Shatterproof-0.14/blib/lib/Shatterproof.pm line 3909.
when is experimental at /export/home/cpan/pit/bare/conf/perl-5.18.0/.cpanplus/5.18.0/build/Shatterproof-0.14/blib/lib/Shatterproof.pm line 3910.
when is experimental at /export/home/cpan/pit/bare/conf/perl-5.18.0/.cpanplus/5.18.0/build/Shatterproof-0.14/blib/lib/Shatterproof.pm line 3911.
when is experimental at /export/home/cpan/pit/bare/conf/perl-5.18.0/.cpanplus/5.18.0/build/Shatterproof-0.14/blib/lib/Shatterproof.pm line 3912.
when is experimental at /export/home/cpan/pit/bare/conf/perl-5.18.0/.cpanplus/5.18.0/build/Shatterproof-0.14/blib/lib/Shatterproof.pm line 3913.
when is experimental at /export/home/cpan/pit/bare/conf/perl-5.18.0/.cpanplus/5.18.0/build/Shatterproof-0.14/blib/lib/Shatterproof.pm line 3914.
when is experimental at /export/home/cpan/pit/bare/conf/perl-5.18.0/.cpanplus/5.18.0/build/Shatterproof-0.14/blib/lib/Shatterproof.pm line 3915.
when is experimental at /export/home/cpan/pit/bare/conf/perl-5.18.0/.cpanplus/5.18.0/build/Shatterproof-0.14/blib/lib/Shatterproof.pm line 3916.
t/calculate_chromosome_localization.t .............. ok
given is experimental at /export/home/cpan/pit/bare/conf/perl-5.18.0/.cpanplus/5.18.0/build/Shatterproof-0.14/blib/lib/Shatterproof.pm line 429.
when is experimental at /export/home/cpan/pit/bare/conf/perl-5.18.0/.cpanplus/5.18.0/build/Shatterproof-0.14/blib/lib/Shatterproof.pm line 430.
when is experimental at /export/home/cpan/pit/bare/conf/perl-5.18.0/.cpanplus/5.18.0/build/Shatterproof-0.14/blib/lib/Shatterproof.pm line 432.
given is experimental at /export/home/cpan/pit/bare/conf/perl-5.18.0/.cpanplus/5.18.0/build/Shatterproof-0.14/blib/lib/Shatterproof.pm line 3897.
when is experimental at /export/home/cpan/pit/bare/conf/perl-5.18.0/.cpanplus/5.18.0/build/Shatterproof-0.14/blib/lib/Shatterproof.pm line 3898.
when is experimental at /export/home/cpan/pit/bare/conf/perl-5.18.0/.cpanplus/5.18.0/build/Shatterproof-0.14/blib/lib/Shatterproof.pm line 3899.
when is experimental at /export/home/cpan/pit/bare/conf/perl-5.18.0/.cpanplus/5.18.0/build/Shatterproof-0.14/blib/lib/Shatterproof.pm line 3900.
when is experimental at /export/home/cpan/pit/bare/conf/perl-5.18.0/.cpanplus/5.18.0/build/Shatterproof-0.14/blib/lib/Shatterproof.pm line 3901.
when is experimental at /export/home/cpan/pit/bare/conf/perl-5.18.0/.cpanplus/5.18.0/build/Shatterproof-0.14/blib/lib/Shatterproof.pm line 3902.
when is experimental at /export/home/cpan/pit/bare/conf/perl-5.18.0/.cpanplus/5.18.0/build/Shatterproof-0.14/blib/lib/Shatterproof.pm line 3903.
when is experimental at /export/home/cpan/pit/bare/conf/perl-5.18.0/.cpanplus/5.18.0/build/Shatterproof-0.14/blib/lib/Shatterproof.pm line 3904.
when is experimental at /export/home/cpan/pit/bare/conf/perl-5.18.0/.cpanplus/5.18.0/build/Shatterproof-0.14/blib/lib/Shatterproof.pm line 3905.
when is experimental at /export/home/cpan/pit/bare/conf/perl-5.18.0/.cpanplus/5.18.0/build/Shatterproof-0.14/blib/lib/Shatterproof.pm line 3906.
when is experimental at /export/home/cpan/pit/bare/conf/perl-5.18.0/.cpanplus/5.18.0/build/Shatterproof-0.14/blib/lib/Shatterproof.pm line 3907.
when is experimental at /export/home/cpan/pit/bare/conf/perl-5.18.0/.cpanplus/5.18.0/build/Shatterproof-0.14/blib/lib/Shatterproof.pm line 3908.
when is experimental at /export/home/cpan/pit/bare/conf/perl-5.18.0/.cpanplus/5.18.0/build/Shatterproof-0.14/blib/lib/Shatterproof.pm line 3909.
when is experimental at /export/home/cpan/pit/bare/conf/perl-5.18.0/.cpanplus/5.18.0/build/Shatterproof-0.14/blib/lib/Shatterproof.pm line 3910.
when is experimental at /export/home/cpan/pit/bare/conf/perl-5.18.0/.cpanplus/5.18.0/build/Shatterproof-0.14/blib/lib/Shatterproof.pm line 3911.
when is experimental at /export/home/cpan/pit/bare/conf/perl-5.18.0/.cpanplus/5.18.0/build/Shatterproof-0.14/blib/lib/Shatterproof.pm line 3912.
when is experimental at /export/home/cpan/pit/bare/conf/perl-5.18.0/.cpanplus/5.18.0/build/Shatterproof-0.14/blib/lib/Shatterproof.pm line 3913.
when is experimental at /export/home/cpan/pit/bare/conf/perl-5.18.0/.cpanplus/5.18.0/build/Shatterproof-0.14/blib/lib/Shatterproof.pm line 3914.
when is experimental at /export/home/cpan/pit/bare/conf/perl-5.18.0/.cpanplus/5.18.0/build/Shatterproof-0.14/blib/lib/Shatterproof.pm line 3915.
when is experimental at /export/home/cpan/pit/bare/conf/perl-5.18.0/.cpanplus/5.18.0/build/Shatterproof-0.14/blib/lib/Shatterproof.pm line 3916.
t/calculate_genome_localization.t .................. ok
given is experimental at /export/home/cpan/pit/bare/conf/perl-5.18.0/.cpanplus/5.18.0/build/Shatterproof-0.14/blib/lib/Shatterproof.pm line 429.
when is experimental at /export/home/cpan/pit/bare/conf/perl-5.18.0/.cpanplus/5.18.0/build/Shatterproof-0.14/blib/lib/Shatterproof.pm line 430.
when is experimental at /export/home/cpan/pit/bare/conf/perl-5.18.0/.cpanplus/5.18.0/build/Shatterproof-0.14/blib/lib/Shatterproof.pm line 432.
given is experimental at /export/home/cpan/pit/bare/conf/perl-5.18.0/.cpanplus/5.18.0/build/Shatterproof-0.14/blib/lib/Shatterproof.pm line 3897.
when is experimental at /export/home/cpan/pit/bare/conf/perl-5.18.0/.cpanplus/5.18.0/build/Shatterproof-0.14/blib/lib/Shatterproof.pm line 3898.
when is experimental at /export/home/cpan/pit/bare/conf/perl-5.18.0/.cpanplus/5.18.0/build/Shatterproof-0.14/blib/lib/Shatterproof.pm line 3899.
when is experimental at /export/home/cpan/pit/bare/conf/perl-5.18.0/.cpanplus/5.18.0/build/Shatterproof-0.14/blib/lib/Shatterproof.pm line 3900.
when is experimental at /export/home/cpan/pit/bare/conf/perl-5.18.0/.cpanplus/5.18.0/build/Shatterproof-0.14/blib/lib/Shatterproof.pm line 3901.
when is experimental at /export/home/cpan/pit/bare/conf/perl-5.18.0/.cpanplus/5.18.0/build/Shatterproof-0.14/blib/lib/Shatterproof.pm line 3902.
when is experimental at /export/home/cpan/pit/bare/conf/perl-5.18.0/.cpanplus/5.18.0/build/Shatterproof-0.14/blib/lib/Shatterproof.pm line 3903.
when is experimental at /export/home/cpan/pit/bare/conf/perl-5.18.0/.cpanplus/5.18.0/build/Shatterproof-0.14/blib/lib/Shatterproof.pm line 3904.
when is experimental at /export/home/cpan/pit/bare/conf/perl-5.18.0/.cpanplus/5.18.0/build/Shatterproof-0.14/blib/lib/Shatterproof.pm line 3905.
when is experimental at /export/home/cpan/pit/bare/conf/perl-5.18.0/.cpanplus/5.18.0/build/Shatterproof-0.14/blib/lib/Shatterproof.pm line 3906.
when is experimental at /export/home/cpan/pit/bare/conf/perl-5.18.0/.cpanplus/5.18.0/build/Shatterproof-0.14/blib/lib/Shatterproof.pm line 3907.
when is experimental at /export/home/cpan/pit/bare/conf/perl-5.18.0/.cpanplus/5.18.0/build/Shatterproof-0.14/blib/lib/Shatterproof.pm line 3908.
when is experimental at /export/home/cpan/pit/bare/conf/perl-5.18.0/.cpanplus/5.18.0/build/Shatterproof-0.14/blib/lib/Shatterproof.pm line 3909.
when is experimental at /export/home/cpan/pit/bare/conf/perl-5.18.0/.cpanplus/5.18.0/build/Shatterproof-0.14/blib/lib/Shatterproof.pm line 3910.
when is experimental at /export/home/cpan/pit/bare/conf/perl-5.18.0/.cpanplus/5.18.0/build/Shatterproof-0.14/blib/lib/Shatterproof.pm line 3911.
when is experimental at /export/home/cpan/pit/bare/conf/perl-5.18.0/.cpanplus/5.18.0/build/Shatterproof-0.14/blib/lib/Shatterproof.pm line 3912.
when is experimental at /export/home/cpan/pit/bare/conf/perl-5.18.0/.cpanplus/5.18.0/build/Shatterproof-0.14/blib/lib/Shatterproof.pm line 3913.
when is experimental at /export/home/cpan/pit/bare/conf/perl-5.18.0/.cpanplus/5.18.0/build/Shatterproof-0.14/blib/lib/Shatterproof.pm line 3914.
when is experimental at /export/home/cpan/pit/bare/conf/perl-5.18.0/.cpanplus/5.18.0/build/Shatterproof-0.14/blib/lib/Shatterproof.pm line 3915.
when is experimental at /export/home/cpan/pit/bare/conf/perl-5.18.0/.cpanplus/5.18.0/build/Shatterproof-0.14/blib/lib/Shatterproof.pm line 3916.
t/calculate_interchromosomal_translocation_rate.t .. ok
given is experimental at /export/home/cpan/pit/bare/conf/perl-5.18.0/.cpanplus/5.18.0/build/Shatterproof-0.14/blib/lib/Shatterproof.pm line 429.
when is experimental at /export/home/cpan/pit/bare/conf/perl-5.18.0/.cpanplus/5.18.0/build/Shatterproof-0.14/blib/lib/Shatterproof.pm line 430.
when is experimental at /export/home/cpan/pit/bare/conf/perl-5.18.0/.cpanplus/5.18.0/build/Shatterproof-0.14/blib/lib/Shatterproof.pm line 432.
given is experimental at /export/home/cpan/pit/bare/conf/perl-5.18.0/.cpanplus/5.18.0/build/Shatterproof-0.14/blib/lib/Shatterproof.pm line 3897.
when is experimental at /export/home/cpan/pit/bare/conf/perl-5.18.0/.cpanplus/5.18.0/build/Shatterproof-0.14/blib/lib/Shatterproof.pm line 3898.
when is experimental at /export/home/cpan/pit/bare/conf/perl-5.18.0/.cpanplus/5.18.0/build/Shatterproof-0.14/blib/lib/Shatterproof.pm line 3899.
when is experimental at /export/home/cpan/pit/bare/conf/perl-5.18.0/.cpanplus/5.18.0/build/Shatterproof-0.14/blib/lib/Shatterproof.pm line 3900.
when is experimental at /export/home/cpan/pit/bare/conf/perl-5.18.0/.cpanplus/5.18.0/build/Shatterproof-0.14/blib/lib/Shatterproof.pm line 3901.
when is experimental at /export/home/cpan/pit/bare/conf/perl-5.18.0/.cpanplus/5.18.0/build/Shatterproof-0.14/blib/lib/Shatterproof.pm line 3902.
when is experimental at /export/home/cpan/pit/bare/conf/perl-5.18.0/.cpanplus/5.18.0/build/Shatterproof-0.14/blib/lib/Shatterproof.pm line 3903.
when is experimental at /export/home/cpan/pit/bare/conf/perl-5.18.0/.cpanplus/5.18.0/build/Shatterproof-0.14/blib/lib/Shatterproof.pm line 3904.
when is experimental at /export/home/cpan/pit/bare/conf/perl-5.18.0/.cpanplus/5.18.0/build/Shatterproof-0.14/blib/lib/Shatterproof.pm line 3905.
when is experimental at /export/home/cpan/pit/bare/conf/perl-5.18.0/.cpanplus/5.18.0/build/Shatterproof-0.14/blib/lib/Shatterproof.pm line 3906.
when is experimental at /export/home/cpan/pit/bare/conf/perl-5.18.0/.cpanplus/5.18.0/build/Shatterproof-0.14/blib/lib/Shatterproof.pm line 3907.
when is experimental at /export/home/cpan/pit/bare/conf/perl-5.18.0/.cpanplus/5.18.0/build/Shatterproof-0.14/blib/lib/Shatterproof.pm line 3908.
when is experimental at /export/home/cpan/pit/bare/conf/perl-5.18.0/.cpanplus/5.18.0/build/Shatterproof-0.14/blib/lib/Shatterproof.pm line 3909.
when is experimental at /export/home/cpan/pit/bare/conf/perl-5.18.0/.cpanplus/5.18.0/build/Shatterproof-0.14/blib/lib/Shatterproof.pm line 3910.
when is experimental at /export/home/cpan/pit/bare/conf/perl-5.18.0/.cpanplus/5.18.0/build/Shatterproof-0.14/blib/lib/Shatterproof.pm line 3911.
when is experimental at /export/home/cpan/pit/bare/conf/perl-5.18.0/.cpanplus/5.18.0/build/Shatterproof-0.14/blib/lib/Shatterproof.pm line 3912.
when is experimental at /export/home/cpan/pit/bare/conf/perl-5.18.0/.cpanplus/5.18.0/build/Shatterproof-0.14/blib/lib/Shatterproof.pm line 3913.
when is experimental at /export/home/cpan/pit/bare/conf/perl-5.18.0/.cpanplus/5.18.0/build/Shatterproof-0.14/blib/lib/Shatterproof.pm line 3914.
when is experimental at /export/home/cpan/pit/bare/conf/perl-5.18.0/.cpanplus/5.18.0/build/Shatterproof-0.14/blib/lib/Shatterproof.pm line 3915.
when is experimental at /export/home/cpan/pit/bare/conf/perl-5.18.0/.cpanplus/5.18.0/build/Shatterproof-0.14/blib/lib/Shatterproof.pm line 3916.
t/check_copy_number_count.t ........................ ok
given is experimental at /export/home/cpan/pit/bare/conf/perl-5.18.0/.cpanplus/5.18.0/build/Shatterproof-0.14/blib/lib/Shatterproof.pm line 429.
when is experimental at /export/home/cpan/pit/bare/conf/perl-5.18.0/.cpanplus/5.18.0/build/Shatterproof-0.14/blib/lib/Shatterproof.pm line 430.
when is experimental at /export/home/cpan/pit/bare/conf/perl-5.18.0/.cpanplus/5.18.0/build/Shatterproof-0.14/blib/lib/Shatterproof.pm line 432.
given is experimental at /export/home/cpan/pit/bare/conf/perl-5.18.0/.cpanplus/5.18.0/build/Shatterproof-0.14/blib/lib/Shatterproof.pm line 3897.
when is experimental at /export/home/cpan/pit/bare/conf/perl-5.18.0/.cpanplus/5.18.0/build/Shatterproof-0.14/blib/lib/Shatterproof.pm line 3898.
when is experimental at /export/home/cpan/pit/bare/conf/perl-5.18.0/.cpanplus/5.18.0/build/Shatterproof-0.14/blib/lib/Shatterproof.pm line 3899.
when is experimental at /export/home/cpan/pit/bare/conf/perl-5.18.0/.cpanplus/5.18.0/build/Shatterproof-0.14/blib/lib/Shatterproof.pm line 3900.
when is experimental at /export/home/cpan/pit/bare/conf/perl-5.18.0/.cpanplus/5.18.0/build/Shatterproof-0.14/blib/lib/Shatterproof.pm line 3901.
when is experimental at /export/home/cpan/pit/bare/conf/perl-5.18.0/.cpanplus/5.18.0/build/Shatterproof-0.14/blib/lib/Shatterproof.pm line 3902.
when is experimental at /export/home/cpan/pit/bare/conf/perl-5.18.0/.cpanplus/5.18.0/build/Shatterproof-0.14/blib/lib/Shatterproof.pm line 3903.
when is experimental at /export/home/cpan/pit/bare/conf/perl-5.18.0/.cpanplus/5.18.0/build/Shatterproof-0.14/blib/lib/Shatterproof.pm line 3904.
when is experimental at /export/home/cpan/pit/bare/conf/perl-5.18.0/.cpanplus/5.18.0/build/Shatterproof-0.14/blib/lib/Shatterproof.pm line 3905.
when is experimental at /export/home/cpan/pit/bare/conf/perl-5.18.0/.cpanplus/5.18.0/build/Shatterproof-0.14/blib/lib/Shatterproof.pm line 3906.
when is experimental at /export/home/cpan/pit/bare/conf/perl-5.18.0/.cpanplus/5.18.0/build/Shatterproof-0.14/blib/lib/Shatterproof.pm line 3907.
when is experimental at /export/home/cpan/pit/bare/conf/perl-5.18.0/.cpanplus/5.18.0/build/Shatterproof-0.14/blib/lib/Shatterproof.pm line 3908.
when is experimental at /export/home/cpan/pit/bare/conf/perl-5.18.0/.cpanplus/5.18.0/build/Shatterproof-0.14/blib/lib/Shatterproof.pm line 3909.
when is experimental at /export/home/cpan/pit/bare/conf/perl-5.18.0/.cpanplus/5.18.0/build/Shatterproof-0.14/blib/lib/Shatterproof.pm line 3910.
when is experimental at /export/home/cpan/pit/bare/conf/perl-5.18.0/.cpanplus/5.18.0/build/Shatterproof-0.14/blib/lib/Shatterproof.pm line 3911.
when is experimental at /export/home/cpan/pit/bare/conf/perl-5.18.0/.cpanplus/5.18.0/build/Shatterproof-0.14/blib/lib/Shatterproof.pm line 3912.
when is experimental at /export/home/cpan/pit/bare/conf/perl-5.18.0/.cpanplus/5.18.0/build/Shatterproof-0.14/blib/lib/Shatterproof.pm line 3913.
when is experimental at /export/home/cpan/pit/bare/conf/perl-5.18.0/.cpanplus/5.18.0/build/Shatterproof-0.14/blib/lib/Shatterproof.pm line 3914.
when is experimental at /export/home/cpan/pit/bare/conf/perl-5.18.0/.cpanplus/5.18.0/build/Shatterproof-0.14/blib/lib/Shatterproof.pm line 3915.
when is experimental at /export/home/cpan/pit/bare/conf/perl-5.18.0/.cpanplus/5.18.0/build/Shatterproof-0.14/blib/lib/Shatterproof.pm line 3916.
t/check_copy_number_switches.t ..................... ok
given is experimental at /export/home/cpan/pit/bare/conf/perl-5.18.0/.cpanplus/5.18.0/build/Shatterproof-0.14/blib/lib/Shatterproof.pm line 429.
when is experimental at /export/home/cpan/pit/bare/conf/perl-5.18.0/.cpanplus/5.18.0/build/Shatterproof-0.14/blib/lib/Shatterproof.pm line 430.
when is experimental at /export/home/cpan/pit/bare/conf/perl-5.18.0/.cpanplus/5.18.0/build/Shatterproof-0.14/blib/lib/Shatterproof.pm line 432.
given is experimental at /export/home/cpan/pit/bare/conf/perl-5.18.0/.cpanplus/5.18.0/build/Shatterproof-0.14/blib/lib/Shatterproof.pm line 3897.
when is experimental at /export/home/cpan/pit/bare/conf/perl-5.18.0/.cpanplus/5.18.0/build/Shatterproof-0.14/blib/lib/Shatterproof.pm line 3898.
when is experimental at /export/home/cpan/pit/bare/conf/perl-5.18.0/.cpanplus/5.18.0/build/Shatterproof-0.14/blib/lib/Shatterproof.pm line 3899.
when is experimental at /export/home/cpan/pit/bare/conf/perl-5.18.0/.cpanplus/5.18.0/build/Shatterproof-0.14/blib/lib/Shatterproof.pm line 3900.
when is experimental at /export/home/cpan/pit/bare/conf/perl-5.18.0/.cpanplus/5.18.0/build/Shatterproof-0.14/blib/lib/Shatterproof.pm line 3901.
when is experimental at /export/home/cpan/pit/bare/conf/perl-5.18.0/.cpanplus/5.18.0/build/Shatterproof-0.14/blib/lib/Shatterproof.pm line 3902.
when is experimental at /export/home/cpan/pit/bare/conf/perl-5.18.0/.cpanplus/5.18.0/build/Shatterproof-0.14/blib/lib/Shatterproof.pm line 3903.
when is experimental at /export/home/cpan/pit/bare/conf/perl-5.18.0/.cpanplus/5.18.0/build/Shatterproof-0.14/blib/lib/Shatterproof.pm line 3904.
when is experimental at /export/home/cpan/pit/bare/conf/perl-5.18.0/.cpanplus/5.18.0/build/Shatterproof-0.14/blib/lib/Shatterproof.pm line 3905.
when is experimental at /export/home/cpan/pit/bare/conf/perl-5.18.0/.cpanplus/5.18.0/build/Shatterproof-0.14/blib/lib/Shatterproof.pm line 3906.
when is experimental at /export/home/cpan/pit/bare/conf/perl-5.18.0/.cpanplus/5.18.0/build/Shatterproof-0.14/blib/lib/Shatterproof.pm line 3907.
when is experimental at /export/home/cpan/pit/bare/conf/perl-5.18.0/.cpanplus/5.18.0/build/Shatterproof-0.14/blib/lib/Shatterproof.pm line 3908.
when is experimental at /export/home/cpan/pit/bare/conf/perl-5.18.0/.cpanplus/5.18.0/build/Shatterproof-0.14/blib/lib/Shatterproof.pm line 3909.
when is experimental at /export/home/cpan/pit/bare/conf/perl-5.18.0/.cpanplus/5.18.0/build/Shatterproof-0.14/blib/lib/Shatterproof.pm line 3910.
when is experimental at /export/home/cpan/pit/bare/conf/perl-5.18.0/.cpanplus/5.18.0/build/Shatterproof-0.14/blib/lib/Shatterproof.pm line 3911.
when is experimental at /export/home/cpan/pit/bare/conf/perl-5.18.0/.cpanplus/5.18.0/build/Shatterproof-0.14/blib/lib/Shatterproof.pm line 3912.
when is experimental at /export/home/cpan/pit/bare/conf/perl-5.18.0/.cpanplus/5.18.0/build/Shatterproof-0.14/blib/lib/Shatterproof.pm line 3913.
when is experimental at /export/home/cpan/pit/bare/conf/perl-5.18.0/.cpanplus/5.18.0/build/Shatterproof-0.14/blib/lib/Shatterproof.pm line 3914.
when is experimental at /export/home/cpan/pit/bare/conf/perl-5.18.0/.cpanplus/5.18.0/build/Shatterproof-0.14/blib/lib/Shatterproof.pm line 3915.
when is experimental at /export/home/cpan/pit/bare/conf/perl-5.18.0/.cpanplus/5.18.0/build/Shatterproof-0.14/blib/lib/Shatterproof.pm line 3916.
t/standard_deviation_and_mean.t .................... ok
All tests successful.
Files=9, Tests=64, 59 wallclock secs ( 0.04 usr 0.03 sys + 45.40 cusr 2.28 csys = 47.75 CPU)
Result: PASS
PREREQUISITES:
Here is a list of prerequisites you specified and versions we
managed to load:
Module Name Have Want
ExtUtils::MakeMaker 7.04 0
File::Basename 2.84 2
JSON::XS 3.01 2.3
List::Util 1.27 1
POSIX 1.32 1
Statistics::Distributions 1.02 1.02
Test::Deep 0.117 0
Test::Exception 0.40 0
Test::More 1.001014 0
Perl module toolchain versions installed:
Module Name Have
CPANPLUS 0.9152
CPANPLUS::Dist::Build 0.78
Cwd 3.47
ExtUtils::CBuilder 0.280223
ExtUtils::Command 1.17
ExtUtils::Install 2.04
ExtUtils::MakeMaker 7.04
ExtUtils::Manifest 1.70
ExtUtils::ParseXS 3.24
File::Spec 3.47
Module::Build 0.4214
Pod::Parser 1.60
Pod::Simple 3.28
Test::Harness 3.35
Test::More 1.001014
version 0.9912
******************************** NOTE ********************************
The comments above are created mechanically, possibly without manual
checking by the sender. As there are many people performing automatic
tests on each upload to CPAN, it is likely that you will receive
identical messages about the same problem.
If you believe that the message is mistaken, please reply to the first
one with correction and/or additional informations, and do not take
it personally. We appreciate your patience. :)
**********************************************************************
Additional comments:
This report was machine-generated by CPANPLUS::Dist::YACSmoke 0.94.
Powered by minismokebox version 0.58
------------------------------
ENVIRONMENT AND OTHER CONTEXT
------------------------------
Environment variables:
AUTOMATED_TESTING = 1
LANG = en_US.UTF-8
LC_ALL =
LC_COLLATE =
LC_CTYPE =
LC_MESSAGES =
LC_MONETARY =
LC_NUMERIC =
LC_TIME =
NONINTERACTIVE_TESTING = 1
PATH = /export/home/cpan/pit/bare/conf/perl-5.18.0/.cpanplus/5.18.0/build/JSON-XS-3.01/blib/script:/opt/solarisstudio12.3/bin:/opt/solarisstudio12.3/bin:/usr/bin:/usr/sbin
PERL5LIB = :/export/home/cpan/pit/bare/conf/perl-5.18.0/.cpanplus/5.18.0/build/common-sense-3.74/blib/lib:/export/home/cpan/pit/bare/conf/perl-5.18.0/.cpanplus/5.18.0/build/common-sense-3.74/blib/arch:/export/home/cpan/pit/bare/conf/perl-5.18.0/.cpanplus/5.18.0/build/Types-Serialiser-1.0/blib/lib:/export/home/cpan/pit/bare/conf/perl-5.18.0/.cpanplus/5.18.0/build/Types-Serialiser-1.0/blib/arch:/export/home/cpan/pit/bare/conf/perl-5.18.0/.cpanplus/5.18.0/build/JSON-XS-3.01/blib/lib:/export/home/cpan/pit/bare/conf/perl-5.18.0/.cpanplus/5.18.0/build/JSON-XS-3.01/blib/arch:/export/home/cpan/pit/bare/conf/perl-5.18.0/.cpanplus/5.18.0/build/Statistics-Distributions-1.02/blib/lib:/export/home/cpan/pit/bare/conf/perl-5.18.0/.cpanplus/5.18.0/build/Statistics-Distributions-1.02/blib/arch:/export/home/cpan/pit/bare/conf/perl-5.18.0/.cpanplus/5.18.0/build/Test-NoWarnings-1.04/blib/lib:/export/home/cpan/pit/bare/conf/perl-5.18.0/.cpanplus/5.18.0/build/Test-NoWarnings-1.04/blib/arch:/export/home/cpan/pit/bare/conf/perl-5.18.0/.cpanplus/5.18.0/build/Test-Deep-0.117/blib/lib:/export/home/cpan/pit/bare/conf/perl-5.18.0/.cpanplus/5.18.0/build/Test-Deep-0.117/blib/arch:/export/home/cpan/pit/bare/conf/perl-5.18.0/.cpanplus/5.18.0/build/Sub-Uplevel-0.25/blib/lib:/export/home/cpan/pit/bare/conf/perl-5.18.0/.cpanplus/5.18.0/build/Sub-Uplevel-0.25/blib/arch:/export/home/cpan/pit/bare/conf/perl-5.18.0/.cpanplus/5.18.0/build/Test-Exception-0.40/blib/lib:/export/home/cpan/pit/bare/conf/perl-5.18.0/.cpanplus/5.18.0/build/Test-Exception-0.40/blib/arch:/export/home/cpan/pit/bare/conf/perl-5.18.0/.cpanplus/5.18.0/build/Shatterproof-0.14/blib/lib:/export/home/cpan/pit/bare/conf/perl-5.18.0/.cpanplus/5.18.0/build/Shatterproof-0.14/blib/arch
PERL5_CPANPLUS_IS_RUNNING = 23852
PERL5_CPANPLUS_IS_VERSION = 0.9152
PERL5_MINISMOKEBOX = 0.58
PERL5_YACSMOKE_BASE = /export/home/cpan/pit/bare/conf/perl-5.18.0
PERL_EXTUTILS_AUTOINSTALL = --defaultdeps
PERL_MM_USE_DEFAULT = 1
SHELL = /usr/bin/bash
TERM = screen
Perl special variables (and OS-specific diagnostics, for MSWin32):
Perl: $^X = /export/home/cpan/pit/bare/perl-5.18.0/bin/perl
UID: $< = 101
EUID: $> = 101
GID: $( = 100 100
EGID: $) = 100 100
-------------------------------
--
Summary of my perl5 (revision 5 version 18 subversion 0) configuration:
Platform:
osname=solaris, osvers=2.11, archname=i86pc-solaris-64
uname='sunos soflyn 5.11 11.2 i86pc i386 i86pc '
config_args='-des -Dprefix=/export/home/cpan/pit/bare/perl-5.18.0 -Duse64bitall'
hint=recommended, useposix=true, d_sigaction=define
useithreads=undef, usemultiplicity=undef
useperlio=define, d_sfio=undef, uselargefiles=define, usesocks=undef
use64bitint=define, use64bitall=define, uselongdouble=undef
usemymalloc=n, bincompat5005=undef
Compiler:
cc='/opt/solarisstudio12.3/bin/cc', ccflags ='-m64 -D_LARGEFILE_SOURCE -D_FILE_OFFSET_BITS=64 -DPERL_USE_SAFE_PUTENV',
optimize='-O',
cppflags='-m64'
ccversion='Sun C 5.12 SunOS_i386 2011/11/16', gccversion='', gccosandvers=''
intsize=4, longsize=8, ptrsize=8, doublesize=8, byteorder=12345678
d_longlong=define, longlongsize=8, d_longdbl=define, longdblsize=16
ivtype='long', ivsize=8, nvtype='double', nvsize=8, Off_t='off_t', lseeksize=8
alignbytes=8, prototype=define
Linker and Libraries:
ld='/opt/solarisstudio12.3/bin/cc', ldflags =' -m64 -L/opt/solarisstudio12.3/prod/lib/amd64 -L/lib/64 -L/usr/gnu/lib '
libpth=/opt/solarisstudio12.3/prod/lib/amd64 /lib/64 /usr/gnu/lib /usr/lib /usr/ccs/lib
libs=-lsocket -lnsl -lgdbm -ldb -ldl -lm -lc
perllibs=-lsocket -lnsl -ldl -lm -lc
libc=/lib/libc.so, so=so, useshrplib=false, libperl=libperl.a
gnulibc_version=''
Dynamic Linking:
dlsrc=dl_dlopen.xs, dlext=so, d_dlsymun=undef, ccdlflags=' '
cccdlflags='-KPIC', lddlflags=' -G -m64 -L/opt/solarisstudio12.3/prod/lib/amd64 -L/lib/64 -L/usr/gnu/lib'
Characteristics of this binary (from libperl):
Compile-time options: HAS_TIMES PERLIO_LAYERS PERL_DONT_CREATE_GVSV
PERL_HASH_FUNC_ONE_AT_A_TIME_HARD PERL_MALLOC_WRAP
PERL_PRESERVE_IVUV PERL_SAWAMPERSAND
PERL_USE_SAFE_PUTENV USE_64_BIT_ALL USE_64_BIT_INT
USE_LARGE_FILES USE_LOCALE USE_LOCALE_COLLATE
USE_LOCALE_CTYPE USE_LOCALE_NUMERIC USE_PERLIO
USE_PERL_ATOF
Locally applied patches:
Devel::PatchPerl 1.34
Built under solaris
Compiled at Jun 16 2015 12:51:39
%ENV:
PERL5LIB=":/export/home/cpan/pit/bare/conf/perl-5.18.0/.cpanplus/5.18.0/build/common-sense-3.74/blib/lib:/export/home/cpan/pit/bare/conf/perl-5.18.0/.cpanplus/5.18.0/build/common-sense-3.74/blib/arch:/export/home/cpan/pit/bare/conf/perl-5.18.0/.cpanplus/5.18.0/build/Types-Serialiser-1.0/blib/lib:/export/home/cpan/pit/bare/conf/perl-5.18.0/.cpanplus/5.18.0/build/Types-Serialiser-1.0/blib/arch:/export/home/cpan/pit/bare/conf/perl-5.18.0/.cpanplus/5.18.0/build/JSON-XS-3.01/blib/lib:/export/home/cpan/pit/bare/conf/perl-5.18.0/.cpanplus/5.18.0/build/JSON-XS-3.01/blib/arch:/export/home/cpan/pit/bare/conf/perl-5.18.0/.cpanplus/5.18.0/build/Statistics-Distributions-1.02/blib/lib:/export/home/cpan/pit/bare/conf/perl-5.18.0/.cpanplus/5.18.0/build/Statistics-Distributions-1.02/blib/arch:/export/home/cpan/pit/bare/conf/perl-5.18.0/.cpanplus/5.18.0/build/Test-NoWarnings-1.04/blib/lib:/export/home/cpan/pit/bare/conf/perl-5.18.0/.cpanplus/5.18.0/build/Test-NoWarnings-1.04/blib/arch:/export/home/cpan/pit/bare/conf/perl-5.18.0/.cpanplus/5.18.0/build/Test-Deep-0.117/blib/lib:/export/home/cpan/pit/bare/conf/perl-5.18.0/.cpanplus/5.18.0/build/Test-Deep-0.117/blib/arch:/export/home/cpan/pit/bare/conf/perl-5.18.0/.cpanplus/5.18.0/build/Sub-Uplevel-0.25/blib/lib:/export/home/cpan/pit/bare/conf/perl-5.18.0/.cpanplus/5.18.0/build/Sub-Uplevel-0.25/blib/arch:/export/home/cpan/pit/bare/conf/perl-5.18.0/.cpanplus/5.18.0/build/Test-Exception-0.40/blib/lib:/export/home/cpan/pit/bare/conf/perl-5.18.0/.cpanplus/5.18.0/build/Test-Exception-0.40/blib/arch:/export/home/cpan/pit/bare/conf/perl-5.18.0/.cpanplus/5.18.0/build/Shatterproof-0.14/blib/lib:/export/home/cpan/pit/bare/conf/perl-5.18.0/.cpanplus/5.18.0/build/Shatterproof-0.14/blib/arch"
PERL5_CPANPLUS_IS_RUNNING="23852"
PERL5_CPANPLUS_IS_VERSION="0.9152"
PERL5_MINISMOKEBOX="0.58"
PERL5_YACSMOKE_BASE="/export/home/cpan/pit/bare/conf/perl-5.18.0"
PERL_EXTUTILS_AUTOINSTALL="--defaultdeps"
PERL_MM_USE_DEFAULT="1"
@INC:
/export/home/cpan/pit/bare/conf/perl-5.18.0/.cpanplus/5.18.0/build/common-sense-3.74/blib/lib
/export/home/cpan/pit/bare/conf/perl-5.18.0/.cpanplus/5.18.0/build/common-sense-3.74/blib/arch
/export/home/cpan/pit/bare/conf/perl-5.18.0/.cpanplus/5.18.0/build/Types-Serialiser-1.0/blib/lib
/export/home/cpan/pit/bare/conf/perl-5.18.0/.cpanplus/5.18.0/build/Types-Serialiser-1.0/blib/arch
/export/home/cpan/pit/bare/conf/perl-5.18.0/.cpanplus/5.18.0/build/JSON-XS-3.01/blib/lib
/export/home/cpan/pit/bare/conf/perl-5.18.0/.cpanplus/5.18.0/build/JSON-XS-3.01/blib/arch
/export/home/cpan/pit/bare/conf/perl-5.18.0/.cpanplus/5.18.0/build/Statistics-Distributions-1.02/blib/lib
/export/home/cpan/pit/bare/conf/perl-5.18.0/.cpanplus/5.18.0/build/Statistics-Distributions-1.02/blib/arch
/export/home/cpan/pit/bare/conf/perl-5.18.0/.cpanplus/5.18.0/build/Test-NoWarnings-1.04/blib/lib
/export/home/cpan/pit/bare/conf/perl-5.18.0/.cpanplus/5.18.0/build/Test-NoWarnings-1.04/blib/arch
/export/home/cpan/pit/bare/conf/perl-5.18.0/.cpanplus/5.18.0/build/Test-Deep-0.117/blib/lib
/export/home/cpan/pit/bare/conf/perl-5.18.0/.cpanplus/5.18.0/build/Test-Deep-0.117/blib/arch
/export/home/cpan/pit/bare/conf/perl-5.18.0/.cpanplus/5.18.0/build/Sub-Uplevel-0.25/blib/lib
/export/home/cpan/pit/bare/conf/perl-5.18.0/.cpanplus/5.18.0/build/Sub-Uplevel-0.25/blib/arch
/export/home/cpan/pit/bare/conf/perl-5.18.0/.cpanplus/5.18.0/build/Test-Exception-0.40/blib/lib
/export/home/cpan/pit/bare/conf/perl-5.18.0/.cpanplus/5.18.0/build/Test-Exception-0.40/blib/arch
/export/home/cpan/pit/bare/conf/perl-5.18.0/.cpanplus/5.18.0/build/Shatterproof-0.14/blib/lib
/export/home/cpan/pit/bare/conf/perl-5.18.0/.cpanplus/5.18.0/build/Shatterproof-0.14/blib/arch
/export/home/cpan/pit/bare/perl-5.18.0/lib/site_perl/5.18.0/i86pc-solaris-64
/export/home/cpan/pit/bare/perl-5.18.0/lib/site_perl/5.18.0
/export/home/cpan/pit/bare/perl-5.18.0/lib/5.18.0/i86pc-solaris-64
/export/home/cpan/pit/bare/perl-5.18.0/lib/5.18.0
.