Mail-Mbox-MessageParser v1.5111 Perl 5 v5.40.2 RC1 x86_64-linux-thread-multi-ld

Status
Pass
From
Andreas J. König (ANDK)
Dist
Mail-Mbox-MessageParser v1.5111
Platform
Perl 5 v5.40.2 RC1 x86_64-linux-thread-multi-ld
Date
2025-04-04 11:45:10
ID
43a16b26-114a-11f0-b025-8556785b0f4f
This distribution has been tested as part of the CPAN Testers
project, supporting the Perl programming language.  See
http://wiki.cpantesters.org/ for more information or email
questions to cpan-testers-discuss@perl.org


--
Dear David Coppit,

This is a computer-generated report for Mail-Mbox-MessageParser-1.5111
on perl 5.40.2, created by CPAN-Reporter-1.2020.

Thank you for uploading your work to CPAN.  Congratulations!
All tests were successful.

Sections of this report:

    * Tester comments
    * Program output
    * Prerequisites
    * Environment and other context

------------------------------
TESTER COMMENTS
------------------------------

Additional comments from tester:

this report is from an automated smoke testing program
and was not reviewed by a human for accuracy

------------------------------
PROGRAM OUTPUT
------------------------------

Output from '/usr/bin/make test':

PERL_DL_NONLAZY=1 "/tmp/basesmoker-reloperl-WLyo/bin/perl" "-MExtUtils::Command::MM" "-MTest::Harness" "-e" "undef *Test::Harness::Switches; test_harness(1, 'blib/lib', 'blib/arch')" t/*.t
t/000_standard__compile.t ....... 
1..6
ok 1 - blib/lib/Mail/Mbox/MessageParser.pm compiles
ok 2 - blib/lib/Mail/Mbox/MessageParser/Cache.pm compiles
ok 3 - blib/lib/Mail/Mbox/MessageParser/Config.pm compiles
ok 4 - blib/lib/Mail/Mbox/MessageParser/Grep.pm compiles
ok 5 - blib/lib/Mail/Mbox/MessageParser/MetaInfo.pm compiles
ok 6 - blib/lib/Mail/Mbox/MessageParser/Perl.pm compiles
ok
t/000_standard__perl_critic.t ... skipped: Author test. Set $ENV{TEST_AUTHOR} to a true value to run.
t/000_standard__pod.t ........... 
1..6
ok 1 - POD test for blib/lib/Mail/Mbox/MessageParser.pm
ok 2 - POD test for blib/lib/Mail/Mbox/MessageParser/Grep.pm
ok 3 - POD test for blib/lib/Mail/Mbox/MessageParser/Cache.pm
ok 4 - POD test for blib/lib/Mail/Mbox/MessageParser/Config.pm
ok 5 - POD test for blib/lib/Mail/Mbox/MessageParser/MetaInfo.pm
ok 6 - POD test for blib/lib/Mail/Mbox/MessageParser/Perl.pm
ok
t/000_standard__pod_coverage.t .. 
1..6
ok 1 - Pod coverage on Mail::Mbox::MessageParser
ok 2 - Pod coverage on Mail::Mbox::MessageParser::Grep
ok 3 - Pod coverage on Mail::Mbox::MessageParser::Cache
ok 4 - Pod coverage on Mail::Mbox::MessageParser::Config
ok 5 - Pod coverage on Mail::Mbox::MessageParser::MetaInfo
ok 6 - Pod coverage on Mail::Mbox::MessageParser::Perl
ok
t/appended_mailbox.t ............ 
1..6
Testing modified mailbox with Perl implementation
Comparing /tmp/drcB3wNYxB to t/mailboxes/mailarc-1.txt
Output /tmp/drcB3wNYxB looks good.
ok 1 - Computing differences
Testing modified mailbox with Cache implementation
Comparing /tmp/zN5m1bhgVA to t/mailboxes/mailarc-1.txt
Output /tmp/zN5m1bhgVA looks good.
ok 2 - Computing differences
Testing modified mailbox with Grep implementation
ok 3 # skip GNU grep not available
Testing modified mailbox with Perl implementation
Comparing /tmp/aax8iYw6Cc to t/mailboxes/mailarc-1.txt
Output /tmp/aax8iYw6Cc looks good.
ok 4 - Computing differences
Testing modified mailbox with Cache implementation
Comparing /tmp/s12dAtymvt to t/mailboxes/mailarc-1.txt
Output /tmp/s12dAtymvt looks good.
ok 5 - Computing differences
Testing modified mailbox with Grep implementation
ok 6 # skip GNU grep not available
ok
t/bzip2.t ....................... 
1..1
Running test:
  "/usr/bin/cat" "t/mailboxes/mailarc-2.txt.bz2" | "/usr/bin/bzip2" -cd
Comparing /tmp/z4DKRXLNpw to t/results/mailarc-2.txt
Output /tmp/z4DKRXLNpw looks good.
Comparing /tmp/1JwGIqhwqX to t/results/none
Output /tmp/1JwGIqhwqX looks good.
ok 1 - Computing differences
ok
t/endline.t ..................... 
1..8
Testing filename: t/mailboxes/mailarc-1-dos.txt
ok 1 - Dos endline expected
ok 2 - Dos endline expected
ok 3 - Dos endline expected
ok 4 # skip GNU grep not available
Testing filename: t/mailboxes/mailarc-1.txt
ok 5 - Unix endline expected
ok 6 - Unix endline expected
ok 7 - Unix endline expected
ok 8 # skip GNU grep not available
ok
t/filehandle_compressed.t ....... 
1..16
Testing filename: t/mailboxes/mailarc-2.txt.bz2
Comparing /tmp/0art9LsIHg to t/mailboxes/mailarc-2.txt
Output /tmp/0art9LsIHg looks good.
ok 1 - Computing differences
Comparing /tmp/9iIwFa3mtm to t/mailboxes/mailarc-2.txt
Output /tmp/9iIwFa3mtm looks good.
ok 2 - Computing differences
Comparing /tmp/ppyYvzq7Pk to t/mailboxes/mailarc-2.txt
Output /tmp/ppyYvzq7Pk looks good.
ok 3 - Computing differences
ok 4 # skip GNU grep not available
Testing filename: t/mailboxes/mailarc-2.txt.gz
Comparing /tmp/qUVuYYRPcg to t/mailboxes/mailarc-2.txt
Output /tmp/qUVuYYRPcg looks good.
ok 5 - Computing differences
Comparing /tmp/p2kbCKEUcJ to t/mailboxes/mailarc-2.txt
Output /tmp/p2kbCKEUcJ looks good.
ok 6 - Computing differences
Comparing /tmp/OKyo0skXZR to t/mailboxes/mailarc-2.txt
Output /tmp/OKyo0skXZR looks good.
ok 7 - Computing differences
ok 8 # skip GNU grep not available
Testing filename: t/mailboxes/mailarc-2.txt.lz
ok 9 # skip lzip not available
ok 10 # skip lzip not available
ok 11 # skip lzip not available
ok 12 # skip lzip not available
Testing filename: t/mailboxes/mailarc-2.txt.xz
Comparing /tmp/12XAQWiV3p to t/mailboxes/mailarc-2.txt
Output /tmp/12XAQWiV3p looks good.
ok 13 - Computing differences
Comparing /tmp/RZBg4abN9z to t/mailboxes/mailarc-2.txt
Output /tmp/RZBg4abN9z looks good.
ok 14 - Computing differences
Comparing /tmp/sYxwsviyxe to t/mailboxes/mailarc-2.txt
Output /tmp/sYxwsviyxe looks good.
ok 15 - Computing differences
ok 16 # skip GNU grep not available
ok
t/filehandle_noncompressed.t .... 
1..44
Testing filename: t/mailboxes/binary_body.txt
Comparing /tmp/QCEFAZMqdO to t/mailboxes/binary_body.txt
Output /tmp/QCEFAZMqdO looks good.
ok 1 - Computing differences
Comparing /tmp/XJrW4Jb5cc to t/mailboxes/binary_body.txt
Output /tmp/XJrW4Jb5cc looks good.
ok 2 - Computing differences
Comparing /tmp/VslcsgFlfr to t/mailboxes/binary_body.txt
Output /tmp/VslcsgFlfr looks good.
ok 3 - Computing differences
ok 4 # skip GNU grep not available
Testing filename: t/mailboxes/hessbug.txt
Comparing /tmp/WAEF1OQ8HW to t/mailboxes/hessbug.txt
Output /tmp/WAEF1OQ8HW looks good.
ok 5 - Computing differences
Comparing /tmp/ZKJQZmCGw4 to t/mailboxes/hessbug.txt
Output /tmp/ZKJQZmCGw4 looks good.
ok 6 - Computing differences
Comparing /tmp/FfwR1ctCl7 to t/mailboxes/hessbug.txt
Output /tmp/FfwR1ctCl7 looks good.
ok 7 - Computing differences
ok 8 # skip GNU grep not available
Testing filename: t/mailboxes/invalid-boundaries.txt
Comparing /tmp/mDSHfZPlvT to t/mailboxes/invalid-boundaries.txt
Output /tmp/mDSHfZPlvT looks good.
ok 9 - Computing differences
Comparing /tmp/gW2aaqtgLm to t/mailboxes/invalid-boundaries.txt
Output /tmp/gW2aaqtgLm looks good.
ok 10 - Computing differences
Comparing /tmp/mlTFSags2g to t/mailboxes/invalid-boundaries.txt
Output /tmp/mlTFSags2g looks good.
ok 11 - Computing differences
ok 12 # skip GNU grep not available
Testing filename: t/mailboxes/mailarc-1-dos.txt
Comparing /tmp/ctymu0eFNN to t/mailboxes/mailarc-1-dos.txt
Output /tmp/ctymu0eFNN looks good.
ok 13 - Computing differences
Comparing /tmp/MjO2xEJbIN to t/mailboxes/mailarc-1-dos.txt
Output /tmp/MjO2xEJbIN looks good.
ok 14 - Computing differences
Comparing /tmp/5QgjeOmzpY to t/mailboxes/mailarc-1-dos.txt
Output /tmp/5QgjeOmzpY looks good.
ok 15 - Computing differences
ok 16 # skip GNU grep not available
Testing filename: t/mailboxes/mailarc-1.txt
Comparing /tmp/2dH9QxQcpS to t/mailboxes/mailarc-1.txt
Output /tmp/2dH9QxQcpS looks good.
ok 17 - Computing differences
Comparing /tmp/B3fZV6Yvzx to t/mailboxes/mailarc-1.txt
Output /tmp/B3fZV6Yvzx looks good.
ok 18 - Computing differences
Comparing /tmp/TZTy4YSMPg to t/mailboxes/mailarc-1.txt
Output /tmp/TZTy4YSMPg looks good.
ok 19 - Computing differences
ok 20 # skip GNU grep not available
Testing filename: t/mailboxes/mailarc-2.txt
Comparing /tmp/RzmutGRhWe to t/mailboxes/mailarc-2.txt
Output /tmp/RzmutGRhWe looks good.
ok 21 - Computing differences
Comparing /tmp/0aMBQXVRlu to t/mailboxes/mailarc-2.txt
Output /tmp/0aMBQXVRlu looks good.
ok 22 - Computing differences
Comparing /tmp/rte_5Prfr2 to t/mailboxes/mailarc-2.txt
Output /tmp/rte_5Prfr2 looks good.
ok 23 - Computing differences
ok 24 # skip GNU grep not available
Testing filename: t/mailboxes/mailarc-3.txt
Comparing /tmp/ekzSolzZoC to t/mailboxes/mailarc-3.txt
Output /tmp/ekzSolzZoC looks good.
ok 25 - Computing differences
Comparing /tmp/LChBKhEcmv to t/mailboxes/mailarc-3.txt
Output /tmp/LChBKhEcmv looks good.
ok 26 - Computing differences
Comparing /tmp/xO4ntdNe1o to t/mailboxes/mailarc-3.txt
Output /tmp/xO4ntdNe1o looks good.
ok 27 - Computing differences
ok 28 # skip GNU grep not available
Testing filename: t/mailboxes/mailseparators.txt
Comparing /tmp/ILBUgo4P_4 to t/mailboxes/mailseparators.txt
Output /tmp/ILBUgo4P_4 looks good.
ok 29 - Computing differences
Comparing /tmp/95xh2XPUHE to t/mailboxes/mailseparators.txt
Output /tmp/95xh2XPUHE looks good.
ok 30 - Computing differences
Comparing /tmp/8vsaGlSJNx to t/mailboxes/mailseparators.txt
Output /tmp/8vsaGlSJNx looks good.
ok 31 - Computing differences
ok 32 # skip GNU grep not available
Testing filename: t/mailboxes/malformed.txt
Comparing /tmp/gAs2ymeTXL to t/mailboxes/malformed.txt
Output /tmp/gAs2ymeTXL looks good.
ok 33 - Computing differences
Comparing /tmp/BuqFbcBi3a to t/mailboxes/malformed.txt
Output /tmp/BuqFbcBi3a looks good.
ok 34 - Computing differences
Comparing /tmp/9aHsiUfWPf to t/mailboxes/malformed.txt
Output /tmp/9aHsiUfWPf looks good.
ok 35 - Computing differences
ok 36 # skip GNU grep not available
Testing filename: t/mailboxes/newlines_at_beginning.txt
Comparing /tmp/q31ekxMe8v to t/mailboxes/newlines_at_beginning.txt
Output /tmp/q31ekxMe8v looks good.
ok 37 - Computing differences
Comparing /tmp/4Z_DFYXrAa to t/mailboxes/newlines_at_beginning.txt
Output /tmp/4Z_DFYXrAa looks good.
ok 38 - Computing differences
Comparing /tmp/MAj9m2omAk to t/mailboxes/newlines_at_beginning.txt
Output /tmp/MAj9m2omAk looks good.
ok 39 - Computing differences
ok 40 # skip GNU grep not available
Testing filename: t/mailboxes/vm-emacs.txt
Comparing /tmp/jSgX5GLr7S to t/mailboxes/vm-emacs.txt
Output /tmp/jSgX5GLr7S looks good.
ok 41 - Computing differences
Comparing /tmp/L5smxJKNdE to t/mailboxes/vm-emacs.txt
Output /tmp/L5smxJKNdE looks good.
ok 42 - Computing differences
Comparing /tmp/7PxmDYefnJ to t/mailboxes/vm-emacs.txt
Output /tmp/7PxmDYefnJ looks good.
ok 43 - Computing differences
ok 44 # skip GNU grep not available
ok
t/filename_compressed.t ......... 
1..4
Testing filename: t/mailboxes/mailarc-2.txt.bz2
Comparing /tmp/kaq6OKKbhf to t/mailboxes/mailarc-2.txt
Output /tmp/kaq6OKKbhf looks good.
ok 1 - Computing differences
Testing filename: t/mailboxes/mailarc-2.txt.gz
Comparing /tmp/0tRK1i9POa to t/mailboxes/mailarc-2.txt
Output /tmp/0tRK1i9POa looks good.
ok 2 - Computing differences
Testing filename: t/mailboxes/mailarc-2.txt.lz
ok 3 # skip lzip not available
Testing filename: t/mailboxes/mailarc-2.txt.xz
Comparing /tmp/nkxp4A85Rn to t/mailboxes/mailarc-2.txt
Output /tmp/nkxp4A85Rn looks good.
ok 4 - Computing differences
ok
t/filename_noncompressed.t ...... 
1..11
Testing filename: t/mailboxes/binary_body.txt
Comparing /tmp/xL4wg1tZS_ to t/mailboxes/binary_body.txt
Output /tmp/xL4wg1tZS_ looks good.
ok 1 - Computing differences
Testing filename: t/mailboxes/hessbug.txt
Comparing /tmp/0uoNH8vpCl to t/mailboxes/hessbug.txt
Output /tmp/0uoNH8vpCl looks good.
ok 2 - Computing differences
Testing filename: t/mailboxes/invalid-boundaries.txt
Comparing /tmp/vfi2lU9ghx to t/mailboxes/invalid-boundaries.txt
Output /tmp/vfi2lU9ghx looks good.
ok 3 - Computing differences
Testing filename: t/mailboxes/mailarc-1-dos.txt
Comparing /tmp/Hyv6Agr8b2 to t/mailboxes/mailarc-1-dos.txt
Output /tmp/Hyv6Agr8b2 looks good.
ok 4 - Computing differences
Testing filename: t/mailboxes/mailarc-1.txt
Comparing /tmp/xJXHfl5Vkc to t/mailboxes/mailarc-1.txt
Output /tmp/xJXHfl5Vkc looks good.
ok 5 - Computing differences
Testing filename: t/mailboxes/mailarc-2.txt
Comparing /tmp/algnhhTlj7 to t/mailboxes/mailarc-2.txt
Output /tmp/algnhhTlj7 looks good.
ok 6 - Computing differences
Testing filename: t/mailboxes/mailarc-3.txt
Comparing /tmp/wq85mXP8YO to t/mailboxes/mailarc-3.txt
Output /tmp/wq85mXP8YO looks good.
ok 7 - Computing differences
Testing filename: t/mailboxes/mailseparators.txt
Comparing /tmp/UYwU6IOS_t to t/mailboxes/mailseparators.txt
Output /tmp/UYwU6IOS_t looks good.
ok 8 - Computing differences
Testing filename: t/mailboxes/malformed.txt
Comparing /tmp/III47oeRPe to t/mailboxes/malformed.txt
Output /tmp/III47oeRPe looks good.
ok 9 - Computing differences
Testing filename: t/mailboxes/newlines_at_beginning.txt
Comparing /tmp/KLd6TVBg03 to t/mailboxes/newlines_at_beginning.txt
Output /tmp/KLd6TVBg03 looks good.
ok 10 - Computing differences
Testing filename: t/mailboxes/vm-emacs.txt
Comparing /tmp/ehVVUCvHJF to t/mailboxes/vm-emacs.txt
Output /tmp/ehVVUCvHJF looks good.
ok 11 - Computing differences
ok
t/grep.t ........................ 
1..4
Running test:
  unset LC_ALL LC_COLLATE LANG LC_CTYPE LC_MESSAGES; grep --extended-regexp --line-number --byte-offset --binary-files=text "^From [^:]+(:[0-9][0-9]){1,2}(  *([A-Z]{2,6}|[+-]?[0-9]{4})){1,3}( remote from .*)?
?$" t/mailboxes/mailarc-1.txt
ok 1 # skip 1
Running test:
  unset LC_ALL LC_COLLATE LANG LC_CTYPE LC_MESSAGES; grep --extended-regexp --line-number --byte-offset --binary-files=text "^From [^:]+(:[0-9][0-9]){1,2}(  *([A-Z]{2,6}|[+-]?[0-9]{4})){1,3}( remote from .*)?
?$" t/mailboxes/mailarc-2.txt
ok 2 # skip 1
Running test:
  unset LC_ALL LC_COLLATE LANG LC_CTYPE LC_MESSAGES; grep --extended-regexp --line-number --byte-offset --binary-files=text "^From [^:]+(:[0-9][0-9]){1,2}(  *([A-Z]{2,6}|[+-]?[0-9]{4})){1,3}( remote from .*)?
?$" t/mailboxes/mailarc-3.txt
ok 3 # skip 1
Running test:
  unset LC_ALL LC_COLLATE LANG LC_CTYPE LC_MESSAGES; grep --extended-regexp --line-number --byte-offset --binary-files=text "^From [^:]+(:[0-9][0-9]){1,2}(  *([A-Z]{2,6}|[+-]?[0-9]{4})){1,3}( remote from .*)?
?$" t/mailboxes/mailseparators.txt
ok 4 # skip 1
ok
t/gzip.t ........................ 
1..1
Running test:
  "/usr/bin/cat" "t/mailboxes/mailarc-2.txt.gz" | "/usr/bin/gzip" -cd
Comparing /tmp/hSW7z9qhtn to t/results/mailarc-2.txt
Output /tmp/hSW7z9qhtn looks good.
Comparing /tmp/TVNbBeygD1 to t/results/none
Output /tmp/TVNbBeygD1 looks good.
ok 1 - Computing differences
ok
t/length.t ...................... 
1..30
Testing filename: t/mailboxes/binary_body.txt
Comparing /tmp/kSGVx8b5JK to t/results/length_binary_body.stdout
Output /tmp/kSGVx8b5JK looks good.
ok 1 - Computing differences
Comparing /tmp/WO7wylywNH to t/results/length_binary_body.stdout
Output /tmp/WO7wylywNH looks good.
ok 2 - Computing differences
ok 3 # skip GNU grep not available
Testing filename: t/mailboxes/hessbug.txt
Comparing /tmp/POQ52MrPbD to t/results/length_hessbug.stdout
Output /tmp/POQ52MrPbD looks good.
ok 4 - Computing differences
Comparing /tmp/yZhhoYSZUO to t/results/length_hessbug.stdout
Output /tmp/yZhhoYSZUO looks good.
ok 5 - Computing differences
ok 6 # skip GNU grep not available
Testing filename: t/mailboxes/invalid-boundaries.txt
Comparing /tmp/wgaKCpR3EH to t/results/length_invalid-boundaries.stdout
Output /tmp/wgaKCpR3EH looks good.
ok 7 - Computing differences
Comparing /tmp/nvILtmnana to t/results/length_invalid-boundaries.stdout
Output /tmp/nvILtmnana looks good.
ok 8 - Computing differences
ok 9 # skip GNU grep not available
Testing filename: t/mailboxes/mailarc-1-dos.txt
Comparing /tmp/Pi861Q7Pq0 to t/results/length_mailarc-1-dos.stdout
Output /tmp/Pi861Q7Pq0 looks good.
ok 10 - Computing differences
Comparing /tmp/bUN8CtDu1e to t/results/length_mailarc-1-dos.stdout
Output /tmp/bUN8CtDu1e looks good.
ok 11 - Computing differences
ok 12 # skip GNU grep not available
Testing filename: t/mailboxes/mailarc-1.txt
Comparing /tmp/e_4xcYrhkt to t/results/length_mailarc-1.stdout
Output /tmp/e_4xcYrhkt looks good.
ok 13 - Computing differences
Comparing /tmp/kuaxN2OSJL to t/results/length_mailarc-1.stdout
Output /tmp/kuaxN2OSJL looks good.
ok 14 - Computing differences
ok 15 # skip GNU grep not available
Testing filename: t/mailboxes/mailarc-2.txt
Comparing /tmp/XSPTOZDrQ_ to t/results/length_mailarc-2.stdout
Output /tmp/XSPTOZDrQ_ looks good.
ok 16 - Computing differences
Comparing /tmp/P48S8olJiJ to t/results/length_mailarc-2.stdout
Output /tmp/P48S8olJiJ looks good.
ok 17 - Computing differences
ok 18 # skip GNU grep not available
Testing filename: t/mailboxes/mailarc-3.txt
Comparing /tmp/XZhVMVqBrH to t/results/length_mailarc-3.stdout
Output /tmp/XZhVMVqBrH looks good.
ok 19 - Computing differences
Comparing /tmp/OOEwlM7Tbk to t/results/length_mailarc-3.stdout
Output /tmp/OOEwlM7Tbk looks good.
ok 20 - Computing differences
ok 21 # skip GNU grep not available
Testing filename: t/mailboxes/mailseparators.txt
Comparing /tmp/uKWBa4GJrD to t/results/length_mailseparators.stdout
Output /tmp/uKWBa4GJrD looks good.
ok 22 - Computing differences
Comparing /tmp/9WAQXBSKaU to t/results/length_mailseparators.stdout
Output /tmp/9WAQXBSKaU looks good.
ok 23 - Computing differences
ok 24 # skip GNU grep not available
Testing filename: t/mailboxes/malformed.txt
Comparing /tmp/yUlUTPen_H to t/results/length_malformed.stdout
Output /tmp/yUlUTPen_H looks good.
ok 25 - Computing differences
Comparing /tmp/fx_3pw52fR to t/results/length_malformed.stdout
Output /tmp/fx_3pw52fR looks good.
ok 26 - Computing differences
ok 27 # skip GNU grep not available
Testing filename: t/mailboxes/newlines_at_beginning.txt
Comparing /tmp/1EK0zRf0an to t/results/length_newlines_at_beginning.stdout
Output /tmp/1EK0zRf0an looks good.
ok 28 - Computing differences
Comparing /tmp/ryPonLzBiG to t/results/length_newlines_at_beginning.stdout
Output /tmp/ryPonLzBiG looks good.
ok 29 - Computing differences
ok 30 # skip GNU grep not available
ok
t/line_number.t ................. 
1..30
Testing filename: t/mailboxes/binary_body.txt
Comparing /tmp/t_lz35Knzx to t/results/line_number_binary_body.stdout
Output /tmp/t_lz35Knzx looks good.
ok 1 - Computing differences
Comparing /tmp/yJAeTettGv to t/results/line_number_binary_body.stdout
Output /tmp/yJAeTettGv looks good.
ok 2 - Computing differences
ok 3 # skip GNU grep not available
Testing filename: t/mailboxes/hessbug.txt
Comparing /tmp/QHwVGWfJGC to t/results/line_number_hessbug.stdout
Output /tmp/QHwVGWfJGC looks good.
ok 4 - Computing differences
Comparing /tmp/kprz17jSvK to t/results/line_number_hessbug.stdout
Output /tmp/kprz17jSvK looks good.
ok 5 - Computing differences
ok 6 # skip GNU grep not available
Testing filename: t/mailboxes/invalid-boundaries.txt
Comparing /tmp/BRWlQuTQfz to t/results/line_number_invalid-boundaries.stdout
Output /tmp/BRWlQuTQfz looks good.
ok 7 - Computing differences
Comparing /tmp/fp9DqHRv2O to t/results/line_number_invalid-boundaries.stdout
Output /tmp/fp9DqHRv2O looks good.
ok 8 - Computing differences
ok 9 # skip GNU grep not available
Testing filename: t/mailboxes/mailarc-1-dos.txt
Comparing /tmp/VQDlDoLil8 to t/results/line_number_mailarc-1-dos.stdout
Output /tmp/VQDlDoLil8 looks good.
ok 10 - Computing differences
Comparing /tmp/Uj5iuyTm90 to t/results/line_number_mailarc-1-dos.stdout
Output /tmp/Uj5iuyTm90 looks good.
ok 11 - Computing differences
ok 12 # skip GNU grep not available
Testing filename: t/mailboxes/mailarc-1.txt
Comparing /tmp/WvJ1jScwf1 to t/results/line_number_mailarc-1.stdout
Output /tmp/WvJ1jScwf1 looks good.
ok 13 - Computing differences
Comparing /tmp/6PlQfL0X9U to t/results/line_number_mailarc-1.stdout
Output /tmp/6PlQfL0X9U looks good.
ok 14 - Computing differences
ok 15 # skip GNU grep not available
Testing filename: t/mailboxes/mailarc-2.txt
Comparing /tmp/UJE1mEp341 to t/results/line_number_mailarc-2.stdout
Output /tmp/UJE1mEp341 looks good.
ok 16 - Computing differences
Comparing /tmp/FtqxAeHVt4 to t/results/line_number_mailarc-2.stdout
Output /tmp/FtqxAeHVt4 looks good.
ok 17 - Computing differences
ok 18 # skip GNU grep not available
Testing filename: t/mailboxes/mailarc-3.txt
Comparing /tmp/mH56Zto7NM to t/results/line_number_mailarc-3.stdout
Output /tmp/mH56Zto7NM looks good.
ok 19 - Computing differences
Comparing /tmp/iBWjTOYlXb to t/results/line_number_mailarc-3.stdout
Output /tmp/iBWjTOYlXb looks good.
ok 20 - Computing differences
ok 21 # skip GNU grep not available
Testing filename: t/mailboxes/mailseparators.txt
Comparing /tmp/5OSkqeiGmC to t/results/line_number_mailseparators.stdout
Output /tmp/5OSkqeiGmC looks good.
ok 22 - Computing differences
Comparing /tmp/x4pBU9hGYA to t/results/line_number_mailseparators.stdout
Output /tmp/x4pBU9hGYA looks good.
ok 23 - Computing differences
ok 24 # skip GNU grep not available
Testing filename: t/mailboxes/malformed.txt
Comparing /tmp/90WjPZDk6j to t/results/line_number_malformed.stdout
Output /tmp/90WjPZDk6j looks good.
ok 25 - Computing differences
Comparing /tmp/L7xT9SkPfc to t/results/line_number_malformed.stdout
Output /tmp/L7xT9SkPfc looks good.
ok 26 - Computing differences
ok 27 # skip GNU grep not available
Testing filename: t/mailboxes/newlines_at_beginning.txt
Comparing /tmp/hzE72kcfYY to t/results/line_number_newlines_at_beginning.stdout
Output /tmp/hzE72kcfYY looks good.
ok 28 - Computing differences
Comparing /tmp/_sZ8Wk3Pah to t/results/line_number_newlines_at_beginning.stdout
Output /tmp/_sZ8Wk3Pah looks good.
ok 29 - Computing differences
ok 30 # skip GNU grep not available
ok
t/lzip.t ........................ 
1..1
Running test:
  "/usr/bin/cat" "t/mailboxes/mailarc-2.txt.lz" | "lzip" -cd
ok 1 # skip lzip not available
ok
t/number.t ...................... 
1..30
Testing filename: t/mailboxes/binary_body.txt
Comparing /tmp/inkgy5LU22 to t/results/number_binary_body.stdout
Output /tmp/inkgy5LU22 looks good.
ok 1 - Computing differences
Comparing /tmp/l7UW6Aac5v to t/results/number_binary_body.stdout
Output /tmp/l7UW6Aac5v looks good.
ok 2 - Computing differences
ok 3 # skip GNU grep not available
Testing filename: t/mailboxes/hessbug.txt
Comparing /tmp/v8fxME3NAq to t/results/number_hessbug.stdout
Output /tmp/v8fxME3NAq looks good.
ok 4 - Computing differences
Comparing /tmp/TqMvn7zncL to t/results/number_hessbug.stdout
Output /tmp/TqMvn7zncL looks good.
ok 5 - Computing differences
ok 6 # skip GNU grep not available
Testing filename: t/mailboxes/invalid-boundaries.txt
Comparing /tmp/vMnosKt5AH to t/results/number_invalid-boundaries.stdout
Output /tmp/vMnosKt5AH looks good.
ok 7 - Computing differences
Comparing /tmp/VtEf88Huvc to t/results/number_invalid-boundaries.stdout
Output /tmp/VtEf88Huvc looks good.
ok 8 - Computing differences
ok 9 # skip GNU grep not available
Testing filename: t/mailboxes/mailarc-1-dos.txt
Comparing /tmp/w_WomcU2Ub to t/results/number_mailarc-1-dos.stdout
Output /tmp/w_WomcU2Ub looks good.
ok 10 - Computing differences
Comparing /tmp/1x2dd08Jdl to t/results/number_mailarc-1-dos.stdout
Output /tmp/1x2dd08Jdl looks good.
ok 11 - Computing differences
ok 12 # skip GNU grep not available
Testing filename: t/mailboxes/mailarc-1.txt
Comparing /tmp/nGan9nF77N to t/results/number_mailarc-1.stdout
Output /tmp/nGan9nF77N looks good.
ok 13 - Computing differences
Comparing /tmp/Xk08y9V3dD to t/results/number_mailarc-1.stdout
Output /tmp/Xk08y9V3dD looks good.
ok 14 - Computing differences
ok 15 # skip GNU grep not available
Testing filename: t/mailboxes/mailarc-2.txt
Comparing /tmp/cpZWyu0cc4 to t/results/number_mailarc-2.stdout
Output /tmp/cpZWyu0cc4 looks good.
ok 16 - Computing differences
Comparing /tmp/6UtGapHtav to t/results/number_mailarc-2.stdout
Output /tmp/6UtGapHtav looks good.
ok 17 - Computing differences
ok 18 # skip GNU grep not available
Testing filename: t/mailboxes/mailarc-3.txt
Comparing /tmp/zwsQKf0uUu to t/results/number_mailarc-3.stdout
Output /tmp/zwsQKf0uUu looks good.
ok 19 - Computing differences
Comparing /tmp/DMPeZwnV4I to t/results/number_mailarc-3.stdout
Output /tmp/DMPeZwnV4I looks good.
ok 20 - Computing differences
ok 21 # skip GNU grep not available
Testing filename: t/mailboxes/mailseparators.txt
Comparing /tmp/1PyVpGkvTZ to t/results/number_mailseparators.stdout
Output /tmp/1PyVpGkvTZ looks good.
ok 22 - Computing differences
Comparing /tmp/TOkIfsDV7x to t/results/number_mailseparators.stdout
Output /tmp/TOkIfsDV7x looks good.
ok 23 - Computing differences
ok 24 # skip GNU grep not available
Testing filename: t/mailboxes/malformed.txt
Comparing /tmp/m9Xn6IaJ7n to t/results/number_malformed.stdout
Output /tmp/m9Xn6IaJ7n looks good.
ok 25 - Computing differences
Comparing /tmp/EplCEQKTQv to t/results/number_malformed.stdout
Output /tmp/EplCEQKTQv looks good.
ok 26 - Computing differences
ok 27 # skip GNU grep not available
Testing filename: t/mailboxes/newlines_at_beginning.txt
Comparing /tmp/bUUXYM6QXt to t/results/number_newlines_at_beginning.stdout
Output /tmp/bUUXYM6QXt looks good.
ok 28 - Computing differences
Comparing /tmp/sq9Y_Mrq_T to t/results/number_newlines_at_beginning.stdout
Output /tmp/sq9Y_Mrq_T looks good.
ok 29 - Computing differences
ok 30 # skip GNU grep not available
ok
t/offset.t ...................... 
1..30
Testing filename: t/mailboxes/binary_body.txt
Comparing /tmp/dITi0akmQ8 to t/results/offset_binary_body.stdout
Output /tmp/dITi0akmQ8 looks good.
ok 1 - Computing differences
Comparing /tmp/O4m5GGdNfD to t/results/offset_binary_body.stdout
Output /tmp/O4m5GGdNfD looks good.
ok 2 - Computing differences
ok 3 # skip GNU grep not available
Testing filename: t/mailboxes/hessbug.txt
Comparing /tmp/x4CC10_xug to t/results/offset_hessbug.stdout
Output /tmp/x4CC10_xug looks good.
ok 4 - Computing differences
Comparing /tmp/ecUQvn_AVS to t/results/offset_hessbug.stdout
Output /tmp/ecUQvn_AVS looks good.
ok 5 - Computing differences
ok 6 # skip GNU grep not available
Testing filename: t/mailboxes/invalid-boundaries.txt
Comparing /tmp/3FyGLWXldg to t/results/offset_invalid-boundaries.stdout
Output /tmp/3FyGLWXldg looks good.
ok 7 - Computing differences
Comparing /tmp/Dg1013SizA to t/results/offset_invalid-boundaries.stdout
Output /tmp/Dg1013SizA looks good.
ok 8 - Computing differences
ok 9 # skip GNU grep not available
Testing filename: t/mailboxes/mailarc-1-dos.txt
Comparing /tmp/As6fShw5Xk to t/results/offset_mailarc-1-dos.stdout
Output /tmp/As6fShw5Xk looks good.
ok 10 - Computing differences
Comparing /tmp/UbUxqgedUu to t/results/offset_mailarc-1-dos.stdout
Output /tmp/UbUxqgedUu looks good.
ok 11 - Computing differences
ok 12 # skip GNU grep not available
Testing filename: t/mailboxes/mailarc-1.txt
Comparing /tmp/Sf_ze7uw9N to t/results/offset_mailarc-1.stdout
Output /tmp/Sf_ze7uw9N looks good.
ok 13 - Computing differences
Comparing /tmp/RRNLKt7otn to t/results/offset_mailarc-1.stdout
Output /tmp/RRNLKt7otn looks good.
ok 14 - Computing differences
ok 15 # skip GNU grep not available
Testing filename: t/mailboxes/mailarc-2.txt
Comparing /tmp/K20D3RnHkK to t/results/offset_mailarc-2.stdout
Output /tmp/K20D3RnHkK looks good.
ok 16 - Computing differences
Comparing /tmp/_GurJxFNeX to t/results/offset_mailarc-2.stdout
Output /tmp/_GurJxFNeX looks good.
ok 17 - Computing differences
ok 18 # skip GNU grep not available
Testing filename: t/mailboxes/mailarc-3.txt
Comparing /tmp/hUf7sKmjnZ to t/results/offset_mailarc-3.stdout
Output /tmp/hUf7sKmjnZ looks good.
ok 19 - Computing differences
Comparing /tmp/SNwt4ep4tj to t/results/offset_mailarc-3.stdout
Output /tmp/SNwt4ep4tj looks good.
ok 20 - Computing differences
ok 21 # skip GNU grep not available
Testing filename: t/mailboxes/mailseparators.txt
Comparing /tmp/JWbbIroE3K to t/results/offset_mailseparators.stdout
Output /tmp/JWbbIroE3K looks good.
ok 22 - Computing differences
Comparing /tmp/Jh9PKw1V1x to t/results/offset_mailseparators.stdout
Output /tmp/Jh9PKw1V1x looks good.
ok 23 - Computing differences
ok 24 # skip GNU grep not available
Testing filename: t/mailboxes/malformed.txt
Comparing /tmp/aHCJdWhtXI to t/results/offset_malformed.stdout
Output /tmp/aHCJdWhtXI looks good.
ok 25 - Computing differences
Comparing /tmp/nLGVayI9Mk to t/results/offset_malformed.stdout
Output /tmp/nLGVayI9Mk looks good.
ok 26 - Computing differences
ok 27 # skip GNU grep not available
Testing filename: t/mailboxes/newlines_at_beginning.txt
Comparing /tmp/oXHkqz8Zd0 to t/results/offset_newlines_at_beginning.stdout
Output /tmp/oXHkqz8Zd0 looks good.
ok 28 - Computing differences
Comparing /tmp/aLOoP35qYS to t/results/offset_newlines_at_beginning.stdout
Output /tmp/aLOoP35qYS looks good.
ok 29 - Computing differences
ok 30 # skip GNU grep not available
ok
t/prologue.t .................... 
1..33
Testing filename: t/mailboxes/binary_body.txt
Comparing /tmp/eaB4QbYVav to t/mailboxes/binary_body.txt
Output /tmp/eaB4QbYVav looks good.
ok 1 - Computing differences
Comparing /tmp/0Iwx4wj5Au to t/mailboxes/binary_body.txt
Output /tmp/0Iwx4wj5Au looks good.
ok 2 - Computing differences
ok 3 # skip GNU grep not available
Testing filename: t/mailboxes/hessbug.txt
Comparing /tmp/ubQatgO0KN to t/mailboxes/hessbug.txt
Output /tmp/ubQatgO0KN looks good.
ok 4 - Computing differences
Comparing /tmp/PHCp31QlI8 to t/mailboxes/hessbug.txt
Output /tmp/PHCp31QlI8 looks good.
ok 5 - Computing differences
ok 6 # skip GNU grep not available
Testing filename: t/mailboxes/invalid-boundaries.txt
Comparing /tmp/9sJYt6322S to t/mailboxes/invalid-boundaries.txt
Output /tmp/9sJYt6322S looks good.
ok 7 - Computing differences
Comparing /tmp/WxyDKYAWER to t/mailboxes/invalid-boundaries.txt
Output /tmp/WxyDKYAWER looks good.
ok 8 - Computing differences
ok 9 # skip GNU grep not available
Testing filename: t/mailboxes/mailarc-1-dos.txt
Comparing /tmp/dH4kV_EMXn to t/mailboxes/mailarc-1-dos.txt
Output /tmp/dH4kV_EMXn looks good.
ok 10 - Computing differences
Comparing /tmp/psZwXRymhe to t/mailboxes/mailarc-1-dos.txt
Output /tmp/psZwXRymhe looks good.
ok 11 - Computing differences
ok 12 # skip GNU grep not available
Testing filename: t/mailboxes/mailarc-1.txt
Comparing /tmp/nCWPkLwEQg to t/mailboxes/mailarc-1.txt
Output /tmp/nCWPkLwEQg looks good.
ok 13 - Computing differences
Comparing /tmp/1mdpZDc9mC to t/mailboxes/mailarc-1.txt
Output /tmp/1mdpZDc9mC looks good.
ok 14 - Computing differences
ok 15 # skip GNU grep not available
Testing filename: t/mailboxes/mailarc-2.txt
Comparing /tmp/Z3Q6vcPd1I to t/mailboxes/mailarc-2.txt
Output /tmp/Z3Q6vcPd1I looks good.
ok 16 - Computing differences
Comparing /tmp/x30zmTcVUX to t/mailboxes/mailarc-2.txt
Output /tmp/x30zmTcVUX looks good.
ok 17 - Computing differences
ok 18 # skip GNU grep not available
Testing filename: t/mailboxes/mailarc-3.txt
Comparing /tmp/WeNnMatXhS to t/mailboxes/mailarc-3.txt
Output /tmp/WeNnMatXhS looks good.
ok 19 - Computing differences
Comparing /tmp/hPMSOycGEY to t/mailboxes/mailarc-3.txt
Output /tmp/hPMSOycGEY looks good.
ok 20 - Computing differences
ok 21 # skip GNU grep not available
Testing filename: t/mailboxes/mailseparators.txt
Comparing /tmp/5jJYdI8GzK to t/mailboxes/mailseparators.txt
Output /tmp/5jJYdI8GzK looks good.
ok 22 - Computing differences
Comparing /tmp/LO5ca5fvuA to t/mailboxes/mailseparators.txt
Output /tmp/LO5ca5fvuA looks good.
ok 23 - Computing differences
ok 24 # skip GNU grep not available
Testing filename: t/mailboxes/malformed.txt
Comparing /tmp/GX8z8P_gOX to t/mailboxes/malformed.txt
Output /tmp/GX8z8P_gOX looks good.
ok 25 - Computing differences
Comparing /tmp/IM36SlEjoQ to t/mailboxes/malformed.txt
Output /tmp/IM36SlEjoQ looks good.
ok 26 - Computing differences
ok 27 # skip GNU grep not available
Testing filename: t/mailboxes/newlines_at_beginning.txt
Comparing /tmp/qULUzIzNNH to t/mailboxes/newlines_at_beginning.txt
Output /tmp/qULUzIzNNH looks good.
ok 28 - Computing differences
Comparing /tmp/JLbyT25bTh to t/mailboxes/newlines_at_beginning.txt
Output /tmp/JLbyT25bTh looks good.
ok 29 - Computing differences
ok 30 # skip GNU grep not available
Testing filename: t/mailboxes/vm-emacs.txt
Comparing /tmp/Fg1czDtcG3 to t/mailboxes/vm-emacs.txt
Output /tmp/Fg1czDtcG3 looks good.
ok 31 - Computing differences
Comparing /tmp/24GaCTK6vS to t/mailboxes/vm-emacs.txt
Output /tmp/24GaCTK6vS looks good.
ok 32 - Computing differences
ok 33 # skip GNU grep not available
ok
t/reset.t ....................... 
1..60
Testing filename: t/mailboxes/binary_body.txt
Testing partial mailbox reset with Perl implementation
Comparing /tmp/Z9Fa3nBvPX to t/results/reset_binary_body.stdout
Output /tmp/Z9Fa3nBvPX looks good.
ok 1 - Computing differences
Testing partial mailbox reset with Cache implementation
Comparing /tmp/pvc30rvA1Z to t/results/reset_binary_body.stdout
Output /tmp/pvc30rvA1Z looks good.
ok 2 - Computing differences
Testing partial mailbox reset with Grep implementation
ok 3 # skip GNU grep not available
Testing full mailbox reset with Perl implementation
Comparing /tmp/6xx9NGgS2a to t/results/reset_binary_body.stdout
Output /tmp/6xx9NGgS2a looks good.
ok 4 - Computing differences
Testing full mailbox reset with Cache implementation
Comparing /tmp/zcQNbjco46 to t/results/reset_binary_body.stdout
Output /tmp/zcQNbjco46 looks good.
ok 5 - Computing differences
Testing full mailbox reset with Grep implementation
ok 6 # skip GNU grep not available
Testing filename: t/mailboxes/hessbug.txt
Testing partial mailbox reset with Perl implementation
Comparing /tmp/lIgIznMK7Z to t/results/reset_hessbug.stdout
Output /tmp/lIgIznMK7Z looks good.
ok 7 - Computing differences
Testing partial mailbox reset with Cache implementation
Comparing /tmp/8KZiHpMPmX to t/results/reset_hessbug.stdout
Output /tmp/8KZiHpMPmX looks good.
ok 8 - Computing differences
Testing partial mailbox reset with Grep implementation
ok 9 # skip GNU grep not available
Testing full mailbox reset with Perl implementation
Comparing /tmp/EpfsiBlFSL to t/results/reset_hessbug.stdout
Output /tmp/EpfsiBlFSL looks good.
ok 10 - Computing differences
Testing full mailbox reset with Cache implementation
Comparing /tmp/hmfD5MHzhW to t/results/reset_hessbug.stdout
Output /tmp/hmfD5MHzhW looks good.
ok 11 - Computing differences
Testing full mailbox reset with Grep implementation
ok 12 # skip GNU grep not available
Testing filename: t/mailboxes/invalid-boundaries.txt
Testing partial mailbox reset with Perl implementation
Comparing /tmp/EbG4dIjCnS to t/results/reset_invalid-boundaries.stdout
Output /tmp/EbG4dIjCnS looks good.
ok 13 - Computing differences
Testing partial mailbox reset with Cache implementation
Comparing /tmp/dK9pmCjRm8 to t/results/reset_invalid-boundaries.stdout
Output /tmp/dK9pmCjRm8 looks good.
ok 14 - Computing differences
Testing partial mailbox reset with Grep implementation
ok 15 # skip GNU grep not available
Testing full mailbox reset with Perl implementation
Comparing /tmp/li13oQnlqf to t/results/reset_invalid-boundaries.stdout
Output /tmp/li13oQnlqf looks good.
ok 16 - Computing differences
Testing full mailbox reset with Cache implementation
Comparing /tmp/EFJpd1mBM1 to t/results/reset_invalid-boundaries.stdout
Output /tmp/EFJpd1mBM1 looks good.
ok 17 - Computing differences
Testing full mailbox reset with Grep implementation
ok 18 # skip GNU grep not available
Testing filename: t/mailboxes/mailarc-1-dos.txt
Testing partial mailbox reset with Perl implementation
Comparing /tmp/9qmMdtfTt9 to t/results/reset_mailarc-1-dos.stdout
Output /tmp/9qmMdtfTt9 looks good.
ok 19 - Computing differences
Testing partial mailbox reset with Cache implementation
Comparing /tmp/Q_9GYOXCuC to t/results/reset_mailarc-1-dos.stdout
Output /tmp/Q_9GYOXCuC looks good.
ok 20 - Computing differences
Testing partial mailbox reset with Grep implementation
ok 21 # skip GNU grep not available
Testing full mailbox reset with Perl implementation
Comparing /tmp/eKWf5PibN2 to t/results/reset_mailarc-1-dos.stdout
Output /tmp/eKWf5PibN2 looks good.
ok 22 - Computing differences
Testing full mailbox reset with Cache implementation
Comparing /tmp/tgWFAdXfgo to t/results/reset_mailarc-1-dos.stdout
Output /tmp/tgWFAdXfgo looks good.
ok 23 - Computing differences
Testing full mailbox reset with Grep implementation
ok 24 # skip GNU grep not available
Testing filename: t/mailboxes/mailarc-1.txt
Testing partial mailbox reset with Perl implementation
Comparing /tmp/kWXsID09fT to t/results/reset_mailarc-1.stdout
Output /tmp/kWXsID09fT looks good.
ok 25 - Computing differences
Testing partial mailbox reset with Cache implementation
Comparing /tmp/7swAC450ow to t/results/reset_mailarc-1.stdout
Output /tmp/7swAC450ow looks good.
ok 26 - Computing differences
Testing partial mailbox reset with Grep implementation
ok 27 # skip GNU grep not available
Testing full mailbox reset with Perl implementation
Comparing /tmp/0P1F8HOts6 to t/results/reset_mailarc-1.stdout
Output /tmp/0P1F8HOts6 looks good.
ok 28 - Computing differences
Testing full mailbox reset with Cache implementation
Comparing /tmp/EgLDMRbE8e to t/results/reset_mailarc-1.stdout
Output /tmp/EgLDMRbE8e looks good.
ok 29 - Computing differences
Testing full mailbox reset with Grep implementation
ok 30 # skip GNU grep not available
Testing filename: t/mailboxes/mailarc-2.txt
Testing partial mailbox reset with Perl implementation
Comparing /tmp/4NwpVocYA5 to t/results/reset_mailarc-2.stdout
Output /tmp/4NwpVocYA5 looks good.
ok 31 - Computing differences
Testing partial mailbox reset with Cache implementation
Comparing /tmp/vn4wuLoxp1 to t/results/reset_mailarc-2.stdout
Output /tmp/vn4wuLoxp1 looks good.
ok 32 - Computing differences
Testing partial mailbox reset with Grep implementation
ok 33 # skip GNU grep not available
Testing full mailbox reset with Perl implementation
Comparing /tmp/DIfNBhEFmG to t/results/reset_mailarc-2.stdout
Output /tmp/DIfNBhEFmG looks good.
ok 34 - Computing differences
Testing full mailbox reset with Cache implementation
Comparing /tmp/tWkxIX9mlC to t/results/reset_mailarc-2.stdout
Output /tmp/tWkxIX9mlC looks good.
ok 35 - Computing differences
Testing full mailbox reset with Grep implementation
ok 36 # skip GNU grep not available
Testing filename: t/mailboxes/mailarc-3.txt
Testing partial mailbox reset with Perl implementation
Comparing /tmp/e_S2oM5b0z to t/results/reset_mailarc-3.stdout
Output /tmp/e_S2oM5b0z looks good.
ok 37 - Computing differences
Testing partial mailbox reset with Cache implementation
Comparing /tmp/gKX6fmJvhJ to t/results/reset_mailarc-3.stdout
Output /tmp/gKX6fmJvhJ looks good.
ok 38 - Computing differences
Testing partial mailbox reset with Grep implementation
ok 39 # skip GNU grep not available
Testing full mailbox reset with Perl implementation
Comparing /tmp/0GyOm6p0Wa to t/results/reset_mailarc-3.stdout
Output /tmp/0GyOm6p0Wa looks good.
ok 40 - Computing differences
Testing full mailbox reset with Cache implementation
Comparing /tmp/C_VRnDPOaf to t/results/reset_mailarc-3.stdout
Output /tmp/C_VRnDPOaf looks good.
ok 41 - Computing differences
Testing full mailbox reset with Grep implementation
ok 42 # skip GNU grep not available
Testing filename: t/mailboxes/mailseparators.txt
Testing partial mailbox reset with Perl implementation
Comparing /tmp/ihHMlKhKH3 to t/results/reset_mailseparators.stdout
Output /tmp/ihHMlKhKH3 looks good.
ok 43 - Computing differences
Testing partial mailbox reset with Cache implementation
Comparing /tmp/qcvOOMCHyA to t/results/reset_mailseparators.stdout
Output /tmp/qcvOOMCHyA looks good.
ok 44 - Computing differences
Testing partial mailbox reset with Grep implementation
ok 45 # skip GNU grep not available
Testing full mailbox reset with Perl implementation
Comparing /tmp/t4KdiR2Zss to t/results/reset_mailseparators.stdout
Output /tmp/t4KdiR2Zss looks good.
ok 46 - Computing differences
Testing full mailbox reset with Cache implementation
Comparing /tmp/2OrcTpTszC to t/results/reset_mailseparators.stdout
Output /tmp/2OrcTpTszC looks good.
ok 47 - Computing differences
Testing full mailbox reset with Grep implementation
ok 48 # skip GNU grep not available
Testing filename: t/mailboxes/malformed.txt
Testing partial mailbox reset with Perl implementation
Comparing /tmp/7GnCCeDsPV to t/results/reset_malformed.stdout
Output /tmp/7GnCCeDsPV looks good.
ok 49 - Computing differences
Testing partial mailbox reset with Cache implementation
Comparing /tmp/NX6NhKbYfB to t/results/reset_malformed.stdout
Output /tmp/NX6NhKbYfB looks good.
ok 50 - Computing differences
Testing partial mailbox reset with Grep implementation
ok 51 # skip GNU grep not available
Testing full mailbox reset with Perl implementation
Comparing /tmp/qO6dKbyWRm to t/results/reset_malformed.stdout
Output /tmp/qO6dKbyWRm looks good.
ok 52 - Computing differences
Testing full mailbox reset with Cache implementation
Comparing /tmp/CxKr8NlLlG to t/results/reset_malformed.stdout
Output /tmp/CxKr8NlLlG looks good.
ok 53 - Computing differences
Testing full mailbox reset with Grep implementation
ok 54 # skip GNU grep not available
Testing filename: t/mailboxes/newlines_at_beginning.txt
Testing partial mailbox reset with Perl implementation
Comparing /tmp/ndVO_l49Nq to t/results/reset_newlines_at_beginning.stdout
Output /tmp/ndVO_l49Nq looks good.
ok 55 - Computing differences
Testing partial mailbox reset with Cache implementation
Comparing /tmp/m_GHBHGhbq to t/results/reset_newlines_at_beginning.stdout
Output /tmp/m_GHBHGhbq looks good.
ok 56 - Computing differences
Testing partial mailbox reset with Grep implementation
ok 57 # skip GNU grep not available
Testing full mailbox reset with Perl implementation
Comparing /tmp/cQT4W9gl81 to t/results/reset_newlines_at_beginning.stdout
Output /tmp/cQT4W9gl81 looks good.
ok 58 - Computing differences
Testing full mailbox reset with Cache implementation
Comparing /tmp/wQ9i1IOMds to t/results/reset_newlines_at_beginning.stdout
Output /tmp/wQ9i1IOMds looks good.
ok 59 - Computing differences
Testing full mailbox reset with Grep implementation
ok 60 # skip GNU grep not available
ok
t/separators.t .................. 
1..6
Testing filename: t/mailboxes/separators1.sep
ok 1 - Number of emails in t/mailboxes/separators1.sep
ok 2 - Number of emails in t/mailboxes/separators1.sep
ok 3 # skip GNU grep not available
Testing filename: t/mailboxes/separators2.sep
ok 4 - Number of emails in t/mailboxes/separators2.sep
ok 5 - Number of emails in t/mailboxes/separators2.sep
ok 6 # skip GNU grep not available
ok
t/stdin_compressed.t ............ 
1..4
Testing filename: t/mailboxes/mailarc-2.txt.bz2
Comparing /tmp/Whlpv73mYG to t/mailboxes/mailarc-2.txt
Output /tmp/Whlpv73mYG looks good.
ok 1 - Computing differences
Testing filename: t/mailboxes/mailarc-2.txt.gz
Comparing /tmp/JfvnkC7gqf to t/mailboxes/mailarc-2.txt
Output /tmp/JfvnkC7gqf looks good.
ok 2 - Computing differences
Testing filename: t/mailboxes/mailarc-2.txt.lz
ok 3 # skip lzip not available
Testing filename: t/mailboxes/mailarc-2.txt.xz
Comparing /tmp/WqmgS9pfLe to t/mailboxes/mailarc-2.txt
Output /tmp/WqmgS9pfLe looks good.
ok 4 - Computing differences
ok
t/stdin_uncompressed.t .......... 
1..11
Testing filename: t/mailboxes/binary_body.txt
Comparing /tmp/6OxGvEOzTA to t/mailboxes/binary_body.txt
Output /tmp/6OxGvEOzTA looks good.
ok 1 - Computing differences
Testing filename: t/mailboxes/hessbug.txt
Comparing /tmp/SaR0mh9nBR to t/mailboxes/hessbug.txt
Output /tmp/SaR0mh9nBR looks good.
ok 2 - Computing differences
Testing filename: t/mailboxes/invalid-boundaries.txt
Comparing /tmp/q7bDpTQtwC to t/mailboxes/invalid-boundaries.txt
Output /tmp/q7bDpTQtwC looks good.
ok 3 - Computing differences
Testing filename: t/mailboxes/mailarc-1-dos.txt
Comparing /tmp/9Nwf22Lbos to t/mailboxes/mailarc-1-dos.txt
Output /tmp/9Nwf22Lbos looks good.
ok 4 - Computing differences
Testing filename: t/mailboxes/mailarc-1.txt
Comparing /tmp/RE_gLVSznH to t/mailboxes/mailarc-1.txt
Output /tmp/RE_gLVSznH looks good.
ok 5 - Computing differences
Testing filename: t/mailboxes/mailarc-2.txt
Comparing /tmp/uIyeZ5hPR3 to t/mailboxes/mailarc-2.txt
Output /tmp/uIyeZ5hPR3 looks good.
ok 6 - Computing differences
Testing filename: t/mailboxes/mailarc-3.txt
Comparing /tmp/DJry7olrQz to t/mailboxes/mailarc-3.txt
Output /tmp/DJry7olrQz looks good.
ok 7 - Computing differences
Testing filename: t/mailboxes/mailseparators.txt
Comparing /tmp/or97FUyqh6 to t/mailboxes/mailseparators.txt
Output /tmp/or97FUyqh6 looks good.
ok 8 - Computing differences
Testing filename: t/mailboxes/malformed.txt
Comparing /tmp/800CeTlswp to t/mailboxes/malformed.txt
Output /tmp/800CeTlswp looks good.
ok 9 - Computing differences
Testing filename: t/mailboxes/newlines_at_beginning.txt
Comparing /tmp/BR2PvZsStv to t/mailboxes/newlines_at_beginning.txt
Output /tmp/BR2PvZsStv looks good.
ok 10 - Computing differences
Testing filename: t/mailboxes/vm-emacs.txt
Comparing /tmp/njMsKV36Py to t/mailboxes/vm-emacs.txt
Output /tmp/njMsKV36Py looks good.
ok 11 - Computing differences
ok
t/undef_return_value.t .......... 
1..33
Testing Perl 
Comparing /tmp/2dKxA9DOFL to t/mailboxes/binary_body.txt
Output /tmp/2dKxA9DOFL looks good.
ok 1 - Computing differences
Testing Cache implementation
Comparing /tmp/y_RtNL2bIx to t/mailboxes/binary_body.txt
Output /tmp/y_RtNL2bIx looks good.
ok 2 - Computing differences
ok 3 # skip GNU grep not available
Testing Perl 
Comparing /tmp/oLiCikxTYe to t/mailboxes/hessbug.txt
Output /tmp/oLiCikxTYe looks good.
ok 4 - Computing differences
Testing Cache implementation
Comparing /tmp/9sX_ALwMSB to t/mailboxes/hessbug.txt
Output /tmp/9sX_ALwMSB looks good.
ok 5 - Computing differences
ok 6 # skip GNU grep not available
Testing Perl 
Comparing /tmp/4nYKz26Ff0 to t/mailboxes/invalid-boundaries.txt
Output /tmp/4nYKz26Ff0 looks good.
ok 7 - Computing differences
Testing Cache implementation
Comparing /tmp/Dv1uJ2mnMl to t/mailboxes/invalid-boundaries.txt
Output /tmp/Dv1uJ2mnMl looks good.
ok 8 - Computing differences
ok 9 # skip GNU grep not available
Testing Perl 
Comparing /tmp/113eXQ0vgX to t/mailboxes/mailarc-1-dos.txt
Output /tmp/113eXQ0vgX looks good.
ok 10 - Computing differences
Testing Cache implementation
Comparing /tmp/jSfhUoClGg to t/mailboxes/mailarc-1-dos.txt
Output /tmp/jSfhUoClGg looks good.
ok 11 - Computing differences
ok 12 # skip GNU grep not available
Testing Perl 
Comparing /tmp/Q6Q5a0EA4q to t/mailboxes/mailarc-1.txt
Output /tmp/Q6Q5a0EA4q looks good.
ok 13 - Computing differences
Testing Cache implementation
Comparing /tmp/5021aM1AN8 to t/mailboxes/mailarc-1.txt
Output /tmp/5021aM1AN8 looks good.
ok 14 - Computing differences
ok 15 # skip GNU grep not available
Testing Perl 
Comparing /tmp/nr5ji23RfG to t/mailboxes/mailarc-2.txt
Output /tmp/nr5ji23RfG looks good.
ok 16 - Computing differences
Testing Cache implementation
Comparing /tmp/ZdUuOxifdV to t/mailboxes/mailarc-2.txt
Output /tmp/ZdUuOxifdV looks good.
ok 17 - Computing differences
ok 18 # skip GNU grep not available
Testing Perl 
Comparing /tmp/KPeAMTjKON to t/mailboxes/mailarc-3.txt
Output /tmp/KPeAMTjKON looks good.
ok 19 - Computing differences
Testing Cache implementation
Comparing /tmp/STyLmMkeWH to t/mailboxes/mailarc-3.txt
Output /tmp/STyLmMkeWH looks good.
ok 20 - Computing differences
ok 21 # skip GNU grep not available
Testing Perl 
Comparing /tmp/gDoOwMCMjN to t/mailboxes/mailseparators.txt
Output /tmp/gDoOwMCMjN looks good.
ok 22 - Computing differences
Testing Cache implementation
Comparing /tmp/FOJYoqtquj to t/mailboxes/mailseparators.txt
Output /tmp/FOJYoqtquj looks good.
ok 23 - Computing differences
ok 24 # skip GNU grep not available
Testing Perl 
Comparing /tmp/6NTlSx3yU8 to t/mailboxes/malformed.txt
Output /tmp/6NTlSx3yU8 looks good.
ok 25 - Computing differences
Testing Cache implementation
Comparing /tmp/iJsF3IdUmk to t/mailboxes/malformed.txt
Output /tmp/iJsF3IdUmk looks good.
ok 26 - Computing differences
ok 27 # skip GNU grep not available
Testing Perl 
Comparing /tmp/LPRC7vXYjf to t/mailboxes/newlines_at_beginning.txt
Output /tmp/LPRC7vXYjf looks good.
ok 28 - Computing differences
Testing Cache implementation
Comparing /tmp/gjO8TocZOy to t/mailboxes/newlines_at_beginning.txt
Output /tmp/gjO8TocZOy looks good.
ok 29 - Computing differences
ok 30 # skip GNU grep not available
Testing Perl 
Comparing /tmp/lqCXYqlexH to t/mailboxes/vm-emacs.txt
Output /tmp/lqCXYqlexH looks good.
ok 31 - Computing differences
Testing Cache implementation
Comparing /tmp/vdxN6wbqkb to t/mailboxes/vm-emacs.txt
Output /tmp/vdxN6wbqkb looks good.
ok 32 - Computing differences
ok 33 # skip GNU grep not available
ok
t/xz.t .......................... 
1..1
Running test:
  "/usr/bin/cat" "t/mailboxes/mailarc-2.txt.xz" | "/usr/bin/xz" -cd
Comparing /tmp/c5StzvpJlz to t/results/mailarc-2.txt
Output /tmp/c5StzvpJlz looks good.
Comparing /tmp/qqjy3nAp51 to t/results/none
Output /tmp/qqjy3nAp51 looks good.
ok 1 - Computing differences
ok
All tests successful.
Files=25, Tests=382,  5 wallclock secs ( 0.15 usr  0.06 sys +  4.34 cusr  1.01 csys =  5.56 CPU)
Result: PASS

------------------------------
PREREQUISITES
------------------------------

Prerequisite modules loaded:

requires:

    Module              Need  Have    
    ------------------- ----- --------
    FileHandle::Unget   0     0.1634  
    perl                5.005 5.040002
    Storable            0     3.32    

build_requires:

    Module              Need  Have    
    ------------------- ----- --------
    ExtUtils::MakeMaker 6.36  7.72    
    File::Path          2.08  2.18    
    File::Slurper       0     0.014   
    Test::Compile       0     v3.3.3  
    Test::More          0     1.302210
    Text::Diff          0     1.45    
    UNIVERSAL::require  0     0.19    
    URI::Escape         0     5.31    

configure_requires:

    Module              Need  Have    
    ------------------- ----- --------
    ExtUtils::MakeMaker 6.36  7.72    
    URI::Escape         0     5.31    


------------------------------
ENVIRONMENT AND OTHER CONTEXT
------------------------------

Environment variables:

    AUTOMATED_TESTING = 1
    LANG = en_US.UTF-8
    LC_ADDRESS = de_DE.UTF-8
    LC_IDENTIFICATION = de_DE.UTF-8
    LC_MEASUREMENT = de_DE.UTF-8
    LC_MONETARY = de_DE.UTF-8
    LC_NAME = de_DE.UTF-8
    LC_NUMERIC = de_DE.UTF-8
    LC_PAPER = de_DE.UTF-8
    LC_TELEPHONE = de_DE.UTF-8
    LC_TIME = de_DE.UTF-8
    PATH = /home/sand/bin:/usr/local/bin:/usr/local/sbin:/usr/sbin:/usr/bin:/sbin:/bin:/usr/games:/usr/local/games:/snap/bin:/usr/local/perl/bin:/usr/X11/bin
    PERL = /tmp/basesmoker-reloperl-WLyo/bin/perl
    PERL5LIB = /tmp/loop_over_bdir-4051747-kghqpl/perl-Hardware-UPS-Perl-0.43-0/blib/arch:/tmp/loop_over_bdir-4051747-kghqpl/perl-Hardware-UPS-Perl-0.43-0/blib/lib:/tmp/loop_over_bdir-4051747-kghqpl/downsexta-0/blib/arch:/tmp/loop_over_bdir-4051747-kghqpl/downsexta-0/blib/lib:/tmp/loop_over_bdir-4051747-kghqpl/Device-Kiln-0.03-0/blib/arch:/tmp/loop_over_bdir-4051747-kghqpl/Device-Kiln-0.03-0/blib/lib:/tmp/loop_over_bdir-4051747-kghqpl/LiquidWeb-Storm-CLI-1.03-0/blib/arch:/tmp/loop_over_bdir-4051747-kghqpl/LiquidWeb-Storm-CLI-1.03-0/blib/lib:/tmp/loop_over_bdir-4051747-kghqpl/MP3-PodcastFetch-1.05-0/blib/arch:/tmp/loop_over_bdir-4051747-kghqpl/MP3-PodcastFetch-1.05-0/blib/lib:/tmp/loop_over_bdir-4051747-kghqpl/Lingua-BioYaTeA-0.11-0/blib/arch:/tmp/loop_over_bdir-4051747-kghqpl/Lingua-BioYaTeA-0.11-0/blib/lib:/tmp/loop_over_bdir-4051747-kghqpl/Lingua-YaTeA-0.626-0/blib/arch:/tmp/loop_over_bdir-4051747-kghqpl/Lingua-YaTeA-0.626-0/blib/lib:/tmp/loop_over_bdir-4051747-kghqpl/Devel-Required-0.16-0/blib/arch:/tmp/loop_over_bdir-4051747-kghqpl/Devel-Required-0.16-0/blib/lib
    PERL5OPT = 
    PERL5_CPANPLUS_IS_RUNNING = 4051755
    PERL5_CPAN_IS_RUNNING = 4051755
    PERL_CANARY_STABILITY_NOPROMPT = 1
    PERL_MM_USE_DEFAULT = 1
    PERL_USE_UNSAFE_INC = 1
    SHELL = /usr/bin/zsh
    TERM = screen

Perl special variables (and OS-specific diagnostics, for MSWin32):

    $^X = /tmp/basesmoker-reloperl-WLyo/bin/perl
    $UID/$EUID = 1005 / 1005
    $GID = 1005 1005
    $EGID = 1005 1005

Perl module toolchain versions installed:

    Module              Have    
    ------------------- --------
    CPAN                2.38    
    CPAN::Meta          2.150010
    Cwd                 3.91    
    ExtUtils::CBuilder  0.280240
    ExtUtils::Command   7.72    
    ExtUtils::Install   2.22    
    ExtUtils::MakeMaker 7.72    
    ExtUtils::Manifest  1.75    
    ExtUtils::ParseXS   3.51    
    File::Spec          3.91    
    JSON                4.10    
    JSON::PP            4.16    
    Module::Build       0.4234  
    Module::Signature   0.89    
    Parse::CPAN::Meta   2.150010
    Test2               1.302210
    Test::Harness       3.50    
    Test::More          1.302210
    YAML                1.31    
    YAML::Syck          1.34    
    version             0.9933  


--

Summary of my perl5 (revision 5 version 40 subversion 2) configuration:
   
  Platform:
    osname=linux
    osvers=6.8.0-52-generic
    archname=x86_64-linux-thread-multi-ld
    uname='linux k93jammy 6.8.0-52-generic #53~22.04.1-ubuntu smp preempt_dynamic wed jan 15 19:18:46 utc 2 x86_64 x86_64 x86_64 gnulinux '
    config_args='-Dprefix=/home/sand/src/perl/repoperls/installed-perls/host/k93jammy/perl-5.40.2-RC1/322f -Dmyhostname=k93jammy -Dinstallusrbinperl=n -Uversiononly -Dusedevel -des -Ui_db -Dlibswanted=cl pthread socket inet nsl gdbm dbm malloc dl ld sun m crypt sec util c cposix posix ucb BSD gdbm_compat -Duseithreads -Duselongdouble -DEBUGGING=-g'
    hint=recommended
    useposix=true
    d_sigaction=define
    useithreads=define
    usemultiplicity=define
    use64bitint=define
    use64bitall=define
    uselongdouble=define
    usemymalloc=n
    default_inc_excludes_dot=define
  Compiler:
    cc='cc'
    ccflags ='-D_REENTRANT -D_GNU_SOURCE -fwrapv -fno-strict-aliasing -pipe -fstack-protector-strong -I/usr/local/include -D_LARGEFILE_SOURCE -D_FILE_OFFSET_BITS=64'
    optimize='-O2 -g'
    cppflags='-D_REENTRANT -D_GNU_SOURCE -fwrapv -fno-strict-aliasing -pipe -fstack-protector-strong -I/usr/local/include'
    ccversion=''
    gccversion='11.4.0'
    gccosandvers=''
    intsize=4
    longsize=8
    ptrsize=8
    doublesize=8
    byteorder=12345678
    doublekind=3
    d_longlong=define
    longlongsize=8
    d_longdbl=define
    longdblsize=16
    longdblkind=3
    ivtype='long'
    ivsize=8
    nvtype='long double'
    nvsize=16
    Off_t='off_t'
    lseeksize=8
    alignbytes=16
    prototype=define
  Linker and Libraries:
    ld='cc'
    ldflags =' -fstack-protector-strong -L/usr/local/lib'
    libpth=/usr/local/lib /usr/lib/x86_64-linux-gnu /usr/lib /usr/lib64
    libs=-lpthread -lnsl -ldl -lm -lcrypt -lutil -lc
    perllibs=-lpthread -lnsl -ldl -lm -lcrypt -lutil -lc
    libc=/lib/x86_64-linux-gnu/libc.so.6
    so=so
    useshrplib=false
    libperl=libperl.a
    gnulibc_version='2.35'
  Dynamic Linking:
    dlsrc=dl_dlopen.xs
    dlext=so
    d_dlsymun=undef
    ccdlflags='-Wl,-E'
    cccdlflags='-fPIC'
    lddlflags='-shared -O2 -g -L/usr/local/lib -fstack-protector-strong'


Characteristics of this binary (from libperl): 
  Compile-time options:
    HAS_LONG_DOUBLE
    HAS_STRTOLD
    HAS_TIMES
    MULTIPLICITY
    PERLIO_LAYERS
    PERL_COPY_ON_WRITE
    PERL_DONT_CREATE_GVSV
    PERL_HASH_FUNC_SIPHASH13
    PERL_HASH_USE_SBOX32
    PERL_MALLOC_WRAP
    PERL_OP_PARENT
    PERL_PRESERVE_IVUV
    PERL_USE_DEVEL
    PERL_USE_SAFE_PUTENV
    USE_64_BIT_ALL
    USE_64_BIT_INT
    USE_ITHREADS
    USE_LARGE_FILES
    USE_LOCALE
    USE_LOCALE_COLLATE
    USE_LOCALE_CTYPE
    USE_LOCALE_NUMERIC
    USE_LOCALE_TIME
    USE_LONG_DOUBLE
    USE_PERLIO
    USE_PERL_ATOF
    USE_REENTRANT_API
    USE_THREAD_SAFE_LOCALE
  Locally applied patches:
    RC1
  Built under linux
  Compiled at Mar 30 2025 18:54:35
  %ENV:
    PERL="/tmp/basesmoker-reloperl-WLyo/bin/perl"
    PERL5LIB="/tmp/loop_over_bdir-4051747-kghqpl/perl-Hardware-UPS-Perl-0.43-0/blib/arch:/tmp/loop_over_bdir-4051747-kghqpl/perl-Hardware-UPS-Perl-0.43-0/blib/lib:/tmp/loop_over_bdir-4051747-kghqpl/downsexta-0/blib/arch:/tmp/loop_over_bdir-4051747-kghqpl/downsexta-0/blib/lib:/tmp/loop_over_bdir-4051747-kghqpl/Device-Kiln-0.03-0/blib/arch:/tmp/loop_over_bdir-4051747-kghqpl/Device-Kiln-0.03-0/blib/lib:/tmp/loop_over_bdir-4051747-kghqpl/LiquidWeb-Storm-CLI-1.03-0/blib/arch:/tmp/loop_over_bdir-4051747-kghqpl/LiquidWeb-Storm-CLI-1.03-0/blib/lib:/tmp/loop_over_bdir-4051747-kghqpl/MP3-PodcastFetch-1.05-0/blib/arch:/tmp/loop_over_bdir-4051747-kghqpl/MP3-PodcastFetch-1.05-0/blib/lib:/tmp/loop_over_bdir-4051747-kghqpl/Lingua-BioYaTeA-0.11-0/blib/arch:/tmp/loop_over_bdir-4051747-kghqpl/Lingua-BioYaTeA-0.11-0/blib/lib:/tmp/loop_over_bdir-4051747-kghqpl/Lingua-YaTeA-0.626-0/blib/arch:/tmp/loop_over_bdir-4051747-kghqpl/Lingua-YaTeA-0.626-0/blib/lib:/tmp/loop_over_bdir-4051747-kghqpl/Devel-Required-0.16-0/blib/arch:/tmp/loop_over_bdir-4051747-kghqpl/Devel-Required-0.16-0/blib/lib"
    PERL5OPT=""
    PERL5_CPANPLUS_IS_RUNNING="4051755"
    PERL5_CPAN_IS_RUNNING="4051755"
    PERL_CANARY_STABILITY_NOPROMPT="1"
    PERL_MM_USE_DEFAULT="1"
    PERL_USE_UNSAFE_INC="1"
  @INC:
    /tmp/loop_over_bdir-4051747-kghqpl/perl-Hardware-UPS-Perl-0.43-0/blib/arch
    /tmp/loop_over_bdir-4051747-kghqpl/perl-Hardware-UPS-Perl-0.43-0/blib/lib
    /tmp/loop_over_bdir-4051747-kghqpl/downsexta-0/blib/arch
    /tmp/loop_over_bdir-4051747-kghqpl/downsexta-0/blib/lib
    /tmp/loop_over_bdir-4051747-kghqpl/Device-Kiln-0.03-0/blib/arch
    /tmp/loop_over_bdir-4051747-kghqpl/Device-Kiln-0.03-0/blib/lib
    /tmp/loop_over_bdir-4051747-kghqpl/LiquidWeb-Storm-CLI-1.03-0/blib/arch
    /tmp/loop_over_bdir-4051747-kghqpl/LiquidWeb-Storm-CLI-1.03-0/blib/lib
    /tmp/loop_over_bdir-4051747-kghqpl/MP3-PodcastFetch-1.05-0/blib/arch
    /tmp/loop_over_bdir-4051747-kghqpl/MP3-PodcastFetch-1.05-0/blib/lib
    /tmp/loop_over_bdir-4051747-kghqpl/Lingua-BioYaTeA-0.11-0/blib/arch
    /tmp/loop_over_bdir-4051747-kghqpl/Lingua-BioYaTeA-0.11-0/blib/lib
    /tmp/loop_over_bdir-4051747-kghqpl/Lingua-YaTeA-0.626-0/blib/arch
    /tmp/loop_over_bdir-4051747-kghqpl/Lingua-YaTeA-0.626-0/blib/lib
    /tmp/loop_over_bdir-4051747-kghqpl/Devel-Required-0.16-0/blib/arch
    /tmp/loop_over_bdir-4051747-kghqpl/Devel-Required-0.16-0/blib/lib
    /home/sand/src/perl/repoperls/installed-perls/host/k93jammy/perl-5.40.2-RC1/322f/lib/site_perl/5.40.2/x86_64-linux-thread-multi-ld
    /home/sand/src/perl/repoperls/installed-perls/host/k93jammy/perl-5.40.2-RC1/322f/lib/site_perl/5.40.2
    /home/sand/src/perl/repoperls/installed-perls/host/k93jammy/perl-5.40.2-RC1/322f/lib/5.40.2/x86_64-linux-thread-multi-ld
    /home/sand/src/perl/repoperls/installed-perls/host/k93jammy/perl-5.40.2-RC1/322f/lib/5.40.2
    .