Back
From: metabase:user:a1b6b924-84ee-11e6-8239-d43a0d2f07b9
Subject: PASS Curses-UI-POE-0.04 v5.18.4 GNU/Linux
Date: 2016-12-11T15:41:20Z
This distribution has been tested as part of the CPAN Testers
project, supporting the Perl programming language. See
http://wiki.cpantesters.org/ for more information or email
questions to cpan-testers-discuss@perl.org
--
Dear TAG,
This is a computer-generated report for Curses-UI-POE-0.04
on perl 5.18.4, created by App::cpanminus::reporter 0.17 (1.7039).
Thank you for uploading your work to CPAN. Congratulations!
All tests were successful.
Sections of this report:
* Tester comments
* Program output
* Prerequisites
* Environment and other context
------------------------------
TESTER COMMENTS
------------------------------
Additional comments from tester:
none provided
------------------------------
PROGRAM OUTPUT
------------------------------
Output from '':
Building and testing Curses-UI-POE-0.04
cp POE.pm blib/lib/Curses/UI/POE.pm
Manifying blib/man3/Curses::UI::POE.3
PERL_DL_NONLAZY=1 /home/eric/perl5/perlbrew/perls/perl-5.18.4/bin/perl "-MExtUtils::Command::MM" "-e" "test_harness(0, 'blib/lib', 'blib/arch')" t/*.t
t/base_classes.t .... ok
t/dialog_classes.t .. ok
t/widget_classes.t .. ok
All tests successful.
Files=3, Tests=26, 0 wallclock secs ( 0.02 usr 0.00 sys + 0.10 cusr 0.02 csys = 0.14 CPU)
Result: PASS
------------------------------
PREREQUISITES
------------------------------
Prerequisite modules loaded:
No requirements found
------------------------------
ENVIRONMENT AND OTHER CONTEXT
------------------------------
Environment variables:
LANG = nl_NL.UTF-8
LANGUAGE = nl_NL:nl:en
LC_ADDRESS = nl_NL.UTF-8
LC_IDENTIFICATION = nl_NL.UTF-8
LC_MEASUREMENT = nl_NL.UTF-8
LC_MONETARY = nl_NL.UTF-8
LC_NAME = nl_NL.UTF-8
LC_NUMERIC = nl_NL.UTF-8
LC_PAPER = nl_NL.UTF-8
LC_TELEPHONE = nl_NL.UTF-8
LC_TIME = nl_NL.UTF-8
PATH = /home/eric/perl5/perlbrew/bin:/home/eric/perl5/perlbrew/perls/perl-5.18.4/bin:/home/eric/p6/share/perl6/vendor/bin:/home/eric/p6/share/perl6/site/bin:/home/eric/p6/share/perl6/bin:/home/eric/p6/bin:/home/eric/bin:/usr/local/sbin:/usr/local/bin:/usr/sbin:/usr/bin:/sbin:/bin:/usr/games:/usr/local/games:/snap/bin
PERL5LIB = /home/eric/Programmeren/lib
PERLBREW_BASHRC_VERSION = 0.74
PERLBREW_HOME = /home/eric/.perlbrew
PERLBREW_MANPATH = /home/eric/perl5/perlbrew/perls/perl-5.18.4/man
PERLBREW_PATH = /home/eric/perl5/perlbrew/bin:/home/eric/perl5/perlbrew/perls/perl-5.18.4/bin
PERLBREW_PERL = perl-5.18.4
PERLBREW_ROOT = /home/eric/perl5/perlbrew
PERLBREW_VERSION = 0.74
PERL_UNICODE = AS
SHELL = /bin/bash
TERM = xterm
Perl special variables (and OS-specific diagnostics, for MSWin32):
EGID = 1000 4 24 27 30 46 115 131 134 1000 1001
EUID = 1000
EXECUTABLE_NAME = /home/eric/perl5/perlbrew/perls/perl-5.18.4/bin/perl
GID = 1000 4 24 27 30 46 115 131 134 1000 1001
UID = 1000
Perl module toolchain versions installed:
Module Have
------------------- --------
CPAN 2.00
CPAN::Meta 2.150010
Cwd 3.40
ExtUtils::CBuilder 0.280210
ExtUtils::Command 7.24
ExtUtils::Install 1.59
ExtUtils::MakeMaker 7.24
ExtUtils::Manifest 1.70
ExtUtils::ParseXS 3.18
File::Spec 3.40
JSON 2.90
JSON::PP 2.27400
Module::Build 0.4220
Module::Signature n/a
Parse::CPAN::Meta 2.150010
Test::Harness 3.36
Test::More 1.302067
YAML 1.20
YAML::Syck n/a
version 0.9902
--
Summary of my perl5 (revision 5 version 18 subversion 4) configuration:
Platform:
osname=linux, osvers=4.4.0-22-generic, archname=x86_64-linux
uname='linux hp-envy-e 4.4.0-22-generic #39-ubuntu smp thu may 5 16:53:32 utc 2016 x86_64 x86_64 x86_64 gnulinux '
config_args='-de -Dprefix=/home/eric/perl5/perlbrew/perls/perl-5.18.4 -Aeval:scriptdir=/home/eric/perl5/perlbrew/perls/perl-5.18.4/bin'
hint=recommended, useposix=true, d_sigaction=define
useithreads=undef, usemultiplicity=undef
useperlio=define, d_sfio=undef, uselargefiles=define, usesocks=undef
use64bitint=define, use64bitall=define, uselongdouble=undef
usemymalloc=n, bincompat5005=undef
Compiler:
cc='cc', ccflags ='-fno-strict-aliasing -pipe -fstack-protector -I/usr/local/include -D_LARGEFILE_SOURCE -D_FILE_OFFSET_BITS=64',
optimize='-O2',
cppflags='-fno-strict-aliasing -pipe -fstack-protector -I/usr/local/include'
ccversion='', gccversion='5.3.1 20160413', gccosandvers=''
intsize=4, longsize=8, ptrsize=8, doublesize=8, byteorder=12345678
d_longlong=define, longlongsize=8, d_longdbl=define, longdblsize=16
ivtype='long', ivsize=8, nvtype='double', nvsize=8, Off_t='off_t', lseeksize=8
alignbytes=8, prototype=define
Linker and Libraries:
ld='cc', ldflags =' -fstack-protector -L/usr/local/lib'
libpth=/usr/local/lib /lib/x86_64-linux-gnu /lib/../lib /usr/lib/x86_64-linux-gnu /usr/lib/../lib /lib /usr/lib
libs=-lnsl -ldl -lm -lcrypt -lutil -lc
perllibs=-lnsl -ldl -lm -lcrypt -lutil -lc
libc=libc-2.23.so, so=so, useshrplib=false, libperl=libperl.a
gnulibc_version='2.23'
Dynamic Linking:
dlsrc=dl_dlopen.xs, dlext=so, d_dlsymun=undef, ccdlflags='-Wl,-E'
cccdlflags='-fPIC', lddlflags='-shared -O2 -L/usr/local/lib -fstack-protector'
Characteristics of this binary (from libperl):
Compile-time options: HAS_TIMES PERLIO_LAYERS PERL_DONT_CREATE_GVSV
PERL_HASH_FUNC_ONE_AT_A_TIME_HARD PERL_MALLOC_WRAP
PERL_PRESERVE_IVUV PERL_SAWAMPERSAND USE_64_BIT_ALL
USE_64_BIT_INT USE_LARGE_FILES USE_LOCALE
USE_LOCALE_COLLATE USE_LOCALE_CTYPE
USE_LOCALE_NUMERIC USE_PERLIO USE_PERL_ATOF
Locally applied patches:
Devel::PatchPerl 1.38
Built under linux
Compiled at May 12 2016 11:23:39
%ENV:
PERL5LIB="/home/eric/Programmeren/lib"
PERLBREW_BASHRC_VERSION="0.74"
PERLBREW_HOME="/home/eric/.perlbrew"
PERLBREW_MANPATH="/home/eric/perl5/perlbrew/perls/perl-5.18.4/man"
PERLBREW_PATH="/home/eric/perl5/perlbrew/bin:/home/eric/perl5/perlbrew/perls/perl-5.18.4/bin"
PERLBREW_PERL="perl-5.18.4"
PERLBREW_ROOT="/home/eric/perl5/perlbrew"
PERLBREW_VERSION="0.74"
PERL_UNICODE="AS"
@INC:
/home/eric/Programmeren/lib
/home/eric/perl5/perlbrew/perls/perl-5.18.4/lib/site_perl/5.18.4/x86_64-linux
/home/eric/perl5/perlbrew/perls/perl-5.18.4/lib/site_perl/5.18.4
/home/eric/perl5/perlbrew/perls/perl-5.18.4/lib/5.18.4/x86_64-linux
/home/eric/perl5/perlbrew/perls/perl-5.18.4/lib/5.18.4
.