IO-Socket-SSL v2.089 Perl 5 v5.40.0 darwin-2level
- Status
- Pass
- From
- Philip Sharman
- Dist
-
IO-Socket-SSL v2.089
- Platform
- Perl 5 v5.40.0 darwin-2level
- Date
- 2024-09-16 02:06:19
- ID
- 433a8ca2-73d0-11ef-a207-904b36dcacb1
This distribution has been tested as part of the CPAN Testers
project, supporting the Perl programming language. See
http://wiki.cpantesters.org/ for more information or email
questions to cpan-testers-discuss@perl.org
--
Dear Steffen Ullrich,
This is a computer-generated report for IO-Socket-SSL-2.089
on perl 5.40.0, created by CPAN-Reporter-1.2019.
Thank you for uploading your work to CPAN. Congratulations!
All tests were successful.
Sections of this report:
* Tester comments
* Program output
* Prerequisites
* Environment and other context
------------------------------
TESTER COMMENTS
------------------------------
Additional comments from tester:
none provided
------------------------------
PROGRAM OUTPUT
------------------------------
Output from '/usr/bin/make test':
PERL_DL_NONLAZY=1 "/Users/philip/perl5/perlbrew/perls/perl-5.40.0/bin/perl" "-MExtUtils::Command::MM" "-MTest::Harness" "-e" "undef *Test::Harness::Switches; test_harness(0, 'blib/lib', 'blib/arch')" t/*.t t/external/*.t
# openssl version compiled=0x30300000 linked=0x30300020 -- OpenSSL 3.3.2 3 Sep 2024
# Net::SSLeay version=1.94
# parent IO::Socket::IP version=0.42
t/01loadmodule.t .................. ok
t/acceptSSL-timeout.t ............. ok
t/alpn.t .......................... ok
t/auto_verify_hostname.t .......... ok
t/cert_formats.t .................. ok
t/cert_no_file.t .................. ok
t/compatibility.t ................. ok
t/connectSSL-timeout.t ............ ok
t/core.t .......................... ok
t/dhe.t ........................... ok
t/ecdhe.t ......................... ok
# tcp connect to www.chksum.de:443 ok
# fingerprint matches
# validation with default CA w/o OCSP ok
# got stapled response as expected
# validation with default CA with OCSP defaults ok
# validation with default CA with OCSP full chain ok
# tcp connect to www.bild.de:443 ok
# fingerprint matches
# validation with default CA w/o OCSP ok
# validation with default CA with OCSP defaults ok
# validation with default CA with OCSP full chain ok
# tcp connect to revoked.grc.com:443 ok
# fingerprint matches
# validation with default CA w/o OCSP ok
t/external/ocsp.t ................. ok
# found 147 CA certs
# have root CA for www.bild.de in store
# 5 connections to www.bild.de ok
# have root CA for www.yahoo.com in store
# 5 connections to www.yahoo.com ok
# fingerprint www.yahoo.com matches
# have root CA for www.comdirect.de in store
# 5 connections to www.comdirect.de ok
# fingerprint www.comdirect.de matches
# have root CA for meine.deutsche-bank.de in store
# 5 connections to meine.deutsche-bank.de ok
# fingerprint meine.deutsche-bank.de matches
# have root CA for www.twitter.com in store
# 5 connections to www.twitter.com ok
# have root CA for www.facebook.com in store
# 5 connections to www.facebook.com ok
# have root CA for www.live.com in store
# 5 connections to www.live.com ok
# fingerprint www.live.com matches
t/external/usable_ca.t ............ ok
t/io-socket-inet6.t ............... skipped: no IO::Socket::INET6 available
t/io-socket-ip.t .................. ok
t/memleak_bad_handshake.t ......... ok
t/mitm.t .......................... ok
t/multiple-cert-rsa-ecc.t ......... ok
t/nonblock.t ...................... ok
t/npn.t ........................... ok
# -- test: newINET start_SSL stop_SSL start_SSL
# server accepted new client
# wait for initial data from client
# got 0x666f6f from client
# server: got plain data at start of connection
# server: TLS upgrade
# server: TLS downgrade
# server: TLS upgrade#2
# -- test: newSSL stop_SSL connect_SSL
# server accepted new client
# wait for initial data from client
# got 0x160301 from client
# server: TLS upgrade
# server: TLS downgrade
# server: TLS upgrade#2
# -- test: newSSL:0 connect_SSL stop_SSL connect_SSL
# server accepted new client
# wait for initial data from client
# got 0x666f6f from client
# server: got plain data at start of connection
# server: TLS upgrade
# server: TLS downgrade
# server: TLS upgrade#2
# -- test: newSSL:0 start_SSL stop_SSL connect_SSL
# server accepted new client
# wait for initial data from client
# got 0x666f6f from client
# server: got plain data at start of connection
# server: TLS upgrade
# server: TLS downgrade
# server: TLS upgrade#2
# server accepted new client
# wait for initial data from client
# got 0x656e64 from client
# client requested end of tests
t/plain_upgrade_downgrade.t ....... ok
# looks like OpenSSL was compiled without SSLv3 support
t/protocol_version.t .............. ok
# client accepted: ver=TLSv1_3 cipher=TLS_CHACHA20_POLY1305_SHA256
# accept failed: , SSL accept attempt failed error:0A0000FD:SSL routines::binder does not verify
# client accepted: ver=TLSv1_3 cipher=TLS_CHACHA20_POLY1305_SHA256
# client accepted: ver=TLSv1_3 cipher=TLS_CHACHA20_POLY1305_SHA256
# accept failed: , SSL accept attempt failed error:0A0000FD:SSL routines::binder does not verify
# client accepted: ver=TLSv1_3 cipher=TLS_CHACHA20_POLY1305_SHA256
# accept failed: , SSL accept attempt failed error:0A0000FD:SSL routines::binder does not verify
# client accepted: ver=TLSv1_2 cipher=DHE-PSK-AES256-GCM-SHA384
# accept failed: , SSL accept attempt failed error:1C800066:Provider routines::cipher operation failed error:0A000119:SSL routines::decryption failed or bad record mac error:0A000139:SSL routines::record layer failure
# client accepted: ver=TLSv1_2 cipher=DHE-PSK-AES256-GCM-SHA384
# client accepted: ver=TLSv1_2 cipher=DHE-PSK-AES256-GCM-SHA384
# accept failed: , SSL accept attempt failed error:1C800066:Provider routines::cipher operation failed error:0A000119:SSL routines::decryption failed or bad record mac error:0A000139:SSL routines::record layer failure
# client accepted: ver=TLSv1_2 cipher=DHE-PSK-AES256-GCM-SHA384
# accept failed: , SSL accept attempt failed error:1C800066:Provider routines::cipher operation failed error:0A000119:SSL routines::decryption failed or bad record mac error:0A000139:SSL routines::record layer failure
t/psk.t ........................... ok
t/public_suffix_lib_encode_idn.t .. ok
t/public_suffix_lib_libidn.t ...... ok
t/public_suffix_lib_uri.t ......... ok
t/public_suffix_ssl.t ............. ok
t/readline.t ...................... ok
t/session_cache.t ................. ok
# listen at 127.0.0.1:51869
# listen at 127.0.0.1:51870
# connect to 0: success reuse=0 version=TLSv1_3
# connect to 0: success reuse=1 version=TLSv1_3
# connect to 1: success reuse=1 version=TLSv1_3
# connect to 1: success reuse=0 version=TLSv1_3
# connect to 0: success reuse=0 version=TLSv1_3
# connect to 0: success reuse=1 version=TLSv1_3
t/session_ticket.t ................ ok
t/sessions.t ...................... ok
t/set_curves.t .................... ok
t/signal-readline.t ............... ok
t/sni.t ........................... ok
t/sni_verify.t .................... ok
t/start-stopssl.t ................. ok
t/startssl-failed.t ............... ok
t/startssl.t ...................... ok
t/sysread_write.t ................. ok
t/verify_fingerprint.t ............ ok
t/verify_hostname.t ............... ok
t/verify_hostname_standalone.t .... ok
t/verify_partial_chain.t .......... ok
All tests successful.
Files=43, Tests=839, 98 wallclock secs ( 0.18 usr 0.09 sys + 7.07 cusr 1.44 csys = 8.78 CPU)
Result: PASS
------------------------------
PREREQUISITES
------------------------------
Prerequisite modules loaded:
requires:
Module Need Have
------------------- ---- ----
Net::SSLeay 1.46 1.94
Scalar::Util 0 1.63
build_requires:
Module Need Have
------------------- ---- ----
ExtUtils::MakeMaker 0 7.70
configure_requires:
Module Need Have
------------------- ---- ----
ExtUtils::MakeMaker 0 7.70
Net::SSLeay 1.46 1.94
------------------------------
ENVIRONMENT AND OTHER CONTEXT
------------------------------
Environment variables:
LANG = en_CA.UTF-8
NONINTERACTIVE_TESTING = 1
PATH = /opt/local/bin:/opt/local/sbin:/usr/local/opt/ruby/bin:/usr/local/sbin:/Users/philip/perl5/perlbrew/bin:/Users/philip/perl5/perlbrew/perls/perl-5.40.0/bin:/usr/local/bin:/usr/bin:/bin:/usr/sbin:/sbin:/Applications/VMware Fusion.app/Contents/Public:/Applications/Little Snitch.app/Contents/Components:/opt/X11/bin:/Library/Apple/usr/bin
PERL5LIB =
PERL5OPT =
PERL5_CPANPLUS_IS_RUNNING = 3739
PERL5_CPAN_IS_RUNNING = 3739
PERLBREW_HOME = /Users/philip/.perlbrew
PERLBREW_MANPATH = /Users/philip/perl5/perlbrew/perls/perl-5.40.0/man
PERLBREW_PATH = /Users/philip/perl5/perlbrew/bin:/Users/philip/perl5/perlbrew/perls/perl-5.40.0/bin
PERLBREW_PERL = perl-5.40.0
PERLBREW_ROOT = /Users/philip/perl5/perlbrew
PERLBREW_SHELLRC_VERSION = 0.95
PERLBREW_VERSION = 0.95
PERL_MM_USE_DEFAULT = 1
PERL_USE_UNSAFE_INC = 1
SHELL = /usr/local/bin/bash
TERM = xterm-256color
TMPDIR = /var/folders/06/jdftkz7977sgdq6w4087fn4c0000gn/T/
Perl special variables (and OS-specific diagnostics, for MSWin32):
$^X = /Users/philip/perl5/perlbrew/perls/perl-5.40.0/bin/perl
$UID/$EUID = 501 / 501
$GID = 20 20 12 61 79 80 81 98 701 33 100 204 250 395 398 399 400
$EGID = 20 20 12 61 79 80 81 98 701 33 100 204 250 395 398 399 400
Perl module toolchain versions installed:
Module Have
------------------- --------
CPAN 2.37
CPAN::Meta 2.150010
Cwd 3.90
ExtUtils::CBuilder 0.280240
ExtUtils::Command 7.70
ExtUtils::Install 2.22
ExtUtils::MakeMaker 7.70
ExtUtils::Manifest 1.75
ExtUtils::ParseXS 3.51
File::Spec 3.90
JSON 4.10
JSON::PP 4.16
Module::Build 0.4234
Module::Signature n/a
Parse::CPAN::Meta 2.150010
Test2 1.302199
Test::Harness 3.48
Test::More 1.302199
YAML 1.31
YAML::Syck n/a
version 0.9932
--
Summary of my perl5 (revision 5 version 40 subversion 0) configuration:
Platform:
osname=darwin
osvers=20.6.0
archname=darwin-2level
uname='darwin imac3.local 20.6.0 darwin kernel version 20.6.0: thu jul 6 22:12:47 pdt 2023; root:xnu-7195.141.49.702.12~1release_x86_64 x86_64 '
config_args='-de -Dprefix=/Users/philip/perl5/perlbrew/perls/perl-5.40.0 -Aeval:scriptdir=/Users/philip/perl5/perlbrew/perls/perl-5.40.0/bin'
hint=recommended
useposix=true
d_sigaction=define
useithreads=undef
usemultiplicity=undef
use64bitint=define
use64bitall=define
uselongdouble=undef
usemymalloc=n
default_inc_excludes_dot=define
Compiler:
cc='cc'
ccflags ='-fno-common -DPERL_DARWIN -mmacosx-version-min=11.7 -DNO_THREAD_SAFE_QUERYLOCALE -DNO_POSIX_2008_LOCALE -fno-strict-aliasing -pipe -fstack-protector-strong -I/usr/local/include -I/opt/local/include'
optimize='-O3'
cppflags='-fno-common -DPERL_DARWIN -mmacosx-version-min=11.7 -DNO_THREAD_SAFE_QUERYLOCALE -DNO_POSIX_2008_LOCALE -fno-strict-aliasing -pipe -fstack-protector-strong -I/usr/local/include -I/opt/local/include'
ccversion=''
gccversion='Apple LLVM 13.0.0 (clang-1300.0.29.30)'
gccosandvers=''
intsize=4
longsize=8
ptrsize=8
doublesize=8
byteorder=12345678
doublekind=3
d_longlong=define
longlongsize=8
d_longdbl=define
longdblsize=16
longdblkind=3
ivtype='long'
ivsize=8
nvtype='double'
nvsize=8
Off_t='off_t'
lseeksize=8
alignbytes=8
prototype=define
Linker and Libraries:
ld='cc'
ldflags =' -mmacosx-version-min=11.7 -fstack-protector-strong -L/usr/local/lib -L/opt/local/lib'
libpth=/usr/local/lib /Applications/Xcode.app/Contents/Developer/Toolchains/XcodeDefault.xctoolchain/usr/lib/clang/13.0.0/lib /Applications/Xcode.app/Contents/Developer/Platforms/MacOSX.platform/Developer/SDKs/MacOSX.sdk/usr/lib /Applications/Xcode.app/Contents/Developer/Toolchains/XcodeDefault.xctoolchain/usr/lib /opt/local/lib /usr/lib
libs=-lgdbm
perllibs=
libc=
so=dylib
useshrplib=false
libperl=libperl.a
gnulibc_version=''
Dynamic Linking:
dlsrc=dl_dlopen.xs
dlext=bundle
d_dlsymun=undef
ccdlflags=' '
cccdlflags=' '
lddlflags=' -mmacosx-version-min=11.7 -bundle -undefined dynamic_lookup -L/usr/local/lib -L/opt/local/lib -fstack-protector-strong'
Characteristics of this binary (from libperl):
Compile-time options:
HAS_LONG_DOUBLE
HAS_STRTOLD
HAS_TIMES
PERLIO_LAYERS
PERL_COPY_ON_WRITE
PERL_DONT_CREATE_GVSV
PERL_HASH_FUNC_SIPHASH13
PERL_HASH_USE_SBOX32
PERL_MALLOC_WRAP
PERL_OP_PARENT
PERL_PRESERVE_IVUV
PERL_USE_SAFE_PUTENV
USE_64_BIT_ALL
USE_64_BIT_INT
USE_LARGE_FILES
USE_LOCALE
USE_LOCALE_COLLATE
USE_LOCALE_CTYPE
USE_LOCALE_NUMERIC
USE_LOCALE_TIME
USE_PERLIO
USE_PERL_ATOF
Built under darwin
Compiled at Jun 20 2024 17:31:28
%ENV:
PERL5LIB=""
PERL5OPT=""
PERL5_CPANPLUS_IS_RUNNING="3739"
PERL5_CPAN_IS_RUNNING="3739"
PERLBREW_HOME="/Users/philip/.perlbrew"
PERLBREW_MANPATH="/Users/philip/perl5/perlbrew/perls/perl-5.40.0/man"
PERLBREW_PATH="/Users/philip/perl5/perlbrew/bin:/Users/philip/perl5/perlbrew/perls/perl-5.40.0/bin"
PERLBREW_PERL="perl-5.40.0"
PERLBREW_ROOT="/Users/philip/perl5/perlbrew"
PERLBREW_SHELLRC_VERSION="0.95"
PERLBREW_VERSION="0.95"
PERL_MM_USE_DEFAULT="1"
PERL_USE_UNSAFE_INC="1"
@INC:
/Users/philip/perl5/perlbrew/perls/perl-5.40.0/lib/site_perl/5.40.0/darwin-2level
/Users/philip/perl5/perlbrew/perls/perl-5.40.0/lib/site_perl/5.40.0
/Users/philip/perl5/perlbrew/perls/perl-5.40.0/lib/5.40.0/darwin-2level
/Users/philip/perl5/perlbrew/perls/perl-5.40.0/lib/5.40.0
.