Acme-MetaSyntactic v1.015 Perl 5 v5.37.5 x86_64-linux-thread-multi
- Status
- Pass
- From
- Carlos Guevara
- Dist
-
Acme-MetaSyntactic v1.015
- Platform
- Perl 5 v5.37.5 x86_64-linux-thread-multi
- Date
- 2022-09-27 09:25:01
- ID
- 43254b74-3e46-11ed-baaa-2b64f03358fe
This distribution has been tested as part of the CPAN Testers
project, supporting the Perl programming language. See
http://wiki.cpantesters.org/ for more information or email
questions to cpan-testers-discuss@perl.org
--
Dear Philippe Bruhat (BooK),
This is a computer-generated report for Acme-MetaSyntactic-1.015
on perl 5.37.5, created by CPAN-Reporter-1.2018.
Thank you for uploading your work to CPAN. Congratulations!
All tests were successful.
Sections of this report:
* Tester comments
* Program output
* Prerequisites
* Environment and other context
------------------------------
TESTER COMMENTS
------------------------------
Additional comments from tester:
this report is from an automated smoke testing program
and was not reviewed by a human for accuracy
------------------------------
PROGRAM OUTPUT
------------------------------
Output from '/usr/bin/make test':
PERL_DL_NONLAZY=1 "/home/cpan/bin/perl-blead/bin/perl5.37.5" "-MExtUtils::Command::MM" "-MTest::Harness" "-e" "undef *Test::Harness::Switches; test_harness(0, 'blib/lib', 'blib/arch')" t/*.t
t/00-compile.t .......... ok
#
# Versions for all modules listed in MYMETA.json (including optional ones):
#
# === Configure Requires ===
#
# Module Want Have
# ------------------- ---- ----
# ExtUtils::MakeMaker any 7.64
#
# === Build Requires ===
#
# Module Want Have
# ------------------- ---- ----
# ExtUtils::MakeMaker any 7.64
#
# === Test Requires ===
#
# Module Want Have
# --------------------- ---- --------
# Cwd any 3.86
# ExtUtils::MakeMaker any 7.64
# File::Find any 1.41
# File::Spec any 3.87
# File::Spec::Functions any 3.86
# IO::Handle any 1.51
# IPC::Open3 any 1.22
# Test::More any 1.302191
# lib any 0.65
#
# === Test Recommends ===
#
# Module Want Have
# ---------- -------- --------
# CPAN::Meta 2.120900 2.150010
#
# === Runtime Requires ===
#
# Module Want Have
# --------------------- ---- --------
# Carp any 1.54
# File::Basename any 2.86
# File::Glob any 1.38
# File::Spec any 3.87
# Getopt::Long any 2.52
# LWP::UserAgent any 6.67
# List::Util any 1.63
# Test::Builder::Module any 1.302191
# Win32::Locale any 0.04
# base any 2.27
# strict any 1.12
# warnings any 1.59
#
t/00-report-prereqs.t ... ok
# Tested Acme::MetaSyntactic 1.015, Perl 5.037005, /home/cpan/bin/perl-blead/bin/perl5.37.5
t/00load.t .............. ok
t/05class.t ............. ok
t/07data.t .............. ok
t/10meta.t .............. ok
t/11namespace.t ......... ok
t/12fail.t .............. ok
t/12live.t .............. ok
t/15func.t .............. ok
t/16import.t ............ ok
t/20theme.t ............. ok
t/29meta.t .............. ok
t/30list.t .............. ok
t/31any.t ............... ok
t/32multi.t ............. ok
t/33locale.t ............ ok
t/33locale_territory.t .. ok
t/33locale_win32.t ...... ok
t/34data.t .............. ok
Failed to get content at fail (400 URL must be absolute at t/35remote.t line 89.
t/35remote.t ............ ok
Failed to get content at fail (400 URL must be absolute at t/35remote2.t line 47.
t/35remote2.t ........... ok
t/40inc.t ............... ok
t/50usecase.t ........... ok
t/author-pod-syntax.t ... skipped: these tests are for testing by the author
t/release-distmeta.t .... skipped: these tests are for release candidate testing
All tests successful.
Files=26, Tests=257, 6 wallclock secs ( 0.13 usr 0.03 sys + 4.74 cusr 1.19 csys = 6.09 CPU)
Result: PASS
------------------------------
PREREQUISITES
------------------------------
Prerequisite modules loaded:
requires:
Module Need Have
--------------------- ----- --------
base 0 2.27
Carp 0 1.54
File::Basename 0 2.86
File::Glob 0 1.38
File::Spec 0 3.87
Getopt::Long 0 2.52
List::Util 0 1.63
LWP::UserAgent 0 6.67
perl 5.006 5.037005
strict 0 1.12
Test::Builder::Module 0 1.302191
warnings 0 1.59
Win32::Locale 0 0.04
build_requires:
Module Need Have
--------------------- ----- --------
Cwd 0 3.86
ExtUtils::MakeMaker 0 7.64
File::Find 0 1.41
File::Spec 0 3.87
File::Spec::Functions 0 3.86
IO::Handle 0 1.51
IPC::Open3 0 1.22
lib 0 0.65
Test::More 0 1.302191
configure_requires:
Module Need Have
--------------------- ----- --------
ExtUtils::MakeMaker 0 7.64
------------------------------
ENVIRONMENT AND OTHER CONTEXT
------------------------------
Environment variables:
AUTOMATED_TESTING = 1
DATE_MANIP_TEST_DM5 = 1
LANG = C.UTF-8
LC_COLLATE = C
NONINTERACTIVE_TESTING = 1
NO_NETWORK_TESTING = 1
PATH = /home/cpan/bin/perl-blead/bin:/usr/local/sbin:/usr/local/bin:/usr/sbin:/usr/bin:/sbin:/bin
PERL5LIB =
PERL5OPT =
PERL5_CPANPLUS_IS_RUNNING = 20890
PERL5_CPAN_IS_RUNNING = 20890
PERL_MM_USE_DEFAULT = 1
PERL_USE_UNSAFE_INC = 1
PERL_VERSION = blead
SHELL = /bin/bash
TERM = screen
Perl special variables (and OS-specific diagnostics, for MSWin32):
$^X = /home/cpan/bin/perl-blead/bin/perl5.37.5
$UID/$EUID = 1001 / 1001
$GID = 1001 1001
$EGID = 1001 1001
Perl module toolchain versions installed:
Module Have
------------------- --------
CPAN 2.34
CPAN::Meta 2.150010
Cwd 3.86
ExtUtils::CBuilder 0.280237
ExtUtils::Command 7.64
ExtUtils::Install 2.20
ExtUtils::MakeMaker 7.64
ExtUtils::Manifest 1.73
ExtUtils::ParseXS 3.46
File::Spec 3.87
JSON 4.09
JSON::PP 4.11
Module::Build 0.4231
Module::Signature n/a
Parse::CPAN::Meta 2.150010
Test::Harness 3.44
Test::More 1.302191
YAML 1.30
YAML::Syck 1.34
version 0.9929
--
Summary of my perl5 (revision 5 version 37 subversion 5) configuration:
Commit id: b93391659d456f4fb0d24eb43c150565f51abbc4
Platform:
osname=linux
osvers=5.15.69-0-lts
archname=x86_64-linux-thread-multi
uname='linux cjg-alpine3 5.15.69-0-lts #1-alpine smp wed, 21 sep 2022 07:00:53 +0000 x86_64 linux '
config_args='-des -Dprefix=~/bin/perl-blead -Dscriptdir=~/bin/perl-blead/bin -Dusedevel -Duse64bitall -Duseithreads'
hint=recommended
useposix=true
d_sigaction=define
useithreads=define
usemultiplicity=define
use64bitint=define
use64bitall=define
uselongdouble=undef
usemymalloc=n
default_inc_excludes_dot=define
Compiler:
cc='cc'
ccflags ='-D_REENTRANT -D_GNU_SOURCE -D_GNU_SOURCE -fwrapv -fno-strict-aliasing -pipe -fstack-protector-strong -D_LARGEFILE_SOURCE -D_FILE_OFFSET_BITS=64'
optimize='-O2'
cppflags='-D_REENTRANT -D_GNU_SOURCE -D_GNU_SOURCE -fwrapv -fno-strict-aliasing -pipe -fstack-protector-strong'
ccversion=''
gccversion='11.2.1 20220219'
gccosandvers=''
intsize=4
longsize=8
ptrsize=8
doublesize=8
byteorder=12345678
doublekind=3
d_longlong=define
longlongsize=8
d_longdbl=define
longdblsize=16
longdblkind=3
ivtype='long'
ivsize=8
nvtype='double'
nvsize=8
Off_t='off_t'
lseeksize=8
alignbytes=8
prototype=define
Linker and Libraries:
ld='cc'
ldflags =' -fstack-protector-strong -L/usr/local/lib'
libpth=/usr/lib /usr/local/lib /lib
libs=-lpthread -ldb -ldl -lm -lcrypt -lutil -lc
perllibs=-lpthread -ldl -lm -lcrypt -lutil -lc
libc=/usr/lib/libc.a
so=so
useshrplib=false
libperl=libperl.a
gnulibc_version=''
Dynamic Linking:
dlsrc=dl_dlopen.xs
dlext=so
d_dlsymun=undef
ccdlflags='-Wl,-E'
cccdlflags='-fPIC'
lddlflags='-shared -O2 -L/usr/local/lib -fstack-protector-strong'
Characteristics of this binary (from libperl):
Compile-time options:
HAS_TIMES
MULTIPLICITY
PERLIO_LAYERS
PERL_COPY_ON_WRITE
PERL_DONT_CREATE_GVSV
PERL_HASH_FUNC_SIPHASH13
PERL_HASH_USE_SBOX32
PERL_MALLOC_WRAP
PERL_OP_PARENT
PERL_PRESERVE_IVUV
PERL_USE_DEVEL
PERL_USE_SAFE_PUTENV
USE_64_BIT_ALL
USE_64_BIT_INT
USE_ITHREADS
USE_LARGE_FILES
USE_LOCALE
USE_LOCALE_COLLATE
USE_LOCALE_CTYPE
USE_LOCALE_NUMERIC
USE_LOCALE_TIME
USE_PERLIO
USE_PERL_ATOF
USE_REENTRANT_API
USE_THREAD_SAFE_LOCALE
Built under linux
Compiled at Sep 26 2022 15:05:27
%ENV:
PERL5LIB=""
PERL5OPT=""
PERL5_CPANPLUS_IS_RUNNING="20890"
PERL5_CPAN_IS_RUNNING="20890"
PERL_MM_USE_DEFAULT="1"
PERL_USE_UNSAFE_INC="1"
PERL_VERSION="blead"
@INC:
/home/cpan/bin/perl-blead/lib/site_perl/5.37.5/x86_64-linux-thread-multi
/home/cpan/bin/perl-blead/lib/site_perl/5.37.5
/home/cpan/bin/perl-blead/lib/5.37.5/x86_64-linux-thread-multi
/home/cpan/bin/perl-blead/lib/5.37.5
.