Report for PerlIO-utf8_strict-0.005

Back
From: metabase:user:b53c7f44-4c0e-11e4-9ced-a04ade49192c
Subject: PASS PerlIO-utf8_strict-0.005 v5.21.10 GNU/Linux
Date: 2015-03-04T01:03:25Z

This distribution has been tested as part of the CPAN Testers
project, supporting the Perl programming language.  See
http://wiki.cpantesters.org/ for more information or email
questions to cpan-testers-discuss@perl.org


--
Dear Leon Timmermans,

This is a computer-generated report for PerlIO-utf8_strict-0.005
on perl 5.21.10, created by CPAN-Reporter-1.2011.

Thank you for uploading your work to CPAN.  Congratulations!
All tests were successful.

Sections of this report:

    * Tester comments
    * Program output
    * Prerequisites
    * Environment and other context

------------------------------
TESTER COMMENTS
------------------------------

Additional comments from tester:

this report is from an automated smoke testing program
and was not reviewed by a human for accuracy

------------------------------
PROGRAM OUTPUT
------------------------------

Output from './Build test':

t/00-compile.t ............ ok
t/basics.t ................ ok
t/bug.t ................... ok
t/incomplete.t ............ ok
t/non-shortest-form.t ..... ok
t/noncharacters.t ......... ok
t/release-pod-coverage.t .. skipped: these tests are for release candidate testing
t/release-pod-syntax.t .... skipped: these tests are for release candidate testing
t/super.t ................. ok
t/surrogates.t ............ ok
t/unicode.t ............... ok
All tests successful.
Files=11, Tests=5817, 26 wallclock secs ( 4.02 usr  0.28 sys + 12.37 cusr  2.63 csys = 19.30 CPU)
Result: PASS

------------------------------
PREREQUISITES
------------------------------

Prerequisite modules loaded:

requires:

    Module                Need  Have        
    --------------------- ----- ------------
    perl                  5.008 5.021010    
    strict                0     1.09        
    warnings              0     1.31        
    XSLoader              0     0.20        

build_requires:

    Module                Need  Have        
    --------------------- ----- ------------
    Carp                  0     1.35        
    Exporter              0     5.72        
    ExtUtils::CBuilder    0     0.280221    
    File::Spec            0     3.53        
    File::Spec::Functions 0     3.54        
    IO::File              0     1.16        
    IO::Handle            0     1.35        
    IPC::Open3            0     1.18        
    Module::Build         0.28  0.4211      
    perl                  5.008 5.021010    
    Test::Exception       0     0.38        
    Test::More            0.88  1.301001_098
    utf8                  0     1.14        

configure_requires:

    Module                Need  Have        
    --------------------- ----- ------------
    Module::Build         0.28  0.4211      


------------------------------
ENVIRONMENT AND OTHER CONTEXT
------------------------------

Environment variables:

    AUTOMATED_TESTING = 1
    LANG = en_US.utf8
    MB_TEST_EXPERIMENTAL = 1
    NONINTERACTIVE_TESTING = 1
    PATH = /usr/lib/qt-3.3/bin:/usr/kerberos/sbin:/usr/kerberos/bin:/usr/lib/ccache:/usr/local/sbin:/usr/sbin:/sbin:/usr/local/bin:/usr/bin:/bin:/usr/lib/firebird/bin:/opt/real/RealPlayer:/root/bin:/usr/lib/firebird/bin:/opt/real/RealPlayer
    PERL5LIB = 
    PERL5OPT = 
    PERL5_CPANPLUS_IS_RUNNING = 15220
    PERL5_CPAN_IS_RUNNING = 15220
    PERL_ANYEVENT_MODEL = POE
    PERL_EXTUTILS_AUTOINSTALL = --defaultdeps
    PERL_MM_USE_DEFAULT = 1
    SHELL = /bin/bash
    TERM = xterm

Perl special variables (and OS-specific diagnostics, for MSWin32):

    $^X = /opt/perl492-02-32-32-O1-5.21.10/bin/perl
    $UID/$EUID = 0 / 0
    $GID = 0 0 1 2 3 4 6 10
    $EGID = 0 0 1 2 3 4 6 10

Perl module toolchain versions installed:

    Module              Have        
    ------------------- ------------
    CPAN                2.09        
    CPAN::Meta          2.143240    
    Cwd                 3.54        
    ExtUtils::CBuilder  0.280221    
    ExtUtils::Command   1.20        
    ExtUtils::Install   2.04        
    ExtUtils::MakeMaker 7.04        
    ExtUtils::Manifest  1.70        
    ExtUtils::ParseXS   3.27        
    File::Spec          3.53        
    JSON                2.90        
    JSON::PP            2.27300     
    Module::Build       0.4211      
    Module::Signature   n/a         
    Parse::CPAN::Meta   1.4414      
    Test::Harness       3.35        
    Test::More          1.301001_098
    YAML                1.14        
    YAML::Syck          1.29        
    version             0.9912      


--

Summary of my perl5 (revision 5 version 21 subversion 10) configuration:
  Snapshot of: 2c3f32ad7d1eb50a91b5d7550f679776aabbae67
  Platform:
    osname=linux, osvers=2.6.32.63, archname=i686-linux-thread-multi-ld
    uname='linux localhost.localdomain 2.6.32.63 #2 smp fri jan 30 10:45:01 pst 2015 i686 i686 i386 gnulinux '
    config_args='-Dcc=/opt/492/bin/gcc -Dprefix=/opt/perl492-02-32-32-O1-5.21.10 -DDEBUGGING'
    hint=recommended, useposix=true, d_sigaction=define
    useithreads=define, usemultiplicity=define
    use64bitint=undef, use64bitall=undef, uselongdouble=define
    usemymalloc=y, bincompat5005=undef
  Compiler:
    cc='/opt/492/bin/gcc', ccflags ='-D_REENTRANT -D_GNU_SOURCE -fwrapv -DDEBUGGING -fno-strict-aliasing -pipe -fstack-protector-strong -I/usr/local/include -D_LARGEFILE_SOURCE -D_FILE_OFFSET_BITS=64 -D_FORTIFY_SOURCE=2',
    optimize='-O1 -g',
    cppflags='-D_REENTRANT -D_GNU_SOURCE -fwrapv -DDEBUGGING -fno-strict-aliasing -pipe -fstack-protector-strong -I/usr/local/include'
    ccversion='', gccversion='4.9.2', gccosandvers=''
    intsize=4, longsize=4, ptrsize=4, doublesize=8, byteorder=1234, doublekind=3
    d_longlong=define, longlongsize=8, d_longdbl=define, longdblsize=12, longdblkind=3
    ivtype='long', ivsize=4, nvtype='long double', nvsize=12, Off_t='off_t', lseeksize=8
    alignbytes=4, prototype=define
  Linker and Libraries:
    ld='/opt/492/bin/gcc', ldflags =' -fstack-protector-strong -L/usr/local/lib'
    libpth=/usr/local/lib /opt/492/lib /opt/492/lib/gcc/i686-pc-linux-gnu/4.9.2/include-fixed /usr/lib /lib
    libs=-lpthread -lnsl -lgdbm -ldb -ldl -lm -lcrypt -lutil -lc
    perllibs=-lpthread -lnsl -ldl -lm -lcrypt -lutil -lc
    libc=libc-2.8.so, so=so, useshrplib=true, libperl=libperl.so
    gnulibc_version='2.8'
  Dynamic Linking:
    dlsrc=dl_dlopen.xs, dlext=so, d_dlsymun=undef, ccdlflags='-Wl,-E -Wl,-rpath,/opt/perl492-02-32-32-O1-5.21.10/lib/5.21.10/i686-linux-thread-multi-ld/CORE'
    cccdlflags='-fPIC', lddlflags='-shared -O1 -g -L/usr/local/lib -fstack-protector-strong'


Characteristics of this binary (from libperl): 
  Compile-time options: DEBUGGING HAS_TIMES MULTIPLICITY MYMALLOC
                        PERLIO_LAYERS PERL_DONT_CREATE_GVSV
                        PERL_HASH_FUNC_ONE_AT_A_TIME_HARD
                        PERL_IMPLICIT_CONTEXT PERL_MALLOC_WRAP
                        PERL_NEW_COPY_ON_WRITE PERL_PRESERVE_IVUV
                        PERL_TRACK_MEMPOOL USE_FAST_STDIO USE_ITHREADS
                        USE_LARGE_FILES USE_LOCALE USE_LOCALE_COLLATE
                        USE_LOCALE_CTYPE USE_LOCALE_NUMERIC USE_LOCALE_TIME
                        USE_LONG_DOUBLE USE_PERLIO USE_PERL_ATOF
                        USE_REENTRANT_API
  Built under linux
  Compiled at Feb 28 2015 23:12:57
  %ENV:
    PERL5LIB=""
    PERL5OPT=""
    PERL5_CPANPLUS_IS_RUNNING="15220"
    PERL5_CPAN_IS_RUNNING="15220"
    PERL_ANYEVENT_MODEL="POE"
    PERL_EXTUTILS_AUTOINSTALL="--defaultdeps"
    PERL_MM_USE_DEFAULT="1"
  @INC:
    /opt/perl492-02-32-32-O1-5.21.10/lib/site_perl/5.21.10/i686-linux-thread-multi-ld
    /opt/perl492-02-32-32-O1-5.21.10/lib/site_perl/5.21.10
    /opt/perl492-02-32-32-O1-5.21.10/lib/5.21.10/i686-linux-thread-multi-ld
    /opt/perl492-02-32-32-O1-5.21.10/lib/5.21.10
    .