Back
From: metabase:user:9820532a-708b-1014-9a05-b18a96298da1
Subject: PASS Error-Hierarchy-1.103530 v5.15.0 GNU/Linux
Date: 2011-07-18T20:33:57Z
This distribution has been tested as part of the CPAN Testers
project, supporting the Perl programming language. See
http://wiki.cpantesters.org/ for more information or email
questions to cpan-testers-discuss@perl.org
--
Dear Marcel Gruenauer,
This is a computer-generated report for Error-Hierarchy-1.103530
on perl 5.15.0, created by CPAN-Reporter-1.1902.
Thank you for uploading your work to CPAN. Congratulations!
All tests were successful.
Sections of this report:
* Tester comments
* Program output
* Prerequisites
* Environment and other context
------------------------------
TESTER COMMENTS
------------------------------
Additional comments from tester:
this report is from an automated smoke testing program
and was not reviewed by a human for accuracy
------------------------------
PROGRAM OUTPUT
------------------------------
Output from '/usr/bin/make test':
PERL_DL_NONLAZY=1 /home/test/perl5/perlbrew/perls/perl-5.15.0/bin/perl5.15.0 "-MExtUtils::Command::MM" "-e" "test_harness(0, 'blib/lib', 'blib/arch')" t/*.t
t/00-compile.t ............... ok
# Testing with Perl 5.015000, /home/test/perl5/perlbrew/perls/perl-5.15.0/bin/perl5.15.0
# Capture::Tiny version is 0.11
# Carp version is 1.20
# Class::Accessor version is 0.34
# Class::Accessor::Complex version is 1.100880
# Class::Trigger version is 0.14
# Data::Container version is 1.100840
# Data::Dumper version is 2.131
# Data::Inherited version is 1.100860
# Data::Miscellany version is 1.100850
# Data::UUID version is 1.217
# English version is 1.04
# Error version is 0.17016
# Exporter version is 5.64_03
# ExtUtils::MakeMaker version is 6.58
# File::Find version is 1.19
# File::Temp version is 0.22
# Scalar::Util version is 1.23
# Sys::Hostname version is 1.16
# Test::Builder version is 0.98
# Test::Exception version is 0.31
# Test::More version is 0.98
# YAML version is 0.73
# constant version is 1.22
# overload version is 1.14
# parent version is 0.225
t/000-report-versions.t ...... ok
t/01_all.t ................... ok
t/02_trigger.t ............... ok
t/author-critic.t ............ skipped: these tests are for testing by the author
t/release-check-changes.t .... skipped: these tests are for release candidate testing
t/release-dist-manifest.t .... skipped: these tests are for release candidate testing
t/release-distmeta.t ......... skipped: these tests are for release candidate testing
t/release-eol.t .............. skipped: these tests are for release candidate testing
t/release-has-version.t ...... skipped: these tests are for release candidate testing
t/release-kwalitee.t ......... skipped: these tests are for release candidate testing
t/release-minimum-version.t .. skipped: these tests are for release candidate testing
t/release-no-tabs.t .......... skipped: these tests are for release candidate testing
t/release-pod-coverage.t ..... skipped: these tests are for release candidate testing
t/release-pod-spell.t ........ skipped: these tests are for release candidate testing
t/release-pod-syntax.t ....... skipped: these tests are for release candidate testing
t/release-portability.t ...... skipped: these tests are for release candidate testing
t/release-synopsis.t ......... skipped: these tests are for release candidate testing
t/release-unused-vars.t ...... skipped: these tests are for release candidate testing
All tests successful.
Files=19, Tests=101, 3 wallclock secs ( 0.07 usr 0.05 sys + 1.09 cusr 0.72 csys = 1.93 CPU)
Result: PASS
------------------------------
PREREQUISITES
------------------------------
Prerequisite modules loaded:
requires:
Module Need Have
------------------------ ---- --------
Carp 0 1.20
Class::Accessor 0 0.34
Class::Accessor::Complex 0 1.100880
Class::Trigger 0 0.14
constant 0 1.22
Data::Container 0 1.100840
Data::Dumper 0 2.131
Data::Inherited 0 1.100860
Data::Miscellany 0 1.100850
Data::UUID 0 1.217
Error 0 0.17016
Exporter 0 5.64_03
overload 0 1.14
parent 0 0.225
Sys::Hostname 0 1.16
Test::Builder 0 0.98
Test::Exception 0 0.31
YAML 0 0.73
build_requires:
Module Need Have
------------------------ ---- --------
Capture::Tiny 0 0.11
English 0 1.04
File::Find 0 1.19
File::Temp 0 0.22
Scalar::Util 0 1.23
Test::More 0.94 0.98
configure_requires:
Module Need Have
------------------------ ---- --------
ExtUtils::MakeMaker 6.31 6.58
------------------------------
ENVIRONMENT AND OTHER CONTEXT
------------------------------
Environment variables:
AUTOMATED_TESTING = 1
LANG = C
LC_ALL = C
PATH = /home/test/perl5/perlbrew/bin:/home/test/perl5/perlbrew/perls/perl-5.15.0/bin:/home/test/bin:~/bin:/usr/bin:/bin
PATH_WITHOUT_PERLBREW = /home/test/bin:~/bin:/usr/bin:/bin
PERL5LIB = /home/test/.cpan/build/Class-Trigger-0.14-_isC38/blib/arch:/home/test/.cpan/build/Class-Trigger-0.14-_isC38/blib/lib:/home/test/.cpan/build/Data-Container-1.100840-8tqU6t/blib/arch:/home/test/.cpan/build/Data-Container-1.100840-8tqU6t/blib/lib:/home/test/.cpan/build/Class-Accessor-Constructor-1.111590-hLamnu/blib/arch:/home/test/.cpan/build/Class-Accessor-Constructor-1.111590-hLamnu/blib/lib:/home/test/.cpan/build/Class-Accessor-Complex-1.100880-Ou36iO/blib/arch:/home/test/.cpan/build/Class-Accessor-Complex-1.100880-Ou36iO/blib/lib:/home/test/.cpan/build/Data-Miscellany-1.100850-zZszL9/blib/arch:/home/test/.cpan/build/Data-Miscellany-1.100850-zZszL9/blib/lib:/home/test/.cpan/build/Data-Inherited-1.100860-vW_Ey5/blib/arch:/home/test/.cpan/build/Data-Inherited-1.100860-vW_Ey5/blib/lib:/home/test/.cpan/build/Class-Accessor-Installer-1.100880-y0seoX/blib/arch:/home/test/.cpan/build/Class-Accessor-Installer-1.100880-y0seoX/blib/lib:/home/test/.cpan/build/UNIVERSAL-require-0.13-uQEsgX/blib/arch:/home/test/.cpan/build/UNIVERSAL-require-0.13-uQEsgX/blib/lib:/home/test/.cpan/build/Error-0.17016-T8_JX4/blib/arch:/home/test/.cpan/build/Error-0.17016-T8_JX4/blib/lib
PERL5OPT =
PERL5_CPANPLUS_IS_RUNNING = 25355
PERL5_CPAN_IS_RUNNING = 25355
PERL5_CPAN_IS_RUNNING_IN_RECURSION = 11686,25355
PERLBREW_HOME = /home/test/.perlbrew
PERLBREW_PATH = /home/test/perl5/perlbrew/bin:/home/test/perl5/perlbrew/perls/perl-5.15.0/bin
PERLBREW_PERL = perl-5.15.0
PERLBREW_ROOT = /home/test/perl5/perlbrew
PERLBREW_VERSION = 0.25
PERL_CR_SMOKER_CURRENT = Class-Value-Net-1.110250
PERL_EXTUTILS_AUTOINSTALL = --defaultdeps
PERL_MM_USE_DEFAULT = 1
SHELL = /bin/bash
TERM = linux
Perl special variables (and OS-specific diagnostics, for MSWin32):
$^X = /home/test/perl5/perlbrew/perls/perl-5.15.0/bin/perl5.15.0
$UID/$EUID = 1001 / 1001
$GID = 1001 1001
$EGID = 1001 1001
Perl module toolchain versions installed:
Module Have
------------------- --------
CPAN 1.9600
Cwd 3.36
ExtUtils::CBuilder 0.280204
ExtUtils::Command 1.17
ExtUtils::Install 1.56
ExtUtils::MakeMaker 6.58
ExtUtils::Manifest 1.58
ExtUtils::ParseXS 2.2210
File::Spec 3.33
Module::Build 0.3800
Module::Signature n/a
Test::Harness 3.23
Test::More 0.98
YAML 0.73
YAML::Syck n/a
version 0.91
--
Summary of my perl5 (revision 5 version 15 subversion 0) configuration:
Platform:
osname=linux, osvers=2.6.35-28-generic, archname=x86_64-linux-ld
uname='linux zippy 2.6.35-28-generic #50-ubuntu smp fri mar 18 18:42:20 utc 2011 x86_64 gnulinux '
config_args='-de -Dprefix=/home/test/perl5/perlbrew/perls/perl-5.15.0 -Duselongdouble -Duse64bitall -Dusedevel'
hint=recommended, useposix=true, d_sigaction=define
useithreads=undef, usemultiplicity=undef
useperlio=define, d_sfio=undef, uselargefiles=define, usesocks=undef
use64bitint=define, use64bitall=define, uselongdouble=define
usemymalloc=n, bincompat5005=undef
Compiler:
cc='cc', ccflags ='-fno-strict-aliasing -pipe -fstack-protector -I/usr/local/include -D_LARGEFILE_SOURCE -D_FILE_OFFSET_BITS=64',
optimize='-O2',
cppflags='-fno-strict-aliasing -pipe -fstack-protector -I/usr/local/include'
ccversion='', gccversion='4.4.5', gccosandvers=''
intsize=4, longsize=8, ptrsize=8, doublesize=8, byteorder=12345678
d_longlong=define, longlongsize=8, d_longdbl=define, longdblsize=16
ivtype='long', ivsize=8, nvtype='long double', nvsize=16, Off_t='off_t', lseeksize=8
alignbytes=16, prototype=define
Linker and Libraries:
ld='cc', ldflags =' -fstack-protector -L/usr/local/lib'
libpth=/usr/local/lib /lib/../lib /usr/lib/../lib /lib /usr/lib /usr/lib/x86_64-linux-gnu /lib64 /usr/lib64
libs=-lnsl -ldl -lm -lcrypt -lutil -lc
perllibs=-lnsl -ldl -lm -lcrypt -lutil -lc
libc=/lib/libc-2.12.1.so, so=so, useshrplib=false, libperl=libperl.a
gnulibc_version='2.12.1'
Dynamic Linking:
dlsrc=dl_dlopen.xs, dlext=so, d_dlsymun=undef, ccdlflags='-Wl,-E'
cccdlflags='-fPIC', lddlflags='-shared -O2 -L/usr/local/lib -fstack-protector'
Characteristics of this binary (from libperl):
Compile-time options: PERL_DONT_CREATE_GVSV PERL_MALLOC_WRAP
PERL_PRESERVE_IVUV PERL_USE_DEVEL USE_64_BIT_ALL
USE_64_BIT_INT USE_LARGE_FILES USE_LOCALE
USE_LOCALE_COLLATE USE_LOCALE_CTYPE
USE_LOCALE_NUMERIC USE_LONG_DOUBLE USE_PERLIO
USE_PERL_ATOF
Built under linux
Compiled at Jul 16 2011 17:12:14
%ENV:
PERL5LIB="/home/test/.cpan/build/Class-Trigger-0.14-_isC38/blib/arch:/home/test/.cpan/build/Class-Trigger-0.14-_isC38/blib/lib:/home/test/.cpan/build/Data-Container-1.100840-8tqU6t/blib/arch:/home/test/.cpan/build/Data-Container-1.100840-8tqU6t/blib/lib:/home/test/.cpan/build/Class-Accessor-Constructor-1.111590-hLamnu/blib/arch:/home/test/.cpan/build/Class-Accessor-Constructor-1.111590-hLamnu/blib/lib:/home/test/.cpan/build/Class-Accessor-Complex-1.100880-Ou36iO/blib/arch:/home/test/.cpan/build/Class-Accessor-Complex-1.100880-Ou36iO/blib/lib:/home/test/.cpan/build/Data-Miscellany-1.100850-zZszL9/blib/arch:/home/test/.cpan/build/Data-Miscellany-1.100850-zZszL9/blib/lib:/home/test/.cpan/build/Data-Inherited-1.100860-vW_Ey5/blib/arch:/home/test/.cpan/build/Data-Inherited-1.100860-vW_Ey5/blib/lib:/home/test/.cpan/build/Class-Accessor-Installer-1.100880-y0seoX/blib/arch:/home/test/.cpan/build/Class-Accessor-Installer-1.100880-y0seoX/blib/lib:/home/test/.cpan/build/UNIVERSAL-require-0.13-uQEsgX/blib/arch:/home/test/.cpan/build/UNIVERSAL-require-0.13-uQEsgX/blib/lib:/home/test/.cpan/build/Error-0.17016-T8_JX4/blib/arch:/home/test/.cpan/build/Error-0.17016-T8_JX4/blib/lib"
PERL5OPT=""
PERL5_CPANPLUS_IS_RUNNING="25355"
PERL5_CPAN_IS_RUNNING="25355"
PERL5_CPAN_IS_RUNNING_IN_RECURSION="11686,25355"
PERLBREW_HOME="/home/test/.perlbrew"
PERLBREW_PATH="/home/test/perl5/perlbrew/bin:/home/test/perl5/perlbrew/perls/perl-5.15.0/bin"
PERLBREW_PERL="perl-5.15.0"
PERLBREW_ROOT="/home/test/perl5/perlbrew"
PERLBREW_VERSION="0.25"
PERL_CR_SMOKER_CURRENT="Class-Value-Net-1.110250"
PERL_EXTUTILS_AUTOINSTALL="--defaultdeps"
PERL_MM_USE_DEFAULT="1"
@INC:
/home/test/.cpan/build/Class-Trigger-0.14-_isC38/blib/arch
/home/test/.cpan/build/Class-Trigger-0.14-_isC38/blib/lib
/home/test/.cpan/build/Data-Container-1.100840-8tqU6t/blib/arch
/home/test/.cpan/build/Data-Container-1.100840-8tqU6t/blib/lib
/home/test/.cpan/build/Class-Accessor-Constructor-1.111590-hLamnu/blib/arch
/home/test/.cpan/build/Class-Accessor-Constructor-1.111590-hLamnu/blib/lib
/home/test/.cpan/build/Class-Accessor-Complex-1.100880-Ou36iO/blib/arch
/home/test/.cpan/build/Class-Accessor-Complex-1.100880-Ou36iO/blib/lib
/home/test/.cpan/build/Data-Miscellany-1.100850-zZszL9/blib/arch
/home/test/.cpan/build/Data-Miscellany-1.100850-zZszL9/blib/lib
/home/test/.cpan/build/Data-Inherited-1.100860-vW_Ey5/blib/arch
/home/test/.cpan/build/Data-Inherited-1.100860-vW_Ey5/blib/lib
/home/test/.cpan/build/Class-Accessor-Installer-1.100880-y0seoX/blib/arch
/home/test/.cpan/build/Class-Accessor-Installer-1.100880-y0seoX/blib/lib
/home/test/.cpan/build/UNIVERSAL-require-0.13-uQEsgX/blib/arch
/home/test/.cpan/build/UNIVERSAL-require-0.13-uQEsgX/blib/lib
/home/test/.cpan/build/Error-0.17016-T8_JX4/blib/arch
/home/test/.cpan/build/Error-0.17016-T8_JX4/blib/lib
/home/test/perl5/perlbrew/perls/perl-5.15.0/lib/site_perl/5.15.0/x86_64-linux-ld
/home/test/perl5/perlbrew/perls/perl-5.15.0/lib/site_perl/5.15.0
/home/test/perl5/perlbrew/perls/perl-5.15.0/lib/5.15.0/x86_64-linux-ld
/home/test/perl5/perlbrew/perls/perl-5.15.0/lib/5.15.0
.