String-Palindrome v1.01 Perl 5 v5.12.0 i86pc-solaris-thread-multi-64int

Status
Pass
From
Chris Williams (BINGOS)
Dist
String-Palindrome v1.01
Platform
Perl 5 v5.12.0 i86pc-solaris-thread-multi-64int
Date
2010-08-23 05:49:57
ID
42aa6620-ae7a-11df-9ebc-c4a68065c34d
This distribution has been tested as part of the CPAN Testers
project, supporting the Perl programming language.  See
http://wiki.cpantesters.org/ for more information or email
questions to cpan-testers-discuss@perl.org


--

Dear LESPEA,
    
This is a computer-generated error report created automatically by
CPANPLUS, version 0.9007. Testers personal comments may appear 
at the end of this report.

MAKE TEST passed:
t/00-compile.t ............... ok
t/01-func_test.t ............. ok
t/author-critic.t ............ skipped: these tests are for testing by the author
t/release-check-changes.t .... skipped: these tests are for release candidate testing
t/release-distmeta.t ......... skipped: these tests are for release candidate testing
t/release-has-version.t ...... skipped: these tests are for release candidate testing
t/release-kwalitee.t ......... skipped: these tests are for release candidate testing
t/release-minimum-version.t .. skipped: these tests are for release candidate testing
t/release-pod-coverage.t ..... skipped: these tests are for release candidate testing
t/release-pod-syntax.t ....... skipped: these tests are for release candidate testing
t/release-portability.t ...... skipped: these tests are for release candidate testing
t/release-synopsis.t ......... skipped: these tests are for release candidate testing
t/release-unused-vars.t ...... skipped: these tests are for release candidate testing
All tests successful.
Files=13, Tests=70,  6 wallclock secs ( 0.49 usr  1.15 sys +  1.31 cusr  2.26 csys =  5.21 CPU)
Result: PASS

[MSG] [Mon Aug 23 06:28:59 2010] Sending test report for 'String-Palindrome-1.01'

This report was machine-generated by CPANPLUS::Dist::YACSmoke 0.58.
Powered by minismokebox version 0.26

------------------------------
ENVIRONMENT AND OTHER CONTEXT
------------------------------

Environment variables:

    AUTOMATED_TESTING = 1
    LC_COLLATE = en_GB.UTF-8
    LC_CTYPE = en_GB.UTF-8
    LC_MESSAGES = C
    LC_MONETARY = en_GB.UTF-8
    LC_NUMERIC = en_GB.UTF-8
    LC_TIME = en_GB.UTF-8
    PATH = /opt/SUNWspro/bin:/usr/ccs/bin:/usr/perl5/bin:/usr/local/bin:/usr/local/sbin:/usr/bin::/usr/sfw/bin
    PERL5LIB = :/export/home/cpan/pit/rel/conf/perl-5.12.0/.cpanplus/5.12.0/build/String-Palindrome-1.01/blib/lib:/export/home/cpan/pit/rel/conf/perl-5.12.0/.cpanplus/5.12.0/build/String-Palindrome-1.01/blib/arch
    PERL5_CPANPLUS_IS_RUNNING = 14443
    PERL5_CPANPLUS_IS_VERSION = 0.9007
    PERL5_MINISMOKEBOX = 0.26
    PERL5_YACSMOKE_BASE = /export/home/cpan/pit/rel/conf/perl-5.12.0
    PERL_EXTUTILS_AUTOINSTALL = --defaultdeps
    PERL_MM_USE_DEFAULT = 1
    SHELL = /usr/bin/bash
    TERM = vt100

Perl special variables (and OS-specific diagnostics, for MSWin32):

    Perl: $^X = /export/home/cpan/pit/rel/perl-5.12.0/bin/perl
    UID:  $<  = 100
    EUID: $>  = 100
    GID:  $(  = 100 100
    EGID: $)  = 100 100


-------------------------------


--

Summary of my perl5 (revision 5 version 12 subversion 0) configuration:
   
  Platform:
    osname=solaris, osvers=2.10, archname=i86pc-solaris-thread-multi-64int
    uname='sunos solarity 5.10 generic_118855-33 i86pc i386 i86pc '
    config_args='-des -Dprefix=/export/home/cpan/pit/rel/perl-5.12.0 -Dusethreads -Duse64bitint'
    hint=recommended, useposix=true, d_sigaction=define
    useithreads=define, usemultiplicity=define
    useperlio=define, d_sfio=undef, uselargefiles=define, usesocks=undef
    use64bitint=define, use64bitall=undef, uselongdouble=undef
    usemymalloc=n, bincompat5005=undef
  Compiler:
    cc='/opt/SUNWspro/bin/cc', ccflags ='-D_REENTRANT -DPTR_IS_LONG -I/usr/local/include -D_LARGEFILE_SOURCE -D_FILE_OFFSET_BITS=64 -DPERL_USE_SAFE_PUTENV',
    optimize='-O',
    cppflags='-D_REENTRANT -DPTR_IS_LONG -I/usr/local/include'
    ccversion='Sun C 5.8 2005/10/13', gccversion='', gccosandvers=''
    intsize=4, longsize=4, ptrsize=4, doublesize=8, byteorder=12345678
    d_longlong=define, longlongsize=8, d_longdbl=define, longdblsize=12
    ivtype='long long', ivsize=8, nvtype='double', nvsize=8, Off_t='off_t', lseeksize=8
    alignbytes=4, prototype=define
  Linker and Libraries:
    ld='/opt/SUNWspro/bin/cc', ldflags =' -L/usr/lib -L/usr/ccs/lib -L/opt/SUNWspro/prod/lib -L/lib -L/usr/local/lib '
    libpth=/usr/lib /usr/ccs/lib /opt/SUNWspro/prod/lib /lib /usr/local/lib
    libs=-lsocket -lnsl -ldl -lm -lpthread -lc
    perllibs=-lsocket -lnsl -ldl -lm -lpthread -lc
    libc=/lib/libc.so, so=so, useshrplib=false, libperl=libperl.a
    gnulibc_version=''
  Dynamic Linking:
    dlsrc=dl_dlopen.xs, dlext=so, d_dlsymun=undef, ccdlflags=' '
    cccdlflags='-KPIC', lddlflags='-G -L/usr/lib -L/usr/ccs/lib -L/opt/SUNWspro/prod/lib -L/lib -L/usr/local/lib'


Characteristics of this binary (from libperl): 
  Compile-time options: MULTIPLICITY PERL_DONT_CREATE_GVSV
                        PERL_IMPLICIT_CONTEXT PERL_MALLOC_WRAP
                        PERL_USE_SAFE_PUTENV USE_64_BIT_INT USE_ITHREADS
                        USE_LARGE_FILES USE_PERLIO USE_PERL_ATOF
                        USE_REENTRANT_API
  Built under solaris
  Compiled at Jun  5 2010 15:15:38
  %ENV:
    PERL5LIB=":/export/home/cpan/pit/rel/conf/perl-5.12.0/.cpanplus/5.12.0/build/String-Palindrome-1.01/blib/lib:/export/home/cpan/pit/rel/conf/perl-5.12.0/.cpanplus/5.12.0/build/String-Palindrome-1.01/blib/arch"
    PERL5_CPANPLUS_IS_RUNNING="14443"
    PERL5_CPANPLUS_IS_VERSION="0.9007"
    PERL5_MINISMOKEBOX="0.26"
    PERL5_YACSMOKE_BASE="/export/home/cpan/pit/rel/conf/perl-5.12.0"
    PERL_EXTUTILS_AUTOINSTALL="--defaultdeps"
    PERL_MM_USE_DEFAULT="1"
  @INC:
    /export/home/cpan/pit/rel/conf/perl-5.12.0/.cpanplus/5.12.0/build/String-Palindrome-1.01/blib/lib
    /export/home/cpan/pit/rel/conf/perl-5.12.0/.cpanplus/5.12.0/build/String-Palindrome-1.01/blib/arch
    /export/home/cpan/pit/rel/perl-5.12.0/lib/site_perl/5.12.0/i86pc-solaris-thread-multi-64int
    /export/home/cpan/pit/rel/perl-5.12.0/lib/site_perl/5.12.0
    /export/home/cpan/pit/rel/perl-5.12.0/lib/5.12.0/i86pc-solaris-thread-multi-64int
    /export/home/cpan/pit/rel/perl-5.12.0/lib/5.12.0
    .