Back
From: metabase:user:314402c4-2aae-11df-837a-5e0a49663a4f
Subject: PASS Crypt-SSLeay-0.72 v5.21.7 FreeBSD
Date: 2014-12-21T22:46:53Z
This distribution has been tested as part of the CPAN Testers
project, supporting the Perl programming language. See
http://wiki.cpantesters.org/ for more information or email
questions to cpan-testers-discuss@perl.org
--
Dear A. Sinan Unur,
This is a computer-generated report for Crypt-SSLeay-0.72
on perl 5.21.7, created by CPAN-Reporter-1.2011.
Thank you for uploading your work to CPAN. Congratulations!
All tests were successful.
Sections of this report:
* Tester comments
* Program output
* Prerequisites
* Environment and other context
------------------------------
TESTER COMMENTS
------------------------------
Additional comments from tester:
none provided
------------------------------
PROGRAM OUTPUT
------------------------------
Output from '/usr/bin/make test':
Running Mkbootstrap for Crypt::SSLeay ()
chmod 644 "SSLeay.bs"
PERL_DL_NONLAZY=1 "/usr/perl5.21.7/bin/perl5.21.7" "-MExtUtils::Command::MM" "-MTest::Harness" "-e" "undef *Test::Harness::Switches; test_harness(0, 'blib/lib', 'blib/arch')" t/*.t
t/00-basic.t ..... ok
t/01-connect.t ... ok
# Reading configuration from 'test.config' on freebsd
# network_tests : 0
t/02-live.t ...... skipped: Network tests disabled
t/03-version.t ... ok
t/boilerplate.t .. ok
t/manifest.t ..... skipped: Author tests not required for installation
All tests successful.
Files=6, Tests=43, 3 wallclock secs ( 0.10 usr 0.03 sys + 1.56 cusr 0.38 csys = 2.07 CPU)
Result: PASS
------------------------------
PREREQUISITES
------------------------------
Prerequisite modules loaded:
requires:
Module Need Have
-------------------- -------- ------------
LWP::Protocol::https 6.02 6.06
MIME::Base64 0 3.14
perl 5.006 5.021007
build_requires:
Module Need Have
-------------------- -------- ------------
ExtUtils::MakeMaker 0 7.04
Test::More 0.19 1.301001_090
Try::Tiny 0.19 0.22
configure_requires:
Module Need Have
-------------------- -------- ------------
ExtUtils::CBuilder 0.280205 0.280221
Getopt::Long 0 2.42
Path::Class 0.26 0.35
Try::Tiny 0.19 0.22
------------------------------
ENVIRONMENT AND OTHER CONTEXT
------------------------------
Environment variables:
DBIC_NO_WARN_BAD_PERL = 1
PATH = /usr/local/bin:/usr/bin:/bin:/usr/local/sbin:/usr/sbin:/sbin:/home/e/eserte/bin/freebsd9.1:/home/e/eserte/bin/sh:/home/e/eserte/bin:/usr/games:/home/e/eserte/devel:/home/e/eserte/src/srezic-misc/scripts
PERL5LIB = /usr/local/src/CPAN/build/LWP-Protocol-https-6.06-90md9h/blib/arch:/usr/local/src/CPAN/build/LWP-Protocol-https-6.06-90md9h/blib/lib:/usr/local/src/CPAN/build/Scalar-Readonly-0.03-9nY8J4/blib/arch:/usr/local/src/CPAN/build/Scalar-Readonly-0.03-9nY8J4/blib/lib:/usr/local/src/CPAN/build/JSON-Parse-0.31-qjo3aN/blib/arch:/usr/local/src/CPAN/build/JSON-Parse-0.31-qjo3aN/blib/lib:/usr/local/src/CPAN/build/Moo-Lax-0.15-KtsMxt/blib/arch:/usr/local/src/CPAN/build/Moo-Lax-0.15-KtsMxt/blib/lib
PERL5OPT =
PERL5_CPANPLUS_IS_RUNNING = 35784
PERL5_CPAN_IS_RUNNING = 35784
PERL5_CPAN_IS_RUNNING_IN_RECURSION = 35761,35784
PERLDOC = -MPod::Perldoc::ToTextOverstrike
PERL_BATCH = yes
PERL_CPAN_REPORTER_CONFIG = /var/tmp/cpansmoker-1000/0bJTSwba33_config.ini
PERL_EXTUTILS_AUTOINSTALL = --defaultdeps
PERL_HTML_DISPLAY_CLASS = HTML::Display::Mozilla
SHELL = /usr/local/bin/zsh
TERM = screen
TMPDIR = /var/tmp/cpansmoker-1000
Perl special variables (and OS-specific diagnostics, for MSWin32):
$^X = /usr/perl5.21.7/bin/perl5.21.7
$UID/$EUID = 1000 / 1000
$GID = 1000 1000 0 5 1023 1024
$EGID = 1000 1000 0 5 1023 1024
Perl module toolchain versions installed:
Module Have
------------------- ------------
CPAN 2.05
CPAN::Meta 2.143240
Cwd 3.54
ExtUtils::CBuilder 0.280221
ExtUtils::Command 1.18
ExtUtils::Install 2.04
ExtUtils::MakeMaker 7.04
ExtUtils::Manifest 1.69
ExtUtils::ParseXS 3.27
File::Spec 3.53
JSON 2.90
JSON::PP 2.27300
Module::Build 0.4210
Module::Signature n/a
Parse::CPAN::Meta 1.4414
Test::Harness 3.34
Test::More 1.301001_090
YAML 1.13
YAML::Syck 1.29
version 0.9909
--
Summary of my perl5 (revision 5 version 21 subversion 7) configuration:
Platform:
osname=freebsd, osvers=9.2-release, archname=amd64-freebsd
uname='freebsd cvrsnica.herceg.de 9.2-release freebsd 9.2-release #0 r255898: thu sep 26 22:50:31 utc 2013 root@bake.isc.freebsd.org:usrobjusrsrcsysgeneric amd64 '
config_args='-D useshrplib=true -Dprefix=/usr/perl5.21.7 -Dusemymalloc=n -D cc=ccache cc -D usedevel=define -Dgccansipedantic -Duse64bit -de -D hintfile=myfreebsd'
hint=recommended, useposix=true, d_sigaction=define
useithreads=undef, usemultiplicity=undef
use64bitint=define, use64bitall=define, uselongdouble=undef
usemymalloc=n, bincompat5005=undef
Compiler:
cc='ccache cc', ccflags ='-DHAS_FPSETMASK -DHAS_FLOATINGPOINT_H -fno-strict-aliasing -pipe -fstack-protector -I/usr/local/include -D_FORTIFY_SOURCE=2',
optimize='-O',
cppflags='-DHAS_FPSETMASK -DHAS_FLOATINGPOINT_H -fno-strict-aliasing -pipe -fstack-protector -I/usr/local/include'
ccversion='', gccversion='4.2.1 20070831 patched [FreeBSD]', gccosandvers=''
intsize=4, longsize=8, ptrsize=8, doublesize=8, byteorder=12345678, doublekind=3
d_longlong=define, longlongsize=8, d_longdbl=define, longdblsize=16, longdblkind=3
ivtype='long', ivsize=8, nvtype='double', nvsize=8, Off_t='off_t', lseeksize=8
alignbytes=8, prototype=define
Linker and Libraries:
ld='ccache cc', ldflags ='-Wl,-E -fstack-protector -L/usr/local/lib'
libpth=/usr/lib /usr/local/lib /usr/include/gcc/4.2 /usr/lib
libs=-lgdbm -lm -lcrypt -lutil -lc -lpthread
perllibs=-lm -lcrypt -lutil -lc -lpthread
libc=, so=so, useshrplib=true, libperl=libperl.so
gnulibc_version=''
Dynamic Linking:
dlsrc=dl_dlopen.xs, dlext=so, d_dlsymun=undef, ccdlflags=' -Wl,-R/usr/perl5.21.7/lib/5.21.7/amd64-freebsd/CORE'
cccdlflags='-DPIC -fPIC', lddlflags='-shared -L/usr/local/lib -fstack-protector'
Characteristics of this binary (from libperl):
Compile-time options: HAS_TIMES PERLIO_LAYERS PERL_DONT_CREATE_GVSV
PERL_HASH_FUNC_ONE_AT_A_TIME_HARD PERL_MALLOC_WRAP
PERL_NEW_COPY_ON_WRITE PERL_PRESERVE_IVUV
PERL_USE_DEVEL USE_64_BIT_ALL USE_64_BIT_INT
USE_LARGE_FILES USE_LOCALE USE_LOCALE_COLLATE
USE_LOCALE_CTYPE USE_LOCALE_NUMERIC USE_LOCALE_TIME
USE_PERLIO USE_PERL_ATOF
Built under freebsd
Compiled at Dec 20 2014 20:02:22
%ENV:
PERL5LIB="/usr/local/src/CPAN/build/LWP-Protocol-https-6.06-90md9h/blib/arch:/usr/local/src/CPAN/build/LWP-Protocol-https-6.06-90md9h/blib/lib:/usr/local/src/CPAN/build/Scalar-Readonly-0.03-9nY8J4/blib/arch:/usr/local/src/CPAN/build/Scalar-Readonly-0.03-9nY8J4/blib/lib:/usr/local/src/CPAN/build/JSON-Parse-0.31-qjo3aN/blib/arch:/usr/local/src/CPAN/build/JSON-Parse-0.31-qjo3aN/blib/lib:/usr/local/src/CPAN/build/Moo-Lax-0.15-KtsMxt/blib/arch:/usr/local/src/CPAN/build/Moo-Lax-0.15-KtsMxt/blib/lib"
PERL5OPT=""
PERL5_CPANPLUS_IS_RUNNING="35784"
PERL5_CPAN_IS_RUNNING="35784"
PERL5_CPAN_IS_RUNNING_IN_RECURSION="35761,35784"
PERLDOC="-MPod::Perldoc::ToTextOverstrike"
PERL_BATCH="yes"
PERL_CPAN_REPORTER_CONFIG="/var/tmp/cpansmoker-1000/0bJTSwba33_config.ini"
PERL_EXTUTILS_AUTOINSTALL="--defaultdeps"
PERL_HTML_DISPLAY_CLASS="HTML::Display::Mozilla"
@INC:
/usr/local/src/CPAN/build/LWP-Protocol-https-6.06-90md9h/blib/arch
/usr/local/src/CPAN/build/LWP-Protocol-https-6.06-90md9h/blib/lib
/usr/local/src/CPAN/build/Scalar-Readonly-0.03-9nY8J4/blib/arch
/usr/local/src/CPAN/build/Scalar-Readonly-0.03-9nY8J4/blib/lib
/usr/local/src/CPAN/build/JSON-Parse-0.31-qjo3aN/blib/arch
/usr/local/src/CPAN/build/JSON-Parse-0.31-qjo3aN/blib/lib
/usr/local/src/CPAN/build/Moo-Lax-0.15-KtsMxt/blib/arch
/usr/local/src/CPAN/build/Moo-Lax-0.15-KtsMxt/blib/lib
/usr/perl5.21.7/lib/site_perl/5.21.7/amd64-freebsd
/usr/perl5.21.7/lib/site_perl/5.21.7
/usr/perl5.21.7/lib/5.21.7/amd64-freebsd
/usr/perl5.21.7/lib/5.21.7
.