Module-Install-ReadmeFromPod v0.30 Perl 5 v5.41.10 x86_64-linux

Status
Pass
From
Carlos Guevara
Dist
Module-Install-ReadmeFromPod v0.30
Platform
Perl 5 v5.41.10 x86_64-linux
Date
2025-03-01 21:58:07
ID
42299e5c-f6e8-11ef-8870-c943b292b4be
This distribution has been tested as part of the CPAN Testers
project, supporting the Perl programming language.  See
http://wiki.cpantesters.org/ for more information or email
questions to cpan-testers-discuss@perl.org


--
Dear Chris Williams,

This is a computer-generated report for Module-Install-ReadmeFromPod-0.30
on perl 5.41.10, created by CPAN-Reporter-1.2020.

Thank you for uploading your work to CPAN.  Congratulations!
All tests were successful.

Sections of this report:

    * Tester comments
    * Program output
    * Prerequisites
    * Environment and other context

------------------------------
TESTER COMMENTS
------------------------------

Additional comments from tester:

this report is from an automated smoke testing program
and was not reviewed by a human for accuracy

------------------------------
PROGRAM OUTPUT
------------------------------

Output from '/usr/bin/make test':

PERL_DL_NONLAZY=1 "/home/cpan/bin/perl/bin/perl5.41.10" "-MExtUtils::Command::MM" "-MTest::Harness" "-e" "undef *Test::Harness::Switches; test_harness(0, 'inc', 'blib/lib', 'blib/arch')" t/*.t
# Testing Module::Install::ReadmeFromPod 0.30, Perl 5.041010, /home/cpan/bin/perl/bin/perl5.41.10
t/00_compile.t ....... ok
# Subroutine Module::Install::ReadmeFromPod::io redefined at /home/cpan/bin/perl/lib/site_perl/5.41.10/IO/All/Base.pm line 24.
# include /home/cpan/.cpan/build/Module-Install-ReadmeFromPod-0.30-0/dist/EAau_s0mGW/inc/Module/Install.pm
# include inc/Module/Install/Metadata.pm
# include inc/Module/Install/Base.pm
# include inc/Module/Install/ReadmeFromPod.pm
# readme_from README.pm to txt
# readme_from README.pm to htm
# Subroutine Module::Install::ReadmeFromPod::io redefined at /home/cpan/bin/perl/lib/site_perl/5.41.10/IO/All/Base.pm line 24.
# Subroutine Module::Install::ReadmeFromPod::io redefined at /home/cpan/bin/perl/lib/site_perl/5.41.10/IO/All/Base.pm line 24.
# readme_from README.pm to man
# readme_from README.pm to md
# include inc/Module/Install/WriteAll.pm
# include inc/Module/Install/Makefile.pm
# include inc/Module/Install/Win32.pm
# include inc/Module/Install/Can.pm
# include inc/Module/Install/Fetch.pm
# Generating a Unix-style Makefile
# Writing Makefile for Foo::Bar
# Writing MYMETA.yml and MYMETA.json
# Writing META.yml
# make[1]: Entering directory '/home/cpan/.cpan/build/Module-Install-ReadmeFromPod-0.30-0/dist/EAau_s0mGW'
# rm -f \
#   Bar.bso Bar.def \
#   Bar.exp Bar.x \
#    blib/arch/auto/Foo/Bar/extralibs.all \
#   blib/arch/auto/Foo/Bar/extralibs.ld Makefile.aperl \
#   *.a *.o \
#   *perl.core MYMETA.json \
#   MYMETA.yml blibdirs.ts \
#   core core.*perl.*.? \
#   core.[0-9] core.[0-9][0-9] \
#   core.[0-9][0-9][0-9] core.[0-9][0-9][0-9][0-9] \
#   core.[0-9][0-9][0-9][0-9][0-9] libBar.def \
#   mon.out perl \
#   perl perl.exe \
#   perlmain.c pm_to_blib \
#   pm_to_blib.ts so_locations \
#   tmon.out 
# rm -rf \
#   blib 
# mv Makefile Makefile.old > /dev/null 2>&1
# rm -f \
#   Makefile Makefile.old 
# rm -rf \
#   Foo-Bar-0.01 MYMETA.yml 
# rm -f Foo-Bar-0.01.tar.gz
# rm -f MANIFEST.bak _build
# "/home/cpan/bin/perl/bin/perl5.41.10" "-Iinc" "-Ilib" "-MModule::Install::Admin" -e "remove_meta()"
# rm -rf inc
# "/home/cpan/bin/perl/bin/perl5.41.10" "-Iinc" "-MExtUtils::Manifest=fullcheck" -e fullcheck
# Problem opening MANIFEST: No such file or directory at /home/cpan/bin/perl/lib/5.41.10/ExtUtils/Manifest.pm line 342.
# Problem opening MANIFEST: No such file or directory at /home/cpan/bin/perl/lib/5.41.10/ExtUtils/Manifest.pm line 342.
# Not in MANIFEST: Makefile.PL
# Not in MANIFEST: README
# Not in MANIFEST: README.1
# Not in MANIFEST: README.htm
# Not in MANIFEST: README.md
# Not in MANIFEST: README.pm
# make[1]: Leaving directory '/home/cpan/.cpan/build/Module-Install-ReadmeFromPod-0.30-0/dist/EAau_s0mGW'
t/01_dist.t .......... ok
# Subroutine Module::Install::ReadmeFromPod::io redefined at /home/cpan/bin/perl/lib/site_perl/5.41.10/IO/All/Base.pm line 24.
# include /home/cpan/.cpan/build/Module-Install-ReadmeFromPod-0.30-0/dist/bdrt6_oEJC/inc/Module/Install.pm
# include inc/Module/Install/Metadata.pm
# include inc/Module/Install/Base.pm
# include inc/Module/Install/ReadmeFromPod.pm
# readme_from README.pm to text
# include inc/Module/Install/Makefile.pm
# readme_from README.pm to html
# Subroutine Module::Install::ReadmeFromPod::io redefined at /home/cpan/bin/perl/lib/site_perl/5.41.10/IO/All/Base.pm line 24.
# Subroutine Module::Install::ReadmeFromPod::io redefined at /home/cpan/bin/perl/lib/site_perl/5.41.10/IO/All/Base.pm line 24.
# readme_from README.pm to md
# readme_from README.pm to man
# include inc/Module/Install/WriteAll.pm
# include inc/Module/Install/Win32.pm
# include inc/Module/Install/Can.pm
# include inc/Module/Install/Fetch.pm
# Generating a Unix-style Makefile
# Writing Makefile for Foo::Bar
# Writing MYMETA.yml and MYMETA.json
# Writing META.yml
# make[1]: Entering directory '/home/cpan/.cpan/build/Module-Install-ReadmeFromPod-0.30-0/dist/bdrt6_oEJC'
# rm -f \
#   Bar.bso Bar.def \
#   Bar.exp Bar.x \
#    blib/arch/auto/Foo/Bar/extralibs.all \
#   blib/arch/auto/Foo/Bar/extralibs.ld Makefile.aperl \
#   *.a *.o \
#   *perl.core MYMETA.json \
#   MYMETA.yml blibdirs.ts \
#   core core.*perl.*.? \
#   core.[0-9] core.[0-9][0-9] \
#   core.[0-9][0-9][0-9] core.[0-9][0-9][0-9][0-9] \
#   core.[0-9][0-9][0-9][0-9][0-9] libBar.def \
#   mon.out perl \
#   perl perl.exe \
#   perlmain.c pm_to_blib \
#   pm_to_blib.ts so_locations \
#   tmon.out 
# rm -rf \
#   Foobar.htm Foobar.man \
#   Foobar.md Foobar.txt \
#   blib 
# mv Makefile Makefile.old > /dev/null 2>&1
# rm -f \
#   Makefile Makefile.old 
# rm -rf \
#   Foo-Bar-0.01 MYMETA.yml 
# rm -f Foo-Bar-0.01.tar.gz
# rm -f MANIFEST.bak _build
# "/home/cpan/bin/perl/bin/perl5.41.10" "-Iinc" "-Ilib" "-MModule::Install::Admin" -e "remove_meta()"
# rm -rf inc
# "/home/cpan/bin/perl/bin/perl5.41.10" "-Iinc" "-MExtUtils::Manifest=fullcheck" -e fullcheck
# Problem opening MANIFEST: No such file or directory at /home/cpan/bin/perl/lib/5.41.10/ExtUtils/Manifest.pm line 342.
# Problem opening MANIFEST: No such file or directory at /home/cpan/bin/perl/lib/5.41.10/ExtUtils/Manifest.pm line 342.
# Not in MANIFEST: Makefile.PL
# Not in MANIFEST: README.pm
# make[1]: Leaving directory '/home/cpan/.cpan/build/Module-Install-ReadmeFromPod-0.30-0/dist/bdrt6_oEJC'
t/02_clean.t ......... ok
# include /home/cpan/.cpan/build/Module-Install-ReadmeFromPod-0.30-0/dist/GBMe5C9Y6F/inc/Module/Install.pm
# include inc/Module/Install/Metadata.pm
# include inc/Module/Install/Base.pm
# include inc/Module/Install/Makefile.pm
# include inc/Module/Install/ReadmeFromPod.pm
# readme_from README.pm to txt
# include inc/Module/Install/WriteAll.pm
# include inc/Module/Install/Win32.pm
# include inc/Module/Install/Can.pm
# include inc/Module/Install/Fetch.pm
# Generating a Unix-style Makefile
# Writing Makefile for Foo::Bar
# Writing MYMETA.yml and MYMETA.json
# Writing META.yml
# make[1]: Entering directory '/home/cpan/.cpan/build/Module-Install-ReadmeFromPod-0.30-0/dist/GBMe5C9Y6F'
# rm -f \
#   Bar.bso Bar.def \
#   Bar.exp Bar.x \
#    blib/arch/auto/Foo/Bar/extralibs.all \
#   blib/arch/auto/Foo/Bar/extralibs.ld Makefile.aperl \
#   *.a *.o \
#   *perl.core MYMETA.json \
#   MYMETA.yml blibdirs.ts \
#   core core.*perl.*.? \
#   core.[0-9] core.[0-9][0-9] \
#   core.[0-9][0-9][0-9] core.[0-9][0-9][0-9][0-9] \
#   core.[0-9][0-9][0-9][0-9][0-9] libBar.def \
#   mon.out perl \
#   perl perl.exe \
#   perlmain.c pm_to_blib \
#   pm_to_blib.ts so_locations \
#   tmon.out 
# rm -rf \
#   blib 
# mv Makefile Makefile.old > /dev/null 2>&1
# rm -f \
#   Makefile Makefile.old 
# rm -rf \
#   Foo-Bar-0.01 MYMETA.yml 
# rm -f Foo-Bar-0.01.tar.gz
# rm -f MANIFEST.bak _build
# "/home/cpan/bin/perl/bin/perl5.41.10" "-Iinc" "-Ilib" "-MModule::Install::Admin" -e "remove_meta()"
# rm -rf inc
# "/home/cpan/bin/perl/bin/perl5.41.10" "-Iinc" "-MExtUtils::Manifest=fullcheck" -e fullcheck
# Problem opening MANIFEST: No such file or directory at /home/cpan/bin/perl/lib/5.41.10/ExtUtils/Manifest.pm line 342.
# Problem opening MANIFEST: No such file or directory at /home/cpan/bin/perl/lib/5.41.10/ExtUtils/Manifest.pm line 342.
# Not in MANIFEST: Makefile.PL
# Not in MANIFEST: README
# Not in MANIFEST: README.pm
# make[1]: Leaving directory '/home/cpan/.cpan/build/Module-Install-ReadmeFromPod-0.30-0/dist/GBMe5C9Y6F'
t/03_all_from.t ...... ok
t/04_distpdf.t ....... skipped: App::pod2pdf not installed
t/05_cleanpdf.t ...... skipped: App::pod2pdf not installed
t/99_pod.t ........... ok
t/99_pod_coverage.t .. ok
All tests successful.
Files=8, Tests=33,  4 wallclock secs ( 0.03 usr  0.01 sys +  3.42 cusr  0.52 csys =  3.98 CPU)
Result: PASS

------------------------------
PREREQUISITES
------------------------------

Prerequisite modules loaded:

requires:

    Module              Need  Have    
    ------------------- ----- --------
    IO::All             0     0.87    
    Module::Install     1     1.21    
    perl                5.006 5.041010
    Pod::Html           0     1.35    
    Pod::Man            0     v6.0.2  
    Pod::Markdown       2     3.400   
    Pod::Text           3.13  v6.0.2  

build_requires:

    Module              Need  Have    
    ------------------- ----- --------
    Capture::Tiny       0.05  0.50    
    ExtUtils::MakeMaker 6.59  7.70    
    File::Temp          0     0.2311  
    Test::InDistDir     0     1.112071
    Test::More          0.47  1.302209

configure_requires:

    Module              Need  Have    
    ------------------- ----- --------
    ExtUtils::MakeMaker 6.59  7.70    


------------------------------
ENVIRONMENT AND OTHER CONTEXT
------------------------------

Environment variables:

    AUTOMATED_TESTING = 1
    DATE_MANIP_TEST_DM5 = 1
    LANG = en_US.UTF-8
    LC_ALL = C
    NONINTERACTIVE_TESTING = 1
    NO_NETWORK_TESTING = 1
    PATH = /home/cpan/bin/perl/bin:/home/cpan/bin:/usr/share/Modules/bin:/home/cpan/bin:/usr/local/bin:/usr/bin:/usr/local/sbin:/usr/sbin
    PERL5LIB = 
    PERL5OPT = 
    PERL5_CPANPLUS_IS_RUNNING = 682972
    PERL5_CPAN_IS_RUNNING = 682972
    PERL_MM_USE_DEFAULT = 1
    PERL_USE_UNSAFE_INC = 1
    SHELL = /bin/bash
    TERM = screen
    TMPDIR = /home/cpan/tmp

Perl special variables (and OS-specific diagnostics, for MSWin32):

    $^X = /home/cpan/bin/perl/bin/perl5.41.10
    $UID/$EUID = 1001 / 1001
    $GID = 1001 1001
    $EGID = 1001 1001

Perl module toolchain versions installed:

    Module              Have    
    ------------------- --------
    CPAN                2.38    
    CPAN::Meta          2.150010
    Cwd                 3.92    
    ExtUtils::CBuilder  0.280240
    ExtUtils::Command   7.70    
    ExtUtils::Install   2.22    
    ExtUtils::MakeMaker 7.70    
    ExtUtils::Manifest  1.75    
    ExtUtils::ParseXS   3.57    
    File::Spec          3.93    
    JSON                4.10    
    JSON::PP            4.16    
    Module::Build       0.4234  
    Module::Signature   n/a     
    Parse::CPAN::Meta   2.150010
    Test2               1.302209
    Test::Harness       3.50    
    Test::More          1.302209
    YAML                1.31    
    YAML::Syck          1.34    
    version             0.9933  


--

Summary of my perl5 (revision 5 version 41 subversion 10) configuration:
  Commit id: fc2306f7ec777b6d429f95bb976fac841c063a35
  Platform:
    osname=linux
    osvers=5.14.0-503.26.1.el9_5.x86_64
    archname=x86_64-linux
    uname='linux cjg-rhel9 5.14.0-503.26.1.el9_5.x86_64 #1 smp preempt_dynamic mon feb 10 05:23:56 est 2025 x86_64 x86_64 x86_64 gnulinux '
    config_args='-des -Dprefix=/home/cpan/bin/perl -Dscriptdir=/home/cpan/bin/perl/bin -Dusedevel -Duse64bitall'
    hint=recommended
    useposix=true
    d_sigaction=define
    useithreads=undef
    usemultiplicity=undef
    use64bitint=define
    use64bitall=define
    uselongdouble=undef
    usemymalloc=n
    default_inc_excludes_dot=define
  Compiler:
    cc='cc'
    ccflags ='-fwrapv -fno-strict-aliasing -pipe -fstack-protector-strong -I/usr/local/include -D_LARGEFILE_SOURCE -D_FILE_OFFSET_BITS=64 -D_FORTIFY_SOURCE=2'
    optimize='-O2'
    cppflags='-fwrapv -fno-strict-aliasing -pipe -fstack-protector-strong -I/usr/local/include'
    ccversion=''
    gccversion='11.5.0 20240719 (Red Hat 11.5.0-5)'
    gccosandvers=''
    intsize=4
    longsize=8
    ptrsize=8
    doublesize=8
    byteorder=12345678
    doublekind=3
    d_longlong=define
    longlongsize=8
    d_longdbl=define
    longdblsize=16
    longdblkind=3
    ivtype='long'
    ivsize=8
    nvtype='double'
    nvsize=8
    Off_t='off_t'
    lseeksize=8
    alignbytes=8
    prototype=define
  Linker and Libraries:
    ld='cc'
    ldflags =' -fstack-protector-strong -L/usr/local/lib'
    libpth=/usr/local/lib /usr/lib /usr/lib64 /usr/local/lib64
    libs=-lpthread -ldb -ldl -lm -lcrypt -lutil -lc
    perllibs=-lpthread -ldl -lm -lcrypt -lutil -lc
    libc=/lib/../lib64/libc.so.6
    so=so
    useshrplib=false
    libperl=libperl.a
    gnulibc_version='2.34'
  Dynamic Linking:
    dlsrc=dl_dlopen.xs
    dlext=so
    d_dlsymun=undef
    ccdlflags='-Wl,-E'
    cccdlflags='-fPIC'
    lddlflags='-shared -O2 -L/usr/local/lib -fstack-protector-strong'


Characteristics of this binary (from libperl): 
  Compile-time options:
    HAS_LONG_DOUBLE
    HAS_STRTOLD
    HAS_TIMES
    PERLIO_LAYERS
    PERL_COPY_ON_WRITE
    PERL_DONT_CREATE_GVSV
    PERL_HASH_FUNC_SIPHASH13
    PERL_HASH_USE_SBOX32
    PERL_MALLOC_WRAP
    PERL_OP_PARENT
    PERL_PRESERVE_IVUV
    PERL_USE_DEVEL
    PERL_USE_SAFE_PUTENV
    USE_64_BIT_ALL
    USE_64_BIT_INT
    USE_LARGE_FILES
    USE_LOCALE
    USE_LOCALE_COLLATE
    USE_LOCALE_CTYPE
    USE_LOCALE_NUMERIC
    USE_LOCALE_TIME
    USE_PERLIO
    USE_PERL_ATOF
  Built under linux
  Compiled at Mar  1 2025 09:49:25
  %ENV:
    PERL5LIB=""
    PERL5OPT=""
    PERL5_CPANPLUS_IS_RUNNING="682972"
    PERL5_CPAN_IS_RUNNING="682972"
    PERL_MM_USE_DEFAULT="1"
    PERL_USE_UNSAFE_INC="1"
  @INC:
    /home/cpan/bin/perl/lib/site_perl/5.41.10/x86_64-linux
    /home/cpan/bin/perl/lib/site_perl/5.41.10
    /home/cpan/bin/perl/lib/5.41.10/x86_64-linux
    /home/cpan/bin/perl/lib/5.41.10
    .