Test-CleanNamespaces v0.24 Perl 5 v5.38.0 x86_64-linux
- Status
- Pass
- From
- Dist
-
Test-CleanNamespaces v0.24
- Platform
- Perl 5 v5.38.0 x86_64-linux
- Date
- 2023-07-03 21:47:51
- ID
- 421444b6-19eb-11ee-ae8c-549ebdf7aefe
This distribution has been tested as part of the CPAN Testers
project, supporting the Perl programming language. See
http://wiki.cpantesters.org/ for more information or email
questions to cpan-testers-discuss@perl.org
--
Dear ETHER,
This is a computer-generated report for Test-CleanNamespaces-0.24
on perl 5.38.0, created by App::cpanminus::reporter 0.20 (1.7045).
Thank you for uploading your work to CPAN. Congratulations!
All tests were successful.
Sections of this report:
* Tester comments
* Program output
* Prerequisites
* Environment and other context
------------------------------
TESTER COMMENTS
------------------------------
Additional comments from tester:
none provided
------------------------------
PROGRAM OUTPUT
------------------------------
Output from '':
Building and testing Test-CleanNamespaces-0.24
cp lib/Test/CleanNamespaces.pm blib/lib/Test/CleanNamespaces.pm
Manifying 1 pod document
PERL_DL_NONLAZY=1 "/home/rr/perl5/perlbrew/perls/perl-5.38.0/bin/perl" "-MExtUtils::Command::MM" "-MTest::Harness" "-e" "undef *Test::Harness::Switches; test_harness(0, 'blib/lib', 'blib/arch')" t/*.t
#
# Versions for all modules listed in MYMETA.json (including optional ones):
#
# === Configure Requires ===
#
# Module Want Have
# ------------------------ -------- --------
# CPAN::Meta::Requirements 2.120620 2.140
# ExtUtils::MakeMaker any 7.70
# Module::Metadata any 1.000037
#
# === Build Requires ===
#
# Module Want Have
# ------------------- ---- ----
# ExtUtils::MakeMaker any 7.70
#
# === Test Requires ===
#
# Module Want Have
# --------------------- ----- --------
# ExtUtils::MakeMaker any 7.70
# File::Spec any 3.88
# File::Spec::Functions any 3.88
# File::pushd any 1.016
# Scalar::Util any 1.63
# Sub::Exporter any 0.989
# Test::Deep any 1.204
# Test::More 0.96 1.302194
# Test::Needs any 0.002010
# Test::Tester any 1.302194
# Test::Warnings 0.009 0.031
# constant any 1.33
# if any 0.0610
# lib any 0.65
# namespace::clean any 0.27
# overload any 1.37
# parent any 0.241
#
# === Test Recommends ===
#
# Module Want Have
# ---------- -------- --------
# CPAN::Meta 2.120900 2.150010
#
# === Test Suggests ===
#
# Module Want Have
# --------------------------- -------- -------
# Class::MOP::Class any missing
# Moo any missing
# Moo::Role any missing
# Moose any missing
# Moose::Exporter any missing
# Moose::Role any missing
# MooseX::Role::Parameterized any missing
# Mouse any missing
# Mouse::Role any missing
# Role::Tiny 1.003000 missing
# metaclass any missing
#
# === Runtime Requires ===
#
# Module Want Have
# --------------- ---- --------
# Exporter 5.57 5.77
# File::Find any 1.43
# File::Spec any 3.88
# Module::Runtime any 0.016
# Package::Stash 0.14 0.40
# Sub::Identify any 0.14
# Test::Builder any 1.302194
# strict any 1.12
# warnings any 1.65
#
# === Runtime Recommends ===
#
# Module Want Have
# ------------------ ---- ----
# Package::Stash::XS any 0.30
#
# === Runtime Suggests ===
#
# Module Want Have
# ---------- ---- -------
# Role::Tiny any missing
#
# === Other Modules ===
#
# Module Have
# --------------- -------
# Encode 3.19
# File::Temp 0.2311
# JSON::PP 4.16
# Module::Runtime 0.016
# Pod::Coverage missing
# Sub::Name missing
# YAML missing
# autodie 2.36
#
t/00-report-prereqs.t ......... ok
t/basic.t ..................... ok
t/class_mop.t ................. skipped: skipping for regular installs, due to possible circular dependency issues
t/clean-namespaces.t .......... ok
t/find_modules.t .............. ok
t/moo.t ....................... skipped: Need Moo 1.000007
t/moose-parameterized-role.t .. skipped: skipping for regular installs, due to possible circular dependency issues
t/moose.t ..................... skipped: skipping for regular installs, due to possible circular dependency issues
t/mouse.t ..................... skipped: Need Mouse
t/overload.t .................. ok
t/role_tiny.t ................. skipped: Need Role::Tiny 1.003000
t/self.t ...................... ok
t/zzz-check-breaks.t .......... ok
All tests successful.
Files=13, Tests=86, 1 wallclock secs ( 0.05 usr 0.00 sys + 0.82 cusr 0.10 csys = 0.97 CPU)
Result: PASS
------------------------------
PREREQUISITES
------------------------------
Prerequisite modules loaded:
runtime:
Module Need Have
------------------------ -------- --------
Exporter 5.57 5.77
File::Find 0 1.43
File::Spec 0 3.88
Module::Runtime 0 0.016
Package::Stash 0.14 0.40
perl 5.006 5.038000
strict 0 1.12
Sub::Identify 0 0.14
Test::Builder 0 1.302194
warnings 0 1.65
build:
Module Need Have
------------------------ -------- --------
ExtUtils::MakeMaker 0 7.70
configure:
Module Need Have
------------------------ -------- --------
CPAN::Meta::Requirements 2.120620 2.140
ExtUtils::MakeMaker 0 7.70
Module::Metadata 0 1.000037
------------------------------
ENVIRONMENT AND OTHER CONTEXT
------------------------------
Environment variables:
LANG = en_GB.UTF-8
LANGUAGE = en_GB:en
PATH = /home/rr/perl5/perlbrew/bin:/home/rr/perl5/perlbrew/perls/perl-5.38.0/bin:/home/rr/bin:/usr/local/sbin:/usr/local/bin:/usr/sbin:/usr/bin:/sbin:/bin:/usr/games:/usr/local/games:/snap/bin
PERLBREW_HOME = /home/rr/.perlbrew
PERLBREW_MANPATH = /home/rr/perl5/perlbrew/perls/perl-5.38.0/man
PERLBREW_PATH = /home/rr/perl5/perlbrew/bin:/home/rr/perl5/perlbrew/perls/perl-5.38.0/bin
PERLBREW_PERL = perl-5.38.0
PERLBREW_ROOT = /home/rr/perl5/perlbrew
PERLBREW_SHELLRC_VERSION = 0.82
PERLBREW_VERSION = 0.94
PERL_CPANM_OPT = --from https://www.cpan.org --verify
PERL_CPAN_MIRROR_TINY_BASE = /home/rr/perl5/perlbrew
SHELL = /bin/bash
TERM = xterm-256color
Perl special variables (and OS-specific diagnostics, for MSWin32):
EGID = 1000 4 7 24 27 30 46 118 126 131 1000
EUID = 1000
EXECUTABLE_NAME = /home/rr/perl5/perlbrew/perls/perl-5.38.0/bin/perl
GID = 1000 4 7 24 27 30 46 118 126 131 1000
UID = 1000
Perl module toolchain versions installed:
Module Have
------------------- --------
CPAN 2.36
CPAN::Meta 2.150010
Cwd 3.89
ExtUtils::CBuilder 0.280238
ExtUtils::Command 7.70
ExtUtils::Install 2.22
ExtUtils::MakeMaker 7.70
ExtUtils::Manifest 1.73
ExtUtils::ParseXS 3.51
File::Spec 3.88
JSON n/a
JSON::PP 4.16
Module::Build 0.4234
Module::Signature 0.88
Parse::CPAN::Meta 2.150010
Test::Harness 3.44
Test::More 1.302194
YAML n/a
YAML::Syck n/a
version 0.9929
--
Summary of my perl5 (revision 5 version 38 subversion 0) configuration:
Platform:
osname=linux
osvers=5.15.0-76-generic
archname=x86_64-linux
uname='linux plasmo 5.15.0-76-generic #83-ubuntu smp thu jun 15 19:16:32 utc 2023 x86_64 x86_64 x86_64 gnulinux '
config_args='-de -Dprefix=/home/rr/perl5/perlbrew/perls/perl-5.38.0 -Aeval:scriptdir=/home/rr/perl5/perlbrew/perls/perl-5.38.0/bin'
hint=recommended
useposix=true
d_sigaction=define
useithreads=undef
usemultiplicity=undef
use64bitint=define
use64bitall=define
uselongdouble=undef
usemymalloc=n
default_inc_excludes_dot=define
Compiler:
cc='cc'
ccflags ='-fwrapv -fno-strict-aliasing -pipe -fstack-protector-strong -I/usr/local/include -D_LARGEFILE_SOURCE -D_FILE_OFFSET_BITS=64'
optimize='-O2'
cppflags='-fwrapv -fno-strict-aliasing -pipe -fstack-protector-strong -I/usr/local/include'
ccversion=''
gccversion='11.3.0'
gccosandvers=''
intsize=4
longsize=8
ptrsize=8
doublesize=8
byteorder=12345678
doublekind=3
d_longlong=define
longlongsize=8
d_longdbl=define
longdblsize=16
longdblkind=3
ivtype='long'
ivsize=8
nvtype='double'
nvsize=8
Off_t='off_t'
lseeksize=8
alignbytes=8
prototype=define
Linker and Libraries:
ld='cc'
ldflags =' -fstack-protector-strong -L/usr/local/lib'
libpth=/usr/local/lib /usr/lib/x86_64-linux-gnu /usr/lib /usr/lib64
libs=-lpthread -ldl -lm -lcrypt -lutil -lc
perllibs=-lpthread -ldl -lm -lcrypt -lutil -lc
libc=/lib/x86_64-linux-gnu/libc.so.6
so=so
useshrplib=false
libperl=libperl.a
gnulibc_version='2.35'
Dynamic Linking:
dlsrc=dl_dlopen.xs
dlext=so
d_dlsymun=undef
ccdlflags='-Wl,-E'
cccdlflags='-fPIC'
lddlflags='-shared -O2 -L/usr/local/lib -fstack-protector-strong'
Characteristics of this binary (from libperl):
Compile-time options:
HAS_LONG_DOUBLE
HAS_STRTOLD
HAS_TIMES
PERLIO_LAYERS
PERL_COPY_ON_WRITE
PERL_DONT_CREATE_GVSV
PERL_HASH_FUNC_SIPHASH13
PERL_HASH_USE_SBOX32
PERL_MALLOC_WRAP
PERL_OP_PARENT
PERL_PRESERVE_IVUV
PERL_USE_SAFE_PUTENV
USE_64_BIT_ALL
USE_64_BIT_INT
USE_LARGE_FILES
USE_LOCALE
USE_LOCALE_COLLATE
USE_LOCALE_CTYPE
USE_LOCALE_NUMERIC
USE_LOCALE_TIME
USE_PERLIO
USE_PERL_ATOF
Built under linux
Compiled at Jul 3 2023 16:38:04
%ENV:
PERLBREW_HOME="/home/rr/.perlbrew"
PERLBREW_MANPATH="/home/rr/perl5/perlbrew/perls/perl-5.38.0/man"
PERLBREW_PATH="/home/rr/perl5/perlbrew/bin:/home/rr/perl5/perlbrew/perls/perl-5.38.0/bin"
PERLBREW_PERL="perl-5.38.0"
PERLBREW_ROOT="/home/rr/perl5/perlbrew"
PERLBREW_SHELLRC_VERSION="0.82"
PERLBREW_VERSION="0.94"
PERL_CPANM_OPT="--from https://www.cpan.org --verify"
PERL_CPAN_MIRROR_TINY_BASE="/home/rr/perl5/perlbrew"
@INC:
/home/rr/perl5/perlbrew/perls/perl-5.38.0/lib/site_perl/5.38.0/x86_64-linux
/home/rr/perl5/perlbrew/perls/perl-5.38.0/lib/site_perl/5.38.0
/home/rr/perl5/perlbrew/perls/perl-5.38.0/lib/5.38.0/x86_64-linux
/home/rr/perl5/perlbrew/perls/perl-5.38.0/lib/5.38.0