CXC-DB-DDL v0.19 Perl 5 v5.40.0 aarch64-freebsd

Status
Pass
From
Slaven Rezić
Dist
CXC-DB-DDL v0.19
Platform
Perl 5 v5.40.0 aarch64-freebsd
Date
2025-03-20 10:44:11
ID
4213d7a4-0578-11f0-9edb-abff6d8775ea
This distribution has been tested as part of the CPAN Testers
project, supporting the Perl programming language.  See
http://wiki.cpantesters.org/ for more information or email
questions to cpan-testers-discuss@perl.org


--
Dear Diab Jerius,

This is a computer-generated report for CXC-DB-DDL-0.19
on perl 5.40.0, created by CPAN-Reporter-1.2019.

Thank you for uploading your work to CPAN.  Congratulations!
All tests were successful.

Sections of this report:

    * Tester comments
    * Program output
    * Prerequisites
    * Environment and other context

------------------------------
TESTER COMMENTS
------------------------------

Additional comments from tester:

none provided

------------------------------
PROGRAM OUTPUT
------------------------------

Output from './Build test':

t/00-compile.t .......... ok
# 
# Versions for all modules listed in MYMETA.json (including optional ones):
# 
# === Configure Requires ===
# 
#     Module               Want  Have
#     ------------------- ----- -----
#     Module::Build::Tiny 0.034 0.050
# 
# === Test Requires ===
# 
#     Module                 Want     Have
#     ---------------------- ---- --------
#     Data::Dump              any     1.25
#     Data::Dumper            any    2.189
#     Exporter::Shiny         any 1.006002
#     ExtUtils::MakeMaker     any     7.70
#     File::Spec              any     3.90
#     File::Spec::Functions   any     3.91
#     File::Temp              any   0.2311
#     IO::Handle              any     1.55
#     IPC::Open3              any     1.22
#     Syntax::Keyword::Defer  any     0.11
#     Test2::V0               any 1.302209
#     Test::Lib               any    0.003
#     Test::More              any 1.302209
# 
# === Test Recommends ===
# 
#     Module         Want     Have
#     ---------- -------- --------
#     CPAN::Meta 2.120900 2.150010
# 
# === Runtime Requires ===
# 
#     Module                                  Want     Have
#     ----------------------------------- -------- --------
#     CXC::Exporter::Util                      any     0.08
#     Carp                                     any     1.54
#     Clone                                    any     0.46
#     DBI                                      any    1.647
#     DBI::Const::GetInfoType                  any 2.008697
#     Digest::MD5                              any  2.58_01
#     Exporter::Tiny                           any 1.006002
#     Feature::Compat::Try                    0.05     0.05
#     Hash::Ordered                            any    0.014
#     Hash::Util                               any     0.32
#     Import::Into                             any 1.002005
#     List::Util                              1.33     1.68
#     Module::Runtime                          any    0.016
#     Moo                                      any 2.005005
#     Moo::Role                                any 2.005005
#     MooX::StrictConstructor                  any    0.011
#     MooX::TaggedAttributes                  0.18     0.18
#     Package::Stash                           any     0.40
#     Ref::Util                                any    0.204
#     SQL::Translator                         1.61     1.65
#     SQL::Translator::Schema                  any     1.65
#     SQL::Translator::Schema::Constants       any     1.65
#     SQL::Translator::Schema::Constraint      any     1.65
#     SQL::Translator::Schema::Field           any     1.65
#     SQL::Translator::Schema::Table           any     1.65
#     Scalar::Util                             any     1.68
#     Sub::Override                           0.12     0.12
#     Sub::Util                               1.40     1.68
#     Type::Library                            any 2.006000
#     Type::Params                             any 2.006000
#     Type::Utils                              any 2.006000
#     Types::Common::String                    any 2.006000
#     Types::Standard                     1.016010 2.006000
#     base                                     any     2.27
#     constant                                 any     1.33
#     custom::failures                         any    0.004
#     experimental                           0.028    0.033
#     failures                                 any    0.004
#     namespace::clean                         any     0.27
#     perl                                   5.026 5.040000
#     strict                                   any     1.13
#     warnings                                 any     1.70
# 
t/00-report-prereqs.t ... ok
t/DDL/Table.t ........... ok
t/DDL/Util.t ............ ok
t/DDL/Util/dbd_types.t .. ok
t/DDL/create.t .......... ok
All tests successful.
Files=6, Tests=78,  3 wallclock secs ( 0.05 usr  0.03 sys +  2.21 cusr  0.38 csys =  2.67 CPU)
Result: PASS

------------------------------
PREREQUISITES
------------------------------

Prerequisite modules loaded:

requires:

    Module                              Need     Have    
    ----------------------------------- -------- --------
    base                                0        2.27    
    Carp                                0        1.54    
    Clone                               0        0.46    
    constant                            0        1.33    
    custom::failures                    0        0.004   
    CXC::Exporter::Util                 0        0.08    
    DBI                                 0        1.647   
    DBI::Const::GetInfoType             0        2.008697
    Digest::MD5                         0        2.58_01 
    experimental                        0.028    0.033   
    Exporter::Tiny                      0        1.006002
    failures                            0        0.004   
    Feature::Compat::Try                0.05     0.05    
    Hash::Ordered                       0        0.014   
    Hash::Util                          0        0.32    
    Import::Into                        0        1.002005
    List::Util                          1.33     1.68    
    Module::Runtime                     0        0.016   
    Moo                                 0        2.005005
    Moo::Role                           0        2.005005
    MooX::StrictConstructor             0        0.011   
    MooX::TaggedAttributes              0.18     0.18    
    namespace::clean                    0        0.27    
    Package::Stash                      0        0.40    
    perl                                5.026    5.040000
    Ref::Util                           0        0.204   
    Scalar::Util                        0        1.68    
    SQL::Translator                     1.61     1.65    
    SQL::Translator::Schema             0        1.65    
    SQL::Translator::Schema::Constants  0        1.65    
    SQL::Translator::Schema::Constraint 0        1.65    
    SQL::Translator::Schema::Field      0        1.65    
    SQL::Translator::Schema::Table      0        1.65    
    strict                              0        1.13    
    Sub::Override                       0.12     0.12    
    Sub::Util                           1.40     1.68    
    Type::Library                       0        2.006000
    Type::Params                        0        2.006000
    Type::Utils                         0        2.006000
    Types::Common::String               0        2.006000
    Types::Standard                     1.016010 2.006000
    warnings                            0        1.70    

build_requires:

    Module                              Need     Have    
    ----------------------------------- -------- --------
    Data::Dump                          0        1.25    
    Data::Dumper                        0        2.189   
    Exporter::Shiny                     0        1.006002
    ExtUtils::MakeMaker                 0        7.70    
    File::Spec                          0        3.90    
    File::Spec::Functions               0        3.91    
    File::Temp                          0        0.2311  
    IO::Handle                          0        1.55    
    IPC::Open3                          0        1.22    
    Syntax::Keyword::Defer              0        0.11    
    Test2::V0                           0        1.302209
    Test::Lib                           0        0.003   
    Test::More                          0        1.302209

configure_requires:

    Module                              Need     Have    
    ----------------------------------- -------- --------
    Module::Build::Tiny                 0.034    0.050   


------------------------------
ENVIRONMENT AND OTHER CONTEXT
------------------------------

Environment variables:

    LANG = C.UTF-8
    PATH = /usr/local/bin:/usr/bin:/bin:/usr/local/sbin:/usr/sbin:/sbin:/home/cpansand/bin/sh:/home/cpansand/bin:/usr/games:/home/cpansand/devel:/home/eserte/src/srezic-misc/scripts
    PERL5LIB = 
    PERL5OPT = 
    PERL5_CPANPLUS_IS_RUNNING = 76673
    PERL5_CPAN_IS_RUNNING = 76673
    PERL5_CPAN_IS_RUNNING_IN_RECURSION = 75728,76673
    PERL_BATCH = yes
    PERL_CANARY_STABILITY_NOPROMPT = 1
    PERL_CPAN_REPORTER_CONFIG = /var/tmp/cpansmoker-1023/2025031922/cpanreporter_000_config.ini
    PERL_EXTUTILS_AUTOINSTALL = --defaultdeps
    PERL_USE_UNSAFE_INC = 1
    SHELL = /bin/sh
    TMPDIR = /var/tmp/cpansmoker-1023/2025031922

Perl special variables (and OS-specific diagnostics, for MSWin32):

    $^X = /usr/perl5.40.0/bin/perl
    $UID/$EUID = 1023 / 1023
    $GID = 1023 1023
    $EGID = 1023 1023

Perl module toolchain versions installed:

    Module              Have    
    ------------------- --------
    CPAN                2.36    
    CPAN::Meta          2.150010
    Cwd                 3.90    
    ExtUtils::CBuilder  0.280240
    ExtUtils::Command   7.70    
    ExtUtils::Install   2.22    
    ExtUtils::MakeMaker 7.70    
    ExtUtils::Manifest  1.75    
    ExtUtils::ParseXS   3.51    
    File::Spec          3.90    
    JSON                4.10    
    JSON::PP            4.16    
    Module::Build       0.4234  
    Module::Signature   n/a     
    Parse::CPAN::Meta   2.150010
    Test2               1.302209
    Test::Harness       3.50    
    Test::More          1.302209
    YAML                1.31    
    YAML::Syck          1.34    
    version             0.9930  


--

Summary of my perl5 (revision 5 version 40 subversion 0) configuration:
   
  Platform:
    osname=freebsd
    osvers=14.1-stable
    archname=aarch64-freebsd
    uname='freebsd cloud9.bbbike.org 14.1-stable freebsd 14.1-stable stable14-n267861-7dceb87a371e generic arm64 '
    config_args='-ds -e -Dprefix=/usr/perl5.40.0 -Dcf_email=srezic@cpan.org -Doptimize=-O2 -pipe'
    hint=recommended
    useposix=true
    d_sigaction=define
    useithreads=undef
    usemultiplicity=undef
    use64bitint=define
    use64bitall=define
    uselongdouble=undef
    usemymalloc=n
    default_inc_excludes_dot=define
  Compiler:
    cc='cc'
    ccflags ='-DHAS_FPSETMASK -DHAS_FLOATINGPOINT_H -DNO_POSIX_2008_LOCALE -fno-strict-aliasing -pipe -fstack-protector-strong -I/usr/local/include'
    optimize='-O2 -pipe'
    cppflags='-DHAS_FPSETMASK -DHAS_FLOATINGPOINT_H -DNO_POSIX_2008_LOCALE -fno-strict-aliasing -pipe -fstack-protector-strong -I/usr/local/include'
    ccversion=''
    gccversion='FreeBSD Clang 18.1.6 (https://github.com/llvm/llvm-project.git llvmorg-18.1.6-0-g1118c2e05e67)'
    gccosandvers=''
    intsize=4
    longsize=8
    ptrsize=8
    doublesize=8
    byteorder=12345678
    doublekind=3
    d_longlong=define
    longlongsize=8
    d_longdbl=define
    longdblsize=16
    longdblkind=1
    ivtype='long'
    ivsize=8
    nvtype='double'
    nvsize=8
    Off_t='off_t'
    lseeksize=8
    alignbytes=8
    prototype=define
  Linker and Libraries:
    ld='cc'
    ldflags ='-Wl,-E  -fstack-protector-strong -L/usr/local/lib'
    libpth=/usr/lib /usr/local/lib /usr/lib/clang/18/lib
    libs=-lpthread -lgdbm -ldl -lm -lcrypt -lutil -lc
    perllibs=-lpthread -ldl -lm -lcrypt -lutil -lc
    libc=
    so=so
    useshrplib=false
    libperl=libperl.a
    gnulibc_version=''
  Dynamic Linking:
    dlsrc=dl_dlopen.xs
    dlext=so
    d_dlsymun=undef
    ccdlflags=' '
    cccdlflags='-DPIC -fPIC'
    lddlflags='-shared  -L/usr/local/lib -fstack-protector-strong'


Characteristics of this binary (from libperl): 
  Compile-time options:
    HAS_LONG_DOUBLE
    HAS_STRTOLD
    HAS_TIMES
    PERLIO_LAYERS
    PERL_COPY_ON_WRITE
    PERL_DONT_CREATE_GVSV
    PERL_HASH_FUNC_SIPHASH13
    PERL_HASH_USE_SBOX32
    PERL_MALLOC_WRAP
    PERL_OP_PARENT
    PERL_PRESERVE_IVUV
    PERL_USE_SAFE_PUTENV
    USE_64_BIT_ALL
    USE_64_BIT_INT
    USE_LARGE_FILES
    USE_LOCALE
    USE_LOCALE_COLLATE
    USE_LOCALE_CTYPE
    USE_LOCALE_NUMERIC
    USE_LOCALE_TIME
    USE_PERLIO
    USE_PERL_ATOF
  Built under freebsd
  Compiled at Jun 10 2024 21:14:04
  %ENV:
    PERL5LIB=""
    PERL5OPT=""
    PERL5_CPANPLUS_IS_RUNNING="76673"
    PERL5_CPAN_IS_RUNNING="76673"
    PERL5_CPAN_IS_RUNNING_IN_RECURSION="75728,76673"
    PERL_BATCH="yes"
    PERL_CANARY_STABILITY_NOPROMPT="1"
    PERL_CPAN_REPORTER_CONFIG="/var/tmp/cpansmoker-1023/2025031922/cpanreporter_000_config.ini"
    PERL_EXTUTILS_AUTOINSTALL="--defaultdeps"
    PERL_USE_UNSAFE_INC="1"
  @INC:
    /usr/perl5.40.0/lib/site_perl/5.40.0/aarch64-freebsd
    /usr/perl5.40.0/lib/site_perl/5.40.0
    /usr/perl5.40.0/lib/5.40.0/aarch64-freebsd
    /usr/perl5.40.0/lib/5.40.0
    .