Minion-Backend-SQLite vv5.0.2 Perl 5 v5.30.2 MSWin32-x86-multi-thread-64int

Status
Pass
From
gregor herrmann
Dist
Minion-Backend-SQLite vv5.0.2
Platform
Perl 5 v5.30.2 MSWin32-x86-multi-thread-64int
Date
2020-07-23 14:06:25
ID
41f681c5-6c7e-1014-abb7-cf9024cbc56c
This distribution has been tested as part of the CPAN Testers
project, supporting the Perl programming language.  See
http://wiki.cpantesters.org/ for more information or email
questions to cpan-testers-discuss@perl.org


--
Dear Dan Book,

This is a computer-generated report for Minion-Backend-SQLite-v5.0.2
on perl 5.30.2, created by CPAN-Reporter-1.2018.

Thank you for uploading your work to CPAN.  Congratulations!
All tests were successful.

Sections of this report:

    * Tester comments
    * Program output
    * Prerequisites
    * Environment and other context

------------------------------
TESTER COMMENTS
------------------------------

Additional comments from tester:

this report is from an automated smoke testing program
and was not reviewed by a human for accuracy

------------------------------
PROGRAM OUTPUT
------------------------------

Output from 'C:\Strawberry\perl\bin\perl.exe ./Build test':

# 
# Versions for all modules listed in MYMETA.json (including optional ones):
# 
# === Configure Requires ===
# 
#     Module               Want  Have
#     ------------------- ----- -----
#     Module::Build::Tiny 0.034 0.039
# 
# === Test Requires ===
# 
#     Module           Want     Have
#     ---------------- ---- --------
#     File::Spec        any     3.78
#     Module::Metadata  any 1.000037
#     Test::More       0.96 1.302175
# 
# === Test Recommends ===
# 
#     Module         Want     Have
#     ---------- -------- --------
#     CPAN::Meta 2.120900 2.150010
# 
# === Runtime Requires ===
# 
#     Module         Want   Have
#     ------------- ----- ------
#     List::Util      any   1.55
#     Minion        10.10  10.10
#     Mojo::SQLite  3.000  3.004
#     Mojolicious    7.29   8.57
#     Sys::Hostname   any   1.22
#     Time::HiRes     any 1.9760
# 
# === Runtime Suggests ===
# 
#     Module              Want  Have
#     ------------------- ---- -----
#     Mojo::JSON::MaybeXS  any 1.002
# 
t/00-report-prereqs.t .. ok
cannot unlink file for C:\DOKUME~1\smoker\LOKALE~1\Temp\0u_QqhiVXZ\sqlite.db: Permission denied at C:/Strawberry/perl/lib/File/Temp.pm line 2628.
cannot unlink file for C:\DOKUME~1\smoker\LOKALE~1\Temp\0u_QqhiVXZ\sqlite.db-shm: Permission denied at C:/Strawberry/perl/lib/File/Temp.pm line 2628.
cannot unlink file for C:\DOKUME~1\smoker\LOKALE~1\Temp\0u_QqhiVXZ\sqlite.db-wal: Permission denied at C:/Strawberry/perl/lib/File/Temp.pm line 2628.
cannot remove directory for C:/DOKUME~1/smoker/LOKALE~1/Temp/0u_QqhiVXZ: Directory not empty at C:/Strawberry/perl/lib/File/Temp.pm line 2628.
t/sqlite.t ............. ok
t/sqlite_worker.t ...... skipped: Minion workers do not support fork emulation
All tests successful.
Files=3, Tests=40, 17 wallclock secs ( 0.14 usr +  0.06 sys =  0.20 CPU)
Result: PASS

------------------------------
PREREQUISITES
------------------------------

Prerequisite modules loaded:

requires:

    Module              Need     Have    
    ------------------- -------- --------
    List::Util          0        1.55    
    Minion              10.10    10.10   
    Mojo::SQLite        3.000    3.004   
    Mojolicious         7.29     8.57    
    perl                5.010001 5.030002
    Sys::Hostname       0        1.22    
    Time::HiRes         0        1.9760  

build_requires:

    Module              Need     Have    
    ------------------- -------- --------
    File::Spec          0        3.78    
    Module::Metadata    0        1.000037
    Test::More          0.96     1.302175

configure_requires:

    Module              Need     Have    
    ------------------- -------- --------
    Module::Build::Tiny 0.034    0.039   


------------------------------
ENVIRONMENT AND OTHER CONTEXT
------------------------------

Environment variables:

    AUTOMATED_TESTING = 1
    COMSPEC = C:\WINDOWS.0\system32\cmd.exe
    NONINTERACTIVE_TESTING = 1
    NUMBER_OF_PROCESSORS = 1
    PATH = C:\WINDOWS.0\system32;C:\strawberry\c\bin;C:\strawberry\perl\site\bin;C:\strawberry\perl\bin
    PERL5LIB = 
    PERL5OPT = 
    PERL5_CPANPLUS_IS_RUNNING = 2548
    PERL5_CPAN_IS_RUNNING = 2548
    PERL5_CPAN_IS_RUNNING_IN_RECURSION = 2800,2548
    PERL_CR_SMOKER_CURRENT = Minion-Backend-SQLite-v5.0.2
    PERL_EXTUTILS_AUTOINSTALL = --defaultdeps
    PERL_MM_USE_DEFAULT = 1
    PERL_USE_UNSAFE_INC = 1
    PROCESSOR_IDENTIFIER = x86 Family 6 Model 14 Stepping 8, GenuineIntel
    TEMP = C:\DOKUME~1\smoker\LOKALE~1\Temp
    TERM = dumb

Perl special variables (and OS-specific diagnostics, for MSWin32):

    $^X = C:\Strawberry\perl\bin\perl.exe
    $UID/$EUID = 0 / 0
    $GID = 0
    $EGID = 0
    Win32::GetOSName = WinXP/.Net
    Win32::GetOSVersion = Service Pack 3, 5, 1, 2600, 2, 3, 0, 256, 1
    Win32::FsType = NTFS
    Win32::IsAdminUser = 1

Perl module toolchain versions installed:

    Module              Have    
    ------------------- --------
    CPAN                2.28    
    CPAN::Meta          2.150010
    Cwd                 3.78    
    ExtUtils::CBuilder  0.280234
    ExtUtils::Command   7.47_03 
    ExtUtils::Install   2.14    
    ExtUtils::MakeMaker 7.47_03 
    ExtUtils::Manifest  1.72    
    ExtUtils::ParseXS   3.40    
    File::Spec          3.78    
    JSON                4.02    
    JSON::PP            4.05    
    Module::Build       0.4231  
    Module::Signature   0.87    
    Parse::CPAN::Meta   2.150010
    Test::Harness       3.43_02 
    Test::More          1.302175
    YAML                1.30    
    YAML::Syck          1.32    
    version             0.9924  


--

Summary of my perl5 (revision 5 version 30 subversion 2) configuration:
   
  Platform:
    osname=MSWin32
    osvers=10.0.18363.720
    archname=MSWin32-x86-multi-thread-64int
    uname='Win32 strawberry-perl 5.30.2.1 #1 Tue Mar 17 00:20:46 2020 i386'
    config_args='undef'
    hint=recommended
    useposix=true
    d_sigaction=undef
    useithreads=define
    usemultiplicity=define
    use64bitint=define
    use64bitall=undef
    uselongdouble=undef
    usemymalloc=n
    default_inc_excludes_dot=define
    bincompat5005=undef
  Compiler:
    cc='gcc'
    ccflags =' -s -O2 -DWIN32 -D__USE_MINGW_ANSI_STDIO -DPERL_TEXTMODE_SCRIPTS -DPERL_IMPLICIT_CONTEXT -DPERL_IMPLICIT_SYS -DUSE_PERLIO -fwrapv -fno-strict-aliasing -mms-bitfields'
    optimize='-s -O2'
    cppflags='-DWIN32'
    ccversion=''
    gccversion='8.3.0'
    gccosandvers=''
    intsize=4
    longsize=4
    ptrsize=4
    doublesize=8
    byteorder=12345678
    doublekind=3
    d_longlong=define
    longlongsize=8
    d_longdbl=define
    longdblsize=12
    longdblkind=3
    ivtype='long long'
    ivsize=8
    nvtype='double'
    nvsize=8
    Off_t='long long'
    lseeksize=8
    alignbytes=8
    prototype=define
  Linker and Libraries:
    ld='g++'
    ldflags ='-s -L"C:\STRAWB~1\perl\lib\CORE" -L"C:\STRAWB~1\c\lib"'
    libpth=C:\STRAWB~1\c\lib C:\STRAWB~1\c\i686-w64-mingw32\lib C:\STRAWB~1\c\lib\gcc\i686-w64-mingw32\8.3.0
    libs= -lmoldname -lkernel32 -luser32 -lgdi32 -lwinspool -lcomdlg32 -ladvapi32 -lshell32 -lole32 -loleaut32 -lnetapi32 -luuid -lws2_32 -lmpr -lwinmm -lversion -lodbc32 -lodbccp32 -lcomctl32
    perllibs= -lmoldname -lkernel32 -luser32 -lgdi32 -lwinspool -lcomdlg32 -ladvapi32 -lshell32 -lole32 -loleaut32 -lnetapi32 -luuid -lws2_32 -lmpr -lwinmm -lversion -lodbc32 -lodbccp32 -lcomctl32
    libc=
    so=dll
    useshrplib=true
    libperl=libperl530.a
    gnulibc_version=''
  Dynamic Linking:
    dlsrc=dl_win32.xs
    dlext=xs.dll
    d_dlsymun=undef
    ccdlflags=' '
    cccdlflags=' '
    lddlflags='-mdll -s -L"C:\STRAWB~1\perl\lib\CORE" -L"C:\STRAWB~1\c\lib"'


Characteristics of this binary (from libperl): 
  Compile-time options:
    HAS_TIMES
    HAVE_INTERP_INTERN
    MULTIPLICITY
    PERLIO_LAYERS
    PERL_COPY_ON_WRITE
    PERL_DONT_CREATE_GVSV
    PERL_IMPLICIT_CONTEXT
    PERL_IMPLICIT_SYS
    PERL_MALLOC_WRAP
    PERL_OP_PARENT
    PERL_PRESERVE_IVUV
    USE_64_BIT_INT
    USE_ITHREADS
    USE_LARGE_FILES
    USE_LOCALE
    USE_LOCALE_COLLATE
    USE_LOCALE_CTYPE
    USE_LOCALE_NUMERIC
    USE_LOCALE_TIME
    USE_PERLIO
    USE_PERL_ATOF
  Built under MSWin32
  Compiled at Mar 17 2020 00:26:40
  %ENV:
    PERL5_CPANPLUS_IS_RUNNING="2548"
    PERL5_CPAN_IS_RUNNING="2548"
    PERL5_CPAN_IS_RUNNING_IN_RECURSION="2800,2548"
    PERL_CR_SMOKER_CURRENT="Minion-Backend-SQLite-v5.0.2"
    PERL_EXTUTILS_AUTOINSTALL="--defaultdeps"
    PERL_MM_USE_DEFAULT="1"
    PERL_USE_UNSAFE_INC="1"
  @INC:
    C:/Strawberry/perl/site/lib
    C:/Strawberry/perl/vendor/lib
    C:/Strawberry/perl/lib
    .