Report for Catalyst-Controller-ActionRole-0.15

Back
From: metabase:user:320bfe00-2aae-11df-837a-5e0a49663a4f
Subject: PASS Catalyst-Controller-ActionRole-0.15 v5.19.10 GNU/Linux
Date: 2014-03-21T03:45:34Z

This distribution has been tested as part of the CPAN Testers
project, supporting the Perl programming language.  See
http://wiki.cpantesters.org/ for more information or email
questions to cpan-testers-discuss@perl.org


--
Dear Florian Ragwitz,

This is a computer-generated report for Catalyst-Controller-ActionRole-0.15
on perl 5.19.10, created by CPAN-Reporter-1.2011.

Thank you for uploading your work to CPAN.  Congratulations!
All tests were successful.

Sections of this report:

    * Tester comments
    * Program output
    * Prerequisites
    * Environment and other context

------------------------------
TESTER COMMENTS
------------------------------

Additional comments from tester:

this report is from an automated smoke testing program
and was not reviewed by a human for accuracy

------------------------------
PROGRAM OUTPUT
------------------------------

Output from '/usr/bin/make test':

PERL_DL_NONLAZY=1 /tmp/basesmoker-reloperl-ynps/bin/perl "-MExtUtils::Command::MM" "-MTest::Harness" "-e" "undef *Test::Harness::Switches; test_harness(0, 'blib/lib', 'blib/arch')" t/*.t
Class::MOP::load_class is deprecated at /home/sand/src/perl/repoperls/installed-perls/perl/v5.19.9-250-gc27d84d/127e/lib/site_perl/5.19.10/x86_64-linux-ld/Class/MOP.pm line 73.
	Class::MOP::load_class("TestApp::ActionRole::Kooh") called at /tmp/loop_over_bdir-19471-MPnOI6/Catalyst-Controller-ActionRole-0.15-6ZeNK5/blib/lib/Catalyst/Controller/ActionRole.pm line 50
	Catalyst::Controller::ActionRole::_build__action_roles(TestApp::Controller::Bar=HASH(0x3b181d8)) called at native delegation method Catalyst::Controller::ActionRole::_action_roles (elements) of attribute _action_roles (defined at /tmp/loop_over_bdir-19471-MPnOI6/Catalyst-Controller-ActionRole-0.15-6ZeNK5/blib/lib/Catalyst/Controller/ActionRole.pm line 37) line 9
	Catalyst::Controller::ActionRole::_action_roles(TestApp::Controller::Bar=HASH(0x3b181d8)) called at /home/sand/src/perl/repoperls/installed-perls/perl/v5.19.9-250-gc27d84d/127e/lib/site_perl/5.19.10/Catalyst/Controller.pm line 84
	Catalyst::Controller::BUILD(TestApp::Controller::Bar=HASH(0x3b181d8), HASH(0x3b1cce0)) called at /home/sand/src/perl/repoperls/installed-perls/perl/v5.19.9-250-gc27d84d/127e/lib/site_perl/5.19.10/x86_64-linux-ld/Class/MOP/Method.pm line 128
	Class::MOP::Method::execute(Moose::Meta::Class::__ANON__::SERIAL::6=HASH(0x3323de8), TestApp::Controller::Bar=HASH(0x3b181d8), HASH(0x3b1cce0)) called at /home/sand/src/perl/repoperls/installed-perls/perl/v5.19.9-250-gc27d84d/127e/lib/site_perl/5.19.10/x86_64-linux-ld/Moose/Object.pm line 56
	Moose::Object::BUILDALL(TestApp::Controller::Bar=HASH(0x3b181d8), HASH(0x3b1cce0)) called at /home/sand/src/perl/repoperls/installed-perls/perl/v5.19.9-250-gc27d84d/127e/lib/site_perl/5.19.10/x86_64-linux-ld/Moose/Meta/Class.pm line 282
	Moose::Meta::Class::new_object(Moose::Meta::Class::__ANON__::SERIAL::5=HASH(0x3af6e90), HASH(0x3b1cce0)) called at /home/sand/src/perl/repoperls/installed-perls/perl/v5.19.9-250-gc27d84d/127e/lib/site_perl/5.19.10/x86_64-linux-ld/Moose/Object.pm line 27
	Moose::Object::new("TestApp::Controller::Bar", "TestApp", HASH(0x3aa6c90)) called at constructor Catalyst::Controller::new (defined at /home/sand/src/perl/repoperls/installed-perls/perl/v5.19.9-250-gc27d84d/127e/lib/site_perl/5.19.10/Catalyst/Controller.pm line 573) line 4
	Catalyst::Controller::new("TestApp::Controller::Bar", "TestApp", HASH(0x3aa6c90)) called at /home/sand/src/perl/repoperls/installed-perls/perl/v5.19.9-250-gc27d84d/127e/lib/site_perl/5.19.10/Catalyst/Component.pm line 123
	Catalyst::Component::COMPONENT("TestApp::Controller::Bar", "TestApp", HASH(0x3aa6c90)) called at /home/sand/src/perl/repoperls/installed-perls/perl/v5.19.9-250-gc27d84d/127e/lib/site_perl/5.19.10/Catalyst.pm line 2638
	eval {...} called at /home/sand/src/perl/repoperls/installed-perls/perl/v5.19.9-250-gc27d84d/127e/lib/site_perl/5.19.10/Catalyst.pm line 2638
	Catalyst::setup_component("TestApp", "TestApp::Controller::Bar") called at /home/sand/src/perl/repoperls/installed-perls/perl/v5.19.9-250-gc27d84d/127e/lib/site_perl/5.19.10/Catalyst.pm line 2565
	Catalyst::setup_components("TestApp") called at /home/sand/src/perl/repoperls/installed-perls/perl/v5.19.9-250-gc27d84d/127e/lib/site_perl/5.19.10/Catalyst.pm line 1181
	Catalyst::setup("TestApp") called at /tmp/loop_over_bdir-19471-MPnOI6/Catalyst-Controller-ActionRole-0.15-6ZeNK5/t/lib/TestApp.pm line 9
	require TestApp.pm called at /home/sand/src/perl/repoperls/installed-perls/perl/v5.19.9-250-gc27d84d/127e/lib/site_perl/5.19.10/Module/Runtime.pm line 317
	Module::Runtime::require_module("TestApp") called at /home/sand/src/perl/repoperls/installed-perls/perl/v5.19.9-250-gc27d84d/127e/lib/site_perl/5.19.10/Class/Load.pm line 179
	Class::Load::try {...} () called at /home/sand/src/perl/repoperls/installed-perls/perl/v5.19.9-250-gc27d84d/127e/lib/site_perl/5.19.10/Try/Tiny.pm line 77
	eval {...} called at /home/sand/src/perl/repoperls/installed-perls/perl/v5.19.9-250-gc27d84d/127e/lib/site_perl/5.19.10/Try/Tiny.pm line 72
	Try::Tiny::try(CODE(0x2868de8), Try::Tiny::Catch=REF(0x286d280)) called at /home/sand/src/perl/repoperls/installed-perls/perl/v5.19.9-250-gc27d84d/127e/lib/site_perl/5.19.10/Class/Load.pm line 185
	Class::Load::try_load_class("TestApp", undef) called at /home/sand/src/perl/repoperls/installed-perls/perl/v5.19.9-250-gc27d84d/127e/lib/site_perl/5.19.10/Class/Load.pm line 40
	Class::Load::load_class("TestApp") called at /home/sand/src/perl/repoperls/installed-perls/perl/v5.19.9-250-gc27d84d/127e/lib/site_perl/5.19.10/Catalyst/Test.pm line 29
	Catalyst::Test::_build_request_export("Catalyst::Test", HASH(0x1697c50)) called at /home/sand/src/perl/repoperls/installed-perls/perl/v5.19.9-250-gc27d84d/127e/lib/site_perl/5.19.10/Catalyst/Test.pm line 92
	Catalyst::Test::__ANON__("Catalyst::Test", "all", HASH(0x1697c20), HASH(0x1922fe0)) called at /home/sand/src/perl/repoperls/installed-perls/perl/v5.19.9-250-gc27d84d/127e/lib/site_perl/5.19.10/Sub/Exporter.pm line 108
	Sub::Exporter::_expand_group("Catalyst::Test", HASH(0x2be26c0), ARRAY(0x18400d8), HASH(0x1922fe0), HASH(0x1697c80), HASH(0x18c3e60)) called at /home/sand/src/perl/repoperls/installed-perls/perl/v5.19.9-250-gc27d84d/127e/lib/site_perl/5.19.10/Sub/Exporter.pm line 39
	Sub::Exporter::_expand_groups("Catalyst::Test", HASH(0x2be26c0), ARRAY(0x2be3008), HASH(0x1922fe0)) called at /home/sand/src/perl/repoperls/installed-perls/perl/v5.19.9-250-gc27d84d/127e/lib/site_perl/5.19.10/Sub/Exporter.pm line 323
	Sub::Exporter::__ANON__("Catalyst::Test", "-all", HASH(0x183fb20)) called at /home/sand/src/perl/repoperls/installed-perls/perl/v5.19.9-250-gc27d84d/127e/lib/site_perl/5.19.10/Catalyst/Test.pm line 155
	Catalyst::Test::import("Catalyst::Test", "TestApp") called at t/action-class.t line 8
	main::BEGIN() called at /tmp/loop_over_bdir-19471-MPnOI6/Catalyst-Controller-ActionRole-0.15-6ZeNK5/t/lib/TestApp.pm line 0
	eval {...} called at /tmp/loop_over_bdir-19471-MPnOI6/Catalyst-Controller-ActionRole-0.15-6ZeNK5/t/lib/TestApp.pm line 0
Class::MOP::load_first_existing_class is deprecated at /home/sand/src/perl/repoperls/installed-perls/perl/v5.19.9-250-gc27d84d/127e/lib/site_perl/5.19.10/x86_64-linux-ld/Class/MOP.pm line 82.
	Class::MOP::load_first_existing_class("TestApp::ActionRole::Shared", "Catalyst::ActionRole::Shared") called at /tmp/loop_over_bdir-19471-MPnOI6/Catalyst-Controller-ActionRole-0.15-6ZeNK5/blib/lib/Catalyst/Controller/ActionRole.pm line 120
	Catalyst::Controller::ActionRole::__ANON__("Shared") called at /home/sand/src/perl/repoperls/installed-perls/perl/v5.19.9-250-gc27d84d/127e/lib/site_perl/5.19.10/String/RewritePrefix.pm line 44
	String::RewritePrefix::__ANON__("Shared") called at /home/sand/src/perl/repoperls/installed-perls/perl/v5.19.9-250-gc27d84d/127e/lib/site_perl/5.19.10/String/RewritePrefix.pm line 18
	String::RewritePrefix::rewrite("String::RewritePrefix", HASH(0x3b32f98), "Shared") called at /tmp/loop_over_bdir-19471-MPnOI6/Catalyst-Controller-ActionRole-0.15-6ZeNK5/blib/lib/Catalyst/Controller/ActionRole.pm line 125
	Catalyst::Controller::ActionRole::_expand_role_shortname(TestApp::Controller::ExecutionViaConfig=HASH(0x3b32b90), "Shared") called at /tmp/loop_over_bdir-19471-MPnOI6/Catalyst-Controller-ActionRole-0.15-6ZeNK5/blib/lib/Catalyst/Controller/ActionRole.pm line 49
	Catalyst::Controller::ActionRole::_build__action_roles(TestApp::Controller::ExecutionViaConfig=HASH(0x3b32b90)) called at native delegation method Catalyst::Controller::ActionRole::_action_roles (elements) of attribute _action_roles (defined at /tmp/loop_over_bdir-19471-MPnOI6/Catalyst-Controller-ActionRole-0.15-6ZeNK5/blib/lib/Catalyst/Controller/ActionRole.pm line 37) line 9
	Catalyst::Controller::ActionRole::_action_roles(TestApp::Controller::ExecutionViaConfig=HASH(0x3b32b90)) called at /home/sand/src/perl/repoperls/installed-perls/perl/v5.19.9-250-gc27d84d/127e/lib/site_perl/5.19.10/Catalyst/Controller.pm line 84
	Catalyst::Controller::BUILD(TestApp::Controller::ExecutionViaConfig=HASH(0x3b32b90), HASH(0x3b320f8)) called at /home/sand/src/perl/repoperls/installed-perls/perl/v5.19.9-250-gc27d84d/127e/lib/site_perl/5.19.10/x86_64-linux-ld/Class/MOP/Method.pm line 128
	Class::MOP::Method::execute(Moose::Meta::Class::__ANON__::SERIAL::6=HASH(0x3323de8), TestApp::Controller::ExecutionViaConfig=HASH(0x3b32b90), HASH(0x3b320f8)) called at /home/sand/src/perl/repoperls/installed-perls/perl/v5.19.9-250-gc27d84d/127e/lib/site_perl/5.19.10/x86_64-linux-ld/Moose/Object.pm line 56
	Moose::Object::BUILDALL(TestApp::Controller::ExecutionViaConfig=HASH(0x3b32b90), HASH(0x3b320f8)) called at /home/sand/src/perl/repoperls/installed-perls/perl/v5.19.9-250-gc27d84d/127e/lib/site_perl/5.19.10/x86_64-linux-ld/Moose/Meta/Class.pm line 282
	Moose::Meta::Class::new_object(Moose::Meta::Class::__ANON__::SERIAL::5=HASH(0x3b11a70), HASH(0x3b320f8)) called at /home/sand/src/perl/repoperls/installed-perls/perl/v5.19.9-250-gc27d84d/127e/lib/site_perl/5.19.10/x86_64-linux-ld/Moose/Object.pm line 27
	Moose::Object::new("TestApp::Controller::ExecutionViaConfig", "TestApp", HASH(0x3b32878)) called at constructor Catalyst::Controller::new (defined at /home/sand/src/perl/repoperls/installed-perls/perl/v5.19.9-250-gc27d84d/127e/lib/site_perl/5.19.10/Catalyst/Controller.pm line 573) line 4
	Catalyst::Controller::new("TestApp::Controller::ExecutionViaConfig", "TestApp", HASH(0x3b32878)) called at /home/sand/src/perl/repoperls/installed-perls/perl/v5.19.9-250-gc27d84d/127e/lib/site_perl/5.19.10/Catalyst/Component.pm line 123
	Catalyst::Component::COMPONENT("TestApp::Controller::ExecutionViaConfig", "TestApp", HASH(0x3b32878)) called at /home/sand/src/perl/repoperls/installed-perls/perl/v5.19.9-250-gc27d84d/127e/lib/site_perl/5.19.10/Catalyst.pm line 2638
	eval {...} called at /home/sand/src/perl/repoperls/installed-perls/perl/v5.19.9-250-gc27d84d/127e/lib/site_perl/5.19.10/Catalyst.pm line 2638
	Catalyst::setup_component("TestApp", "TestApp::Controller::ExecutionViaConfig") called at /home/sand/src/perl/repoperls/installed-perls/perl/v5.19.9-250-gc27d84d/127e/lib/site_perl/5.19.10/Catalyst.pm line 2565
	Catalyst::setup_components("TestApp") called at /home/sand/src/perl/repoperls/installed-perls/perl/v5.19.9-250-gc27d84d/127e/lib/site_perl/5.19.10/Catalyst.pm line 1181
	Catalyst::setup("TestApp") called at /tmp/loop_over_bdir-19471-MPnOI6/Catalyst-Controller-ActionRole-0.15-6ZeNK5/t/lib/TestApp.pm line 9
	require TestApp.pm called at /home/sand/src/perl/repoperls/installed-perls/perl/v5.19.9-250-gc27d84d/127e/lib/site_perl/5.19.10/Module/Runtime.pm line 317
	Module::Runtime::require_module("TestApp") called at /home/sand/src/perl/repoperls/installed-perls/perl/v5.19.9-250-gc27d84d/127e/lib/site_perl/5.19.10/Class/Load.pm line 179
	Class::Load::try {...} () called at /home/sand/src/perl/repoperls/installed-perls/perl/v5.19.9-250-gc27d84d/127e/lib/site_perl/5.19.10/Try/Tiny.pm line 77
	eval {...} called at /home/sand/src/perl/repoperls/installed-perls/perl/v5.19.9-250-gc27d84d/127e/lib/site_perl/5.19.10/Try/Tiny.pm line 72
	Try::Tiny::try(CODE(0x2868de8), Try::Tiny::Catch=REF(0x286d280)) called at /home/sand/src/perl/repoperls/installed-perls/perl/v5.19.9-250-gc27d84d/127e/lib/site_perl/5.19.10/Class/Load.pm line 185
	Class::Load::try_load_class("TestApp", undef) called at /home/sand/src/perl/repoperls/installed-perls/perl/v5.19.9-250-gc27d84d/127e/lib/site_perl/5.19.10/Class/Load.pm line 40
	Class::Load::load_class("TestApp") called at /home/sand/src/perl/repoperls/installed-perls/perl/v5.19.9-250-gc27d84d/127e/lib/site_perl/5.19.10/Catalyst/Test.pm line 29
	Catalyst::Test::_build_request_export("Catalyst::Test", HASH(0x1697c50)) called at /home/sand/src/perl/repoperls/installed-perls/perl/v5.19.9-250-gc27d84d/127e/lib/site_perl/5.19.10/Catalyst/Test.pm line 92
	Catalyst::Test::__ANON__("Catalyst::Test", "all", HASH(0x1697c20), HASH(0x1922fe0)) called at /home/sand/src/perl/repoperls/installed-perls/perl/v5.19.9-250-gc27d84d/127e/lib/site_perl/5.19.10/Sub/Exporter.pm line 108
	Sub::Exporter::_expand_group("Catalyst::Test", HASH(0x2be26c0), ARRAY(0x18400d8), HASH(0x1922fe0), HASH(0x1697c80), HASH(0x18c3e60)) called at /home/sand/src/perl/repoperls/installed-perls/perl/v5.19.9-250-gc27d84d/127e/lib/site_perl/5.19.10/Sub/Exporter.pm line 39
	Sub::Exporter::_expand_groups("Catalyst::Test", HASH(0x2be26c0), ARRAY(0x2be3008), HASH(0x1922fe0)) called at /home/sand/src/perl/repoperls/installed-perls/perl/v5.19.9-250-gc27d84d/127e/lib/site_perl/5.19.10/Sub/Exporter.pm line 323
	Sub::Exporter::__ANON__("Catalyst::Test", "-all", HASH(0x183fb20)) called at /home/sand/src/perl/repoperls/installed-perls/perl/v5.19.9-250-gc27d84d/127e/lib/site_perl/5.19.10/Catalyst/Test.pm line 155
	Catalyst::Test::import("Catalyst::Test", "TestApp") called at t/action-class.t line 8
	main::BEGIN() called at /tmp/loop_over_bdir-19471-MPnOI6/Catalyst-Controller-ActionRole-0.15-6ZeNK5/t/lib/TestApp.pm line 0
	eval {...} called at /tmp/loop_over_bdir-19471-MPnOI6/Catalyst-Controller-ActionRole-0.15-6ZeNK5/t/lib/TestApp.pm line 0
t/action-class.t .......... ok
Class::MOP::load_class is deprecated at /home/sand/src/perl/repoperls/installed-perls/perl/v5.19.9-250-gc27d84d/127e/lib/site_perl/5.19.10/x86_64-linux-ld/Class/MOP.pm line 73.
	Class::MOP::load_class("TestApp::ActionRole::Kooh") called at /tmp/loop_over_bdir-19471-MPnOI6/Catalyst-Controller-ActionRole-0.15-6ZeNK5/blib/lib/Catalyst/Controller/ActionRole.pm line 50
	Catalyst::Controller::ActionRole::_build__action_roles(TestApp::Controller::Bar=HASH(0x39f7808)) called at native delegation method Catalyst::Controller::ActionRole::_action_roles (elements) of attribute _action_roles (defined at /tmp/loop_over_bdir-19471-MPnOI6/Catalyst-Controller-ActionRole-0.15-6ZeNK5/blib/lib/Catalyst/Controller/ActionRole.pm line 37) line 9
	Catalyst::Controller::ActionRole::_action_roles(TestApp::Controller::Bar=HASH(0x39f7808)) called at /home/sand/src/perl/repoperls/installed-perls/perl/v5.19.9-250-gc27d84d/127e/lib/site_perl/5.19.10/Catalyst/Controller.pm line 84
	Catalyst::Controller::BUILD(TestApp::Controller::Bar=HASH(0x39f7808), HASH(0x39f5040)) called at /home/sand/src/perl/repoperls/installed-perls/perl/v5.19.9-250-gc27d84d/127e/lib/site_perl/5.19.10/x86_64-linux-ld/Class/MOP/Method.pm line 128
	Class::MOP::Method::execute(Moose::Meta::Class::__ANON__::SERIAL::7=HASH(0x31faa58), TestApp::Controller::Bar=HASH(0x39f7808), HASH(0x39f5040)) called at /home/sand/src/perl/repoperls/installed-perls/perl/v5.19.9-250-gc27d84d/127e/lib/site_perl/5.19.10/x86_64-linux-ld/Moose/Object.pm line 56
	Moose::Object::BUILDALL(TestApp::Controller::Bar=HASH(0x39f7808), HASH(0x39f5040)) called at /home/sand/src/perl/repoperls/installed-perls/perl/v5.19.9-250-gc27d84d/127e/lib/site_perl/5.19.10/x86_64-linux-ld/Moose/Meta/Class.pm line 282
	Moose::Meta::Class::new_object(Moose::Meta::Class::__ANON__::SERIAL::5=HASH(0x39cd508), HASH(0x39f5040)) called at /home/sand/src/perl/repoperls/installed-perls/perl/v5.19.9-250-gc27d84d/127e/lib/site_perl/5.19.10/x86_64-linux-ld/Moose/Object.pm line 27
	Moose::Object::new("TestApp::Controller::Bar", "TestApp", HASH(0x397d9f0)) called at constructor Catalyst::Controller::new (defined at /home/sand/src/perl/repoperls/installed-perls/perl/v5.19.9-250-gc27d84d/127e/lib/site_perl/5.19.10/Catalyst/Controller.pm line 573) line 4
	Catalyst::Controller::new("TestApp::Controller::Bar", "TestApp", HASH(0x397d9f0)) called at /home/sand/src/perl/repoperls/installed-perls/perl/v5.19.9-250-gc27d84d/127e/lib/site_perl/5.19.10/Catalyst/Component.pm line 123
	Catalyst::Component::COMPONENT("TestApp::Controller::Bar", "TestApp", HASH(0x397d9f0)) called at /home/sand/src/perl/repoperls/installed-perls/perl/v5.19.9-250-gc27d84d/127e/lib/site_perl/5.19.10/Catalyst.pm line 2638
	eval {...} called at /home/sand/src/perl/repoperls/installed-perls/perl/v5.19.9-250-gc27d84d/127e/lib/site_perl/5.19.10/Catalyst.pm line 2638
	Catalyst::setup_component("TestApp", "TestApp::Controller::Bar") called at /home/sand/src/perl/repoperls/installed-perls/perl/v5.19.9-250-gc27d84d/127e/lib/site_perl/5.19.10/Catalyst.pm line 2565
	Catalyst::setup_components("TestApp") called at /home/sand/src/perl/repoperls/installed-perls/perl/v5.19.9-250-gc27d84d/127e/lib/site_perl/5.19.10/Catalyst.pm line 1181
	Catalyst::setup("TestApp") called at /tmp/loop_over_bdir-19471-MPnOI6/Catalyst-Controller-ActionRole-0.15-6ZeNK5/t/lib/TestApp.pm line 9
	require TestApp.pm called at /home/sand/src/perl/repoperls/installed-perls/perl/v5.19.9-250-gc27d84d/127e/lib/site_perl/5.19.10/Module/Runtime.pm line 317
	Module::Runtime::require_module("TestApp") called at /home/sand/src/perl/repoperls/installed-perls/perl/v5.19.9-250-gc27d84d/127e/lib/site_perl/5.19.10/Class/Load.pm line 179
	Class::Load::try {...} () called at /home/sand/src/perl/repoperls/installed-perls/perl/v5.19.9-250-gc27d84d/127e/lib/site_perl/5.19.10/Try/Tiny.pm line 77
	eval {...} called at /home/sand/src/perl/repoperls/installed-perls/perl/v5.19.9-250-gc27d84d/127e/lib/site_perl/5.19.10/Try/Tiny.pm line 72
	Try::Tiny::try(CODE(0x273fc78), Try::Tiny::Catch=REF(0x273f7c8)) called at /home/sand/src/perl/repoperls/installed-perls/perl/v5.19.9-250-gc27d84d/127e/lib/site_perl/5.19.10/Class/Load.pm line 185
	Class::Load::try_load_class("TestApp", undef) called at /home/sand/src/perl/repoperls/installed-perls/perl/v5.19.9-250-gc27d84d/127e/lib/site_perl/5.19.10/Class/Load.pm line 40
	Class::Load::load_class("TestApp") called at /home/sand/src/perl/repoperls/installed-perls/perl/v5.19.9-250-gc27d84d/127e/lib/site_perl/5.19.10/Catalyst/Test.pm line 29
	Catalyst::Test::_build_request_export("Catalyst::Test", HASH(0x156ecf0)) called at /home/sand/src/perl/repoperls/installed-perls/perl/v5.19.9-250-gc27d84d/127e/lib/site_perl/5.19.10/Catalyst/Test.pm line 92
	Catalyst::Test::__ANON__("Catalyst::Test", "all", HASH(0x156ecc0), HASH(0x154fa08)) called at /home/sand/src/perl/repoperls/installed-perls/perl/v5.19.9-250-gc27d84d/127e/lib/site_perl/5.19.10/Sub/Exporter.pm line 108
	Sub::Exporter::_expand_group("Catalyst::Test", HASH(0x2ab9540), ARRAY(0x1717118), HASH(0x154fa08), HASH(0x156ed20), HASH(0x179aea0)) called at /home/sand/src/perl/repoperls/installed-perls/perl/v5.19.9-250-gc27d84d/127e/lib/site_perl/5.19.10/Sub/Exporter.pm line 39
	Sub::Exporter::_expand_groups("Catalyst::Test", HASH(0x2ab9540), ARRAY(0x2ab9e88), HASH(0x154fa08)) called at /home/sand/src/perl/repoperls/installed-perls/perl/v5.19.9-250-gc27d84d/127e/lib/site_perl/5.19.10/Sub/Exporter.pm line 323
	Sub::Exporter::__ANON__("Catalyst::Test", "-all", HASH(0x1716b60)) called at /home/sand/src/perl/repoperls/installed-perls/perl/v5.19.9-250-gc27d84d/127e/lib/site_perl/5.19.10/Catalyst/Test.pm line 155
	Catalyst::Test::import("Catalyst::Test", "TestApp") called at t/basic.t line 8
	main::BEGIN() called at /tmp/loop_over_bdir-19471-MPnOI6/Catalyst-Controller-ActionRole-0.15-6ZeNK5/t/lib/TestApp.pm line 0
	eval {...} called at /tmp/loop_over_bdir-19471-MPnOI6/Catalyst-Controller-ActionRole-0.15-6ZeNK5/t/lib/TestApp.pm line 0
Class::MOP::load_first_existing_class is deprecated at /home/sand/src/perl/repoperls/installed-perls/perl/v5.19.9-250-gc27d84d/127e/lib/site_perl/5.19.10/x86_64-linux-ld/Class/MOP.pm line 82.
	Class::MOP::load_first_existing_class("TestApp::ActionRole::Shared", "Catalyst::ActionRole::Shared") called at /tmp/loop_over_bdir-19471-MPnOI6/Catalyst-Controller-ActionRole-0.15-6ZeNK5/blib/lib/Catalyst/Controller/ActionRole.pm line 120
	Catalyst::Controller::ActionRole::__ANON__("Shared") called at /home/sand/src/perl/repoperls/installed-perls/perl/v5.19.9-250-gc27d84d/127e/lib/site_perl/5.19.10/String/RewritePrefix.pm line 44
	String::RewritePrefix::__ANON__("Shared") called at /home/sand/src/perl/repoperls/installed-perls/perl/v5.19.9-250-gc27d84d/127e/lib/site_perl/5.19.10/String/RewritePrefix.pm line 18
	String::RewritePrefix::rewrite("String::RewritePrefix", HASH(0x3a09df8), "Shared") called at /tmp/loop_over_bdir-19471-MPnOI6/Catalyst-Controller-ActionRole-0.15-6ZeNK5/blib/lib/Catalyst/Controller/ActionRole.pm line 125
	Catalyst::Controller::ActionRole::_expand_role_shortname(TestApp::Controller::ExecutionViaConfig=HASH(0x3a099f0), "Shared") called at /tmp/loop_over_bdir-19471-MPnOI6/Catalyst-Controller-ActionRole-0.15-6ZeNK5/blib/lib/Catalyst/Controller/ActionRole.pm line 49
	Catalyst::Controller::ActionRole::_build__action_roles(TestApp::Controller::ExecutionViaConfig=HASH(0x3a099f0)) called at native delegation method Catalyst::Controller::ActionRole::_action_roles (elements) of attribute _action_roles (defined at /tmp/loop_over_bdir-19471-MPnOI6/Catalyst-Controller-ActionRole-0.15-6ZeNK5/blib/lib/Catalyst/Controller/ActionRole.pm line 37) line 9
	Catalyst::Controller::ActionRole::_action_roles(TestApp::Controller::ExecutionViaConfig=HASH(0x3a099f0)) called at /home/sand/src/perl/repoperls/installed-perls/perl/v5.19.9-250-gc27d84d/127e/lib/site_perl/5.19.10/Catalyst/Controller.pm line 84
	Catalyst::Controller::BUILD(TestApp::Controller::ExecutionViaConfig=HASH(0x3a099f0), HASH(0x3a08fe8)) called at /home/sand/src/perl/repoperls/installed-perls/perl/v5.19.9-250-gc27d84d/127e/lib/site_perl/5.19.10/x86_64-linux-ld/Class/MOP/Method.pm line 128
	Class::MOP::Method::execute(Moose::Meta::Class::__ANON__::SERIAL::7=HASH(0x31faa58), TestApp::Controller::ExecutionViaConfig=HASH(0x3a099f0), HASH(0x3a08fe8)) called at /home/sand/src/perl/repoperls/installed-perls/perl/v5.19.9-250-gc27d84d/127e/lib/site_perl/5.19.10/x86_64-linux-ld/Moose/Object.pm line 56
	Moose::Object::BUILDALL(TestApp::Controller::ExecutionViaConfig=HASH(0x3a099f0), HASH(0x3a08fe8)) called at /home/sand/src/perl/repoperls/installed-perls/perl/v5.19.9-250-gc27d84d/127e/lib/site_perl/5.19.10/x86_64-linux-ld/Moose/Meta/Class.pm line 282
	Moose::Meta::Class::new_object(Moose::Meta::Class::__ANON__::SERIAL::5=HASH(0x31045b0), HASH(0x3a08fe8)) called at /home/sand/src/perl/repoperls/installed-perls/perl/v5.19.9-250-gc27d84d/127e/lib/site_perl/5.19.10/x86_64-linux-ld/Moose/Object.pm line 27
	Moose::Object::new("TestApp::Controller::ExecutionViaConfig", "TestApp", HASH(0x3a09708)) called at constructor Catalyst::Controller::new (defined at /home/sand/src/perl/repoperls/installed-perls/perl/v5.19.9-250-gc27d84d/127e/lib/site_perl/5.19.10/Catalyst/Controller.pm line 573) line 4
	Catalyst::Controller::new("TestApp::Controller::ExecutionViaConfig", "TestApp", HASH(0x3a09708)) called at /home/sand/src/perl/repoperls/installed-perls/perl/v5.19.9-250-gc27d84d/127e/lib/site_perl/5.19.10/Catalyst/Component.pm line 123
	Catalyst::Component::COMPONENT("TestApp::Controller::ExecutionViaConfig", "TestApp", HASH(0x3a09708)) called at /home/sand/src/perl/repoperls/installed-perls/perl/v5.19.9-250-gc27d84d/127e/lib/site_perl/5.19.10/Catalyst.pm line 2638
	eval {...} called at /home/sand/src/perl/repoperls/installed-perls/perl/v5.19.9-250-gc27d84d/127e/lib/site_perl/5.19.10/Catalyst.pm line 2638
	Catalyst::setup_component("TestApp", "TestApp::Controller::ExecutionViaConfig") called at /home/sand/src/perl/repoperls/installed-perls/perl/v5.19.9-250-gc27d84d/127e/lib/site_perl/5.19.10/Catalyst.pm line 2565
	Catalyst::setup_components("TestApp") called at /home/sand/src/perl/repoperls/installed-perls/perl/v5.19.9-250-gc27d84d/127e/lib/site_perl/5.19.10/Catalyst.pm line 1181
	Catalyst::setup("TestApp") called at /tmp/loop_over_bdir-19471-MPnOI6/Catalyst-Controller-ActionRole-0.15-6ZeNK5/t/lib/TestApp.pm line 9
	require TestApp.pm called at /home/sand/src/perl/repoperls/installed-perls/perl/v5.19.9-250-gc27d84d/127e/lib/site_perl/5.19.10/Module/Runtime.pm line 317
	Module::Runtime::require_module("TestApp") called at /home/sand/src/perl/repoperls/installed-perls/perl/v5.19.9-250-gc27d84d/127e/lib/site_perl/5.19.10/Class/Load.pm line 179
	Class::Load::try {...} () called at /home/sand/src/perl/repoperls/installed-perls/perl/v5.19.9-250-gc27d84d/127e/lib/site_perl/5.19.10/Try/Tiny.pm line 77
	eval {...} called at /home/sand/src/perl/repoperls/installed-perls/perl/v5.19.9-250-gc27d84d/127e/lib/site_perl/5.19.10/Try/Tiny.pm line 72
	Try::Tiny::try(CODE(0x273fc78), Try::Tiny::Catch=REF(0x273f7c8)) called at /home/sand/src/perl/repoperls/installed-perls/perl/v5.19.9-250-gc27d84d/127e/lib/site_perl/5.19.10/Class/Load.pm line 185
	Class::Load::try_load_class("TestApp", undef) called at /home/sand/src/perl/repoperls/installed-perls/perl/v5.19.9-250-gc27d84d/127e/lib/site_perl/5.19.10/Class/Load.pm line 40
	Class::Load::load_class("TestApp") called at /home/sand/src/perl/repoperls/installed-perls/perl/v5.19.9-250-gc27d84d/127e/lib/site_perl/5.19.10/Catalyst/Test.pm line 29
	Catalyst::Test::_build_request_export("Catalyst::Test", HASH(0x156ecf0)) called at /home/sand/src/perl/repoperls/installed-perls/perl/v5.19.9-250-gc27d84d/127e/lib/site_perl/5.19.10/Catalyst/Test.pm line 92
	Catalyst::Test::__ANON__("Catalyst::Test", "all", HASH(0x156ecc0), HASH(0x154fa08)) called at /home/sand/src/perl/repoperls/installed-perls/perl/v5.19.9-250-gc27d84d/127e/lib/site_perl/5.19.10/Sub/Exporter.pm line 108
	Sub::Exporter::_expand_group("Catalyst::Test", HASH(0x2ab9540), ARRAY(0x1717118), HASH(0x154fa08), HASH(0x156ed20), HASH(0x179aea0)) called at /home/sand/src/perl/repoperls/installed-perls/perl/v5.19.9-250-gc27d84d/127e/lib/site_perl/5.19.10/Sub/Exporter.pm line 39
	Sub::Exporter::_expand_groups("Catalyst::Test", HASH(0x2ab9540), ARRAY(0x2ab9e88), HASH(0x154fa08)) called at /home/sand/src/perl/repoperls/installed-perls/perl/v5.19.9-250-gc27d84d/127e/lib/site_perl/5.19.10/Sub/Exporter.pm line 323
	Sub::Exporter::__ANON__("Catalyst::Test", "-all", HASH(0x1716b60)) called at /home/sand/src/perl/repoperls/installed-perls/perl/v5.19.9-250-gc27d84d/127e/lib/site_perl/5.19.10/Catalyst/Test.pm line 155
	Catalyst::Test::import("Catalyst::Test", "TestApp") called at t/basic.t line 8
	main::BEGIN() called at /tmp/loop_over_bdir-19471-MPnOI6/Catalyst-Controller-ActionRole-0.15-6ZeNK5/t/lib/TestApp.pm line 0
	eval {...} called at /tmp/loop_over_bdir-19471-MPnOI6/Catalyst-Controller-ActionRole-0.15-6ZeNK5/t/lib/TestApp.pm line 0
t/basic.t ................. ok
Class::MOP::load_first_existing_class is deprecated at /home/sand/src/perl/repoperls/installed-perls/perl/v5.19.9-250-gc27d84d/127e/lib/site_perl/5.19.10/x86_64-linux-ld/Class/MOP.pm line 82.
	Class::MOP::load_first_existing_class("TestAppREST::ActionRole::Moo", "Catalyst::ActionRole::Moo") called at /tmp/loop_over_bdir-19471-MPnOI6/Catalyst-Controller-ActionRole-0.15-6ZeNK5/blib/lib/Catalyst/Controller/ActionRole.pm line 120
	Catalyst::Controller::ActionRole::__ANON__("Moo") called at /home/sand/src/perl/repoperls/installed-perls/perl/v5.19.9-250-gc27d84d/127e/lib/site_perl/5.19.10/String/RewritePrefix.pm line 44
	String::RewritePrefix::__ANON__("Moo") called at /home/sand/src/perl/repoperls/installed-perls/perl/v5.19.9-250-gc27d84d/127e/lib/site_perl/5.19.10/String/RewritePrefix.pm line 18
	String::RewritePrefix::rewrite("String::RewritePrefix", HASH(0x31208a8), "Moo") called at /tmp/loop_over_bdir-19471-MPnOI6/Catalyst-Controller-ActionRole-0.15-6ZeNK5/blib/lib/Catalyst/Controller/ActionRole.pm line 125
	Catalyst::Controller::ActionRole::_expand_role_shortname(TestAppREST::Controller::Foo=HASH(0x30bb058), "Moo") called at /tmp/loop_over_bdir-19471-MPnOI6/Catalyst-Controller-ActionRole-0.15-6ZeNK5/blib/lib/Catalyst/Controller/ActionRole.pm line 134
	Catalyst::Controller::ActionRole::_parse_Does_attr(TestAppREST::Controller::Foo=HASH(0x30bb058), "TestAppREST", "foo", "Moo") called at /home/sand/src/perl/repoperls/installed-perls/perl/v5.19.9-250-gc27d84d/127e/lib/site_perl/5.19.10/Catalyst/Controller.pm line 441
	Catalyst::Controller::_parse_attr(TestAppREST::Controller::Foo=HASH(0x30bb058), "TestAppREST", "foo", "Does", ARRAY(0x31203f8)) called at /home/sand/src/perl/repoperls/installed-perls/perl/v5.19.9-250-gc27d84d/127e/lib/site_perl/5.19.10/Catalyst/Controller.pm line 427
	Catalyst::Controller::_parse_attrs(TestAppREST::Controller::Foo=HASH(0x30bb058), "TestAppREST", "foo", "Local", "Does('Moo')", "ActionClass('REST')") called at /home/sand/src/perl/repoperls/installed-perls/perl/v5.19.9-250-gc27d84d/127e/lib/site_perl/5.19.10/Catalyst/Controller.pm line 279
	Catalyst::Controller::register_action_methods(TestAppREST::Controller::Foo=HASH(0x30bb058), "TestAppREST", Moose::Meta::Class::__ANON__::SERIAL::2=HASH(0x30f8138), Moose::Meta::Class::__ANON__::SERIAL::2=HASH(0x3112508), Moose::Meta::Class::__ANON__::SERIAL::2=HASH(0x30ef8f0), Moose::Meta::Class::__ANON__::SERIAL::2=HASH(0x3112118), Moose::Meta::Class::__ANON__::SERIAL::2=HASH(0x30f8270), Moose::Meta::Class::__ANON__::SERIAL::2=HASH(0x311bce8)) called at /home/sand/src/perl/repoperls/installed-perls/perl/v5.19.9-250-gc27d84d/127e/lib/site_perl/5.19.10/Catalyst/Controller.pm line 257
	Catalyst::Controller::register_actions(TestAppREST::Controller::Foo=HASH(0x30bb058), "TestAppREST") called at /home/sand/src/perl/repoperls/installed-perls/perl/v5.19.9-250-gc27d84d/127e/lib/site_perl/5.19.10/Catalyst/Dispatcher.pm line 609
	Catalyst::Dispatcher::setup_actions(Catalyst::Dispatcher=HASH(0x2df86f0), "TestAppREST") called at /home/sand/src/perl/repoperls/installed-perls/perl/v5.19.9-250-gc27d84d/127e/lib/site_perl/5.19.10/Catalyst.pm line 2525
	Catalyst::setup_actions("TestAppREST") called at /home/sand/src/perl/repoperls/installed-perls/perl/v5.19.9-250-gc27d84d/127e/lib/site_perl/5.19.10/Catalyst.pm line 1242
	Catalyst::setup("TestAppREST") called at /tmp/loop_over_bdir-19471-MPnOI6/Catalyst-Controller-ActionRole-0.15-6ZeNK5/t/lib/TestAppREST.pm line 9
	require TestAppREST.pm called at /home/sand/src/perl/repoperls/installed-perls/perl/v5.19.9-250-gc27d84d/127e/lib/site_perl/5.19.10/Module/Runtime.pm line 317
	Module::Runtime::require_module("TestAppREST") called at /home/sand/src/perl/repoperls/installed-perls/perl/v5.19.9-250-gc27d84d/127e/lib/site_perl/5.19.10/Class/Load.pm line 179
	Class::Load::try {...} () called at /home/sand/src/perl/repoperls/installed-perls/perl/v5.19.9-250-gc27d84d/127e/lib/site_perl/5.19.10/Try/Tiny.pm line 77
	eval {...} called at /home/sand/src/perl/repoperls/installed-perls/perl/v5.19.9-250-gc27d84d/127e/lib/site_perl/5.19.10/Try/Tiny.pm line 72
	Try::Tiny::try(CODE(0x278a988), Try::Tiny::Catch=REF(0x2783ce8)) called at /home/sand/src/perl/repoperls/installed-perls/perl/v5.19.9-250-gc27d84d/127e/lib/site_perl/5.19.10/Class/Load.pm line 185
	Class::Load::try_load_class("TestAppREST", undef) called at /home/sand/src/perl/repoperls/installed-perls/perl/v5.19.9-250-gc27d84d/127e/lib/site_perl/5.19.10/Class/Load.pm line 40
	Class::Load::load_class("TestAppREST") called at /home/sand/src/perl/repoperls/installed-perls/perl/v5.19.9-250-gc27d84d/127e/lib/site_perl/5.19.10/Catalyst/Test.pm line 29
	Catalyst::Test::_build_request_export("Catalyst::Test", HASH(0x27f1c58)) called at /home/sand/src/perl/repoperls/installed-perls/perl/v5.19.9-250-gc27d84d/127e/lib/site_perl/5.19.10/Catalyst/Test.pm line 92
	Catalyst::Test::__ANON__("Catalyst::Test", "all", HASH(0x27f1c28), HASH(0x190d1b8)) called at /home/sand/src/perl/repoperls/installed-perls/perl/v5.19.9-250-gc27d84d/127e/lib/site_perl/5.19.10/Sub/Exporter.pm line 108
	Sub::Exporter::_expand_group("Catalyst::Test", HASH(0x27e4428), ARRAY(0x190d4a0), HASH(0x190d1b8), HASH(0x27f1c88), HASH(0x1a69d50)) called at /home/sand/src/perl/repoperls/installed-perls/perl/v5.19.9-250-gc27d84d/127e/lib/site_perl/5.19.10/Sub/Exporter.pm line 39
	Sub::Exporter::_expand_groups("Catalyst::Test", HASH(0x27e4428), ARRAY(0x27f15f8), HASH(0x190d1b8)) called at /home/sand/src/perl/repoperls/installed-perls/perl/v5.19.9-250-gc27d84d/127e/lib/site_perl/5.19.10/Sub/Exporter.pm line 323
	Sub::Exporter::__ANON__("Catalyst::Test", "-all", HASH(0x27571a8)) called at /home/sand/src/perl/repoperls/installed-perls/perl/v5.19.9-250-gc27d84d/127e/lib/site_perl/5.19.10/Catalyst/Test.pm line 155
	Catalyst::Test::import("Catalyst::Test", "TestAppREST") called at t/basic_rest.t line 16
	main::BEGIN() called at /tmp/loop_over_bdir-19471-MPnOI6/Catalyst-Controller-ActionRole-0.15-6ZeNK5/t/lib/TestAppREST.pm line 0
	eval {...} called at /tmp/loop_over_bdir-19471-MPnOI6/Catalyst-Controller-ActionRole-0.15-6ZeNK5/t/lib/TestAppREST.pm line 0
Class::MOP::load_class is deprecated at /home/sand/src/perl/repoperls/installed-perls/perl/v5.19.9-250-gc27d84d/127e/lib/site_perl/5.19.10/x86_64-linux-ld/Class/MOP.pm line 73.
	Class::MOP::load_class("TestAppREST::ActionRole::Moo") called at /tmp/loop_over_bdir-19471-MPnOI6/Catalyst-Controller-ActionRole-0.15-6ZeNK5/blib/lib/Catalyst/Controller/ActionRole.pm line 69
	Class::MOP::Class:::around(CODE(0x260a880), TestAppREST::Controller::Foo=HASH(0x30bb058), "name", "foo", "code", CODE(0x300d330), "reverse", "foo/foo", "namespace", ...) called at /home/sand/src/perl/repoperls/installed-perls/perl/v5.19.9-250-gc27d84d/127e/lib/site_perl/5.19.10/x86_64-linux-ld/Class/MOP/Method/Wrapped.pm line 163
	Class::MOP::Method::Wrapped::__ANON__(TestAppREST::Controller::Foo=HASH(0x30bb058), "name", "foo", "code", CODE(0x300d330), "reverse", "foo/foo", "namespace", "foo", ...) called at /home/sand/src/perl/repoperls/installed-perls/perl/v5.19.9-250-gc27d84d/127e/lib/site_perl/5.19.10/x86_64-linux-ld/Class/MOP/Method/Wrapped.pm line 92
	Catalyst::Controller::ActionRole::create_action(TestAppREST::Controller::Foo=HASH(0x30bb058), "name", "foo", "code", CODE(0x300d330), "reverse", "foo/foo", "namespace", "foo", ...) called at /home/sand/src/perl/repoperls/installed-perls/perl/v5.19.9-250-gc27d84d/127e/lib/site_perl/5.19.10/Catalyst/Controller.pm line 288
	Catalyst::Controller::register_action_methods(TestAppREST::Controller::Foo=HASH(0x30bb058), "TestAppREST", Moose::Meta::Class::__ANON__::SERIAL::2=HASH(0x30f8138), Moose::Meta::Class::__ANON__::SERIAL::2=HASH(0x3112508), Moose::Meta::Class::__ANON__::SERIAL::2=HASH(0x30ef8f0), Moose::Meta::Class::__ANON__::SERIAL::2=HASH(0x3112118), Moose::Meta::Class::__ANON__::SERIAL::2=HASH(0x30f8270), Moose::Meta::Class::__ANON__::SERIAL::2=HASH(0x311bce8)) called at /home/sand/src/perl/repoperls/installed-perls/perl/v5.19.9-250-gc27d84d/127e/lib/site_perl/5.19.10/Catalyst/Controller.pm line 257
	Catalyst::Controller::register_actions(TestAppREST::Controller::Foo=HASH(0x30bb058), "TestAppREST") called at /home/sand/src/perl/repoperls/installed-perls/perl/v5.19.9-250-gc27d84d/127e/lib/site_perl/5.19.10/Catalyst/Dispatcher.pm line 609
	Catalyst::Dispatcher::setup_actions(Catalyst::Dispatcher=HASH(0x2df86f0), "TestAppREST") called at /home/sand/src/perl/repoperls/installed-perls/perl/v5.19.9-250-gc27d84d/127e/lib/site_perl/5.19.10/Catalyst.pm line 2525
	Catalyst::setup_actions("TestAppREST") called at /home/sand/src/perl/repoperls/installed-perls/perl/v5.19.9-250-gc27d84d/127e/lib/site_perl/5.19.10/Catalyst.pm line 1242
	Catalyst::setup("TestAppREST") called at /tmp/loop_over_bdir-19471-MPnOI6/Catalyst-Controller-ActionRole-0.15-6ZeNK5/t/lib/TestAppREST.pm line 9
	require TestAppREST.pm called at /home/sand/src/perl/repoperls/installed-perls/perl/v5.19.9-250-gc27d84d/127e/lib/site_perl/5.19.10/Module/Runtime.pm line 317
	Module::Runtime::require_module("TestAppREST") called at /home/sand/src/perl/repoperls/installed-perls/perl/v5.19.9-250-gc27d84d/127e/lib/site_perl/5.19.10/Class/Load.pm line 179
	Class::Load::try {...} () called at /home/sand/src/perl/repoperls/installed-perls/perl/v5.19.9-250-gc27d84d/127e/lib/site_perl/5.19.10/Try/Tiny.pm line 77
	eval {...} called at /home/sand/src/perl/repoperls/installed-perls/perl/v5.19.9-250-gc27d84d/127e/lib/site_perl/5.19.10/Try/Tiny.pm line 72
	Try::Tiny::try(CODE(0x278a988), Try::Tiny::Catch=REF(0x2783ce8)) called at /home/sand/src/perl/repoperls/installed-perls/perl/v5.19.9-250-gc27d84d/127e/lib/site_perl/5.19.10/Class/Load.pm line 185
	Class::Load::try_load_class("TestAppREST", undef) called at /home/sand/src/perl/repoperls/installed-perls/perl/v5.19.9-250-gc27d84d/127e/lib/site_perl/5.19.10/Class/Load.pm line 40
	Class::Load::load_class("TestAppREST") called at /home/sand/src/perl/repoperls/installed-perls/perl/v5.19.9-250-gc27d84d/127e/lib/site_perl/5.19.10/Catalyst/Test.pm line 29
	Catalyst::Test::_build_request_export("Catalyst::Test", HASH(0x27f1c58)) called at /home/sand/src/perl/repoperls/installed-perls/perl/v5.19.9-250-gc27d84d/127e/lib/site_perl/5.19.10/Catalyst/Test.pm line 92
	Catalyst::Test::__ANON__("Catalyst::Test", "all", HASH(0x27f1c28), HASH(0x190d1b8)) called at /home/sand/src/perl/repoperls/installed-perls/perl/v5.19.9-250-gc27d84d/127e/lib/site_perl/5.19.10/Sub/Exporter.pm line 108
	Sub::Exporter::_expand_group("Catalyst::Test", HASH(0x27e4428), ARRAY(0x190d4a0), HASH(0x190d1b8), HASH(0x27f1c88), HASH(0x1a69d50)) called at /home/sand/src/perl/repoperls/installed-perls/perl/v5.19.9-250-gc27d84d/127e/lib/site_perl/5.19.10/Sub/Exporter.pm line 39
	Sub::Exporter::_expand_groups("Catalyst::Test", HASH(0x27e4428), ARRAY(0x27f15f8), HASH(0x190d1b8)) called at /home/sand/src/perl/repoperls/installed-perls/perl/v5.19.9-250-gc27d84d/127e/lib/site_perl/5.19.10/Sub/Exporter.pm line 323
	Sub::Exporter::__ANON__("Catalyst::Test", "-all", HASH(0x27571a8)) called at /home/sand/src/perl/repoperls/installed-perls/perl/v5.19.9-250-gc27d84d/127e/lib/site_perl/5.19.10/Catalyst/Test.pm line 155
	Catalyst::Test::import("Catalyst::Test", "TestAppREST") called at t/basic_rest.t line 16
	main::BEGIN() called at /tmp/loop_over_bdir-19471-MPnOI6/Catalyst-Controller-ActionRole-0.15-6ZeNK5/t/lib/TestAppREST.pm line 0
	eval {...} called at /tmp/loop_over_bdir-19471-MPnOI6/Catalyst-Controller-ActionRole-0.15-6ZeNK5/t/lib/TestAppREST.pm line 0
t/basic_rest.t ............ ok
Class::MOP::load_class is deprecated at /home/sand/src/perl/repoperls/installed-perls/perl/v5.19.9-250-gc27d84d/127e/lib/site_perl/5.19.10/x86_64-linux-ld/Class/MOP.pm line 73.
	Class::MOP::load_class("TestApp::ActionRole::Kooh") called at /tmp/loop_over_bdir-19471-MPnOI6/Catalyst-Controller-ActionRole-0.15-6ZeNK5/blib/lib/Catalyst/Controller/ActionRole.pm line 50
	Catalyst::Controller::ActionRole::_build__action_roles(TestApp::Controller::Bar=HASH(0x2d34de8)) called at native delegation method Catalyst::Controller::ActionRole::_action_roles (elements) of attribute _action_roles (defined at /tmp/loop_over_bdir-19471-MPnOI6/Catalyst-Controller-ActionRole-0.15-6ZeNK5/blib/lib/Catalyst/Controller/ActionRole.pm line 37) line 9
	Catalyst::Controller::ActionRole::_action_roles(TestApp::Controller::Bar=HASH(0x2d34de8)) called at /home/sand/src/perl/repoperls/installed-perls/perl/v5.19.9-250-gc27d84d/127e/lib/site_perl/5.19.10/Catalyst/Controller.pm line 84
	Catalyst::Controller::BUILD(TestApp::Controller::Bar=HASH(0x2d34de8), HASH(0x2d30a08)) called at /home/sand/src/perl/repoperls/installed-perls/perl/v5.19.9-250-gc27d84d/127e/lib/site_perl/5.19.10/x86_64-linux-ld/Class/MOP/Method.pm line 128
	Class::MOP::Method::execute(Moose::Meta::Class::__ANON__::SERIAL::7=HASH(0x253a998), TestApp::Controller::Bar=HASH(0x2d34de8), HASH(0x2d30a08)) called at /home/sand/src/perl/repoperls/installed-perls/perl/v5.19.9-250-gc27d84d/127e/lib/site_perl/5.19.10/x86_64-linux-ld/Moose/Object.pm line 56
	Moose::Object::BUILDALL(TestApp::Controller::Bar=HASH(0x2d34de8), HASH(0x2d30a08)) called at /home/sand/src/perl/repoperls/installed-perls/perl/v5.19.9-250-gc27d84d/127e/lib/site_perl/5.19.10/x86_64-linux-ld/Moose/Meta/Class.pm line 282
	Moose::Meta::Class::new_object(Moose::Meta::Class::__ANON__::SERIAL::5=HASH(0x2cfe330), HASH(0x2d30a08)) called at /home/sand/src/perl/repoperls/installed-perls/perl/v5.19.9-250-gc27d84d/127e/lib/site_perl/5.19.10/x86_64-linux-ld/Moose/Object.pm line 27
	Moose::Object::new("TestApp::Controller::Bar", "TestApp", HASH(0x2cbbb60)) called at constructor Catalyst::Controller::new (defined at /home/sand/src/perl/repoperls/installed-perls/perl/v5.19.9-250-gc27d84d/127e/lib/site_perl/5.19.10/Catalyst/Controller.pm line 573) line 4
	Catalyst::Controller::new("TestApp::Controller::Bar", "TestApp", HASH(0x2cbbb60)) called at /home/sand/src/perl/repoperls/installed-perls/perl/v5.19.9-250-gc27d84d/127e/lib/site_perl/5.19.10/Catalyst/Component.pm line 123
	Catalyst::Component::COMPONENT("TestApp::Controller::Bar", "TestApp", HASH(0x2cbbb60)) called at /home/sand/src/perl/repoperls/installed-perls/perl/v5.19.9-250-gc27d84d/127e/lib/site_perl/5.19.10/Catalyst.pm line 2638
	eval {...} called at /home/sand/src/perl/repoperls/installed-perls/perl/v5.19.9-250-gc27d84d/127e/lib/site_perl/5.19.10/Catalyst.pm line 2638
	Catalyst::setup_component("TestApp", "TestApp::Controller::Bar") called at /home/sand/src/perl/repoperls/installed-perls/perl/v5.19.9-250-gc27d84d/127e/lib/site_perl/5.19.10/Catalyst.pm line 2565
	Catalyst::setup_components("TestApp") called at /home/sand/src/perl/repoperls/installed-perls/perl/v5.19.9-250-gc27d84d/127e/lib/site_perl/5.19.10/Catalyst.pm line 1181
	Catalyst::setup("TestApp") called at /tmp/loop_over_bdir-19471-MPnOI6/Catalyst-Controller-ActionRole-0.15-6ZeNK5/t/lib/TestApp.pm line 9
	require TestApp.pm called at /home/sand/src/perl/repoperls/installed-perls/perl/v5.19.9-250-gc27d84d/127e/lib/site_perl/5.19.10/Module/Runtime.pm line 317
	Module::Runtime::require_module("TestApp") called at /home/sand/src/perl/repoperls/installed-perls/perl/v5.19.9-250-gc27d84d/127e/lib/site_perl/5.19.10/Class/Load.pm line 179
	Class::Load::try {...} () called at /home/sand/src/perl/repoperls/installed-perls/perl/v5.19.9-250-gc27d84d/127e/lib/site_perl/5.19.10/Try/Tiny.pm line 77
	eval {...} called at /home/sand/src/perl/repoperls/installed-perls/perl/v5.19.9-250-gc27d84d/127e/lib/site_perl/5.19.10/Try/Tiny.pm line 72
	Try::Tiny::try(CODE(0x1a7d4b8), Try::Tiny::Catch=REF(0x1aece48)) called at /home/sand/src/perl/repoperls/installed-perls/perl/v5.19.9-250-gc27d84d/127e/lib/site_perl/5.19.10/Class/Load.pm line 185
	Class::Load::try_load_class("TestApp", undef) called at /home/sand/src/perl/repoperls/installed-perls/perl/v5.19.9-250-gc27d84d/127e/lib/site_perl/5.19.10/Class/Load.pm line 40
	Class::Load::load_class("TestApp") called at /home/sand/src/perl/repoperls/installed-perls/perl/v5.19.9-250-gc27d84d/127e/lib/site_perl/5.19.10/Catalyst/Test.pm line 29
	Catalyst::Test::_build_request_export("Catalyst::Test", HASH(0xa71470)) called at /home/sand/src/perl/repoperls/installed-perls/perl/v5.19.9-250-gc27d84d/127e/lib/site_perl/5.19.10/Catalyst/Test.pm line 92
	Catalyst::Test::__ANON__("Catalyst::Test", "all", HASH(0xa71440), HASH(0xb38890)) called at /home/sand/src/perl/repoperls/installed-perls/perl/v5.19.9-250-gc27d84d/127e/lib/site_perl/5.19.10/Sub/Exporter.pm line 108
	Sub::Exporter::_expand_group("Catalyst::Test", HASH(0x1df6ae0), ARRAY(0xa50fa0), HASH(0xb38890), HASH(0xa714a0), HASH(0xad9210)) called at /home/sand/src/perl/repoperls/installed-perls/perl/v5.19.9-250-gc27d84d/127e/lib/site_perl/5.19.10/Sub/Exporter.pm line 39
	Sub::Exporter::_expand_groups("Catalyst::Test", HASH(0x1df6ae0), ARRAY(0x1df7428), HASH(0xb38890)) called at /home/sand/src/perl/repoperls/installed-perls/perl/v5.19.9-250-gc27d84d/127e/lib/site_perl/5.19.10/Sub/Exporter.pm line 323
	Sub::Exporter::__ANON__("Catalyst::Test", "-all", HASH(0xa507c0)) called at /home/sand/src/perl/repoperls/installed-perls/perl/v5.19.9-250-gc27d84d/127e/lib/site_perl/5.19.10/Catalyst/Test.pm line 155
	Catalyst::Test::import("Catalyst::Test", "TestApp") called at t/execution-via-config.t line 8
	main::BEGIN() called at /tmp/loop_over_bdir-19471-MPnOI6/Catalyst-Controller-ActionRole-0.15-6ZeNK5/t/lib/TestApp.pm line 0
	eval {...} called at /tmp/loop_over_bdir-19471-MPnOI6/Catalyst-Controller-ActionRole-0.15-6ZeNK5/t/lib/TestApp.pm line 0
Class::MOP::load_first_existing_class is deprecated at /home/sand/src/perl/repoperls/installed-perls/perl/v5.19.9-250-gc27d84d/127e/lib/site_perl/5.19.10/x86_64-linux-ld/Class/MOP.pm line 82.
	Class::MOP::load_first_existing_class("TestApp::ActionRole::Shared", "Catalyst::ActionRole::Shared") called at /tmp/loop_over_bdir-19471-MPnOI6/Catalyst-Controller-ActionRole-0.15-6ZeNK5/blib/lib/Catalyst/Controller/ActionRole.pm line 120
	Catalyst::Controller::ActionRole::__ANON__("Shared") called at /home/sand/src/perl/repoperls/installed-perls/perl/v5.19.9-250-gc27d84d/127e/lib/site_perl/5.19.10/String/RewritePrefix.pm line 44
	String::RewritePrefix::__ANON__("Shared") called at /home/sand/src/perl/repoperls/installed-perls/perl/v5.19.9-250-gc27d84d/127e/lib/site_perl/5.19.10/String/RewritePrefix.pm line 18
	String::RewritePrefix::rewrite("String::RewritePrefix", HASH(0x2d48298), "Shared") called at /tmp/loop_over_bdir-19471-MPnOI6/Catalyst-Controller-ActionRole-0.15-6ZeNK5/blib/lib/Catalyst/Controller/ActionRole.pm line 125
	Catalyst::Controller::ActionRole::_expand_role_shortname(TestApp::Controller::ExecutionViaConfig=HASH(0x2d47e90), "Shared") called at /tmp/loop_over_bdir-19471-MPnOI6/Catalyst-Controller-ActionRole-0.15-6ZeNK5/blib/lib/Catalyst/Controller/ActionRole.pm line 49
	Catalyst::Controller::ActionRole::_build__action_roles(TestApp::Controller::ExecutionViaConfig=HASH(0x2d47e90)) called at native delegation method Catalyst::Controller::ActionRole::_action_roles (elements) of attribute _action_roles (defined at /tmp/loop_over_bdir-19471-MPnOI6/Catalyst-Controller-ActionRole-0.15-6ZeNK5/blib/lib/Catalyst/Controller/ActionRole.pm line 37) line 9
	Catalyst::Controller::ActionRole::_action_roles(TestApp::Controller::ExecutionViaConfig=HASH(0x2d47e90)) called at /home/sand/src/perl/repoperls/installed-perls/perl/v5.19.9-250-gc27d84d/127e/lib/site_perl/5.19.10/Catalyst/Controller.pm line 84
	Catalyst::Controller::BUILD(TestApp::Controller::ExecutionViaConfig=HASH(0x2d47e90), HASH(0x2d45470)) called at /home/sand/src/perl/repoperls/installed-perls/perl/v5.19.9-250-gc27d84d/127e/lib/site_perl/5.19.10/x86_64-linux-ld/Class/MOP/Method.pm line 128
	Class::MOP::Method::execute(Moose::Meta::Class::__ANON__::SERIAL::7=HASH(0x253a998), TestApp::Controller::ExecutionViaConfig=HASH(0x2d47e90), HASH(0x2d45470)) called at /home/sand/src/perl/repoperls/installed-perls/perl/v5.19.9-250-gc27d84d/127e/lib/site_perl/5.19.10/x86_64-linux-ld/Moose/Object.pm line 56
	Moose::Object::BUILDALL(TestApp::Controller::ExecutionViaConfig=HASH(0x2d47e90), HASH(0x2d45470)) called at /home/sand/src/perl/repoperls/installed-perls/perl/v5.19.9-250-gc27d84d/127e/lib/site_perl/5.19.10/x86_64-linux-ld/Moose/Meta/Class.pm line 282
	Moose::Meta::Class::new_object(Moose::Meta::Class::__ANON__::SERIAL::5=HASH(0x2d26af0), HASH(0x2d45470)) called at /home/sand/src/perl/repoperls/installed-perls/perl/v5.19.9-250-gc27d84d/127e/lib/site_perl/5.19.10/x86_64-linux-ld/Moose/Object.pm line 27
	Moose::Object::new("TestApp::Controller::ExecutionViaConfig", "TestApp", HASH(0x2d47b90)) called at constructor Catalyst::Controller::new (defined at /home/sand/src/perl/repoperls/installed-perls/perl/v5.19.9-250-gc27d84d/127e/lib/site_perl/5.19.10/Catalyst/Controller.pm line 573) line 4
	Catalyst::Controller::new("TestApp::Controller::ExecutionViaConfig", "TestApp", HASH(0x2d47b90)) called at /home/sand/src/perl/repoperls/installed-perls/perl/v5.19.9-250-gc27d84d/127e/lib/site_perl/5.19.10/Catalyst/Component.pm line 123
	Catalyst::Component::COMPONENT("TestApp::Controller::ExecutionViaConfig", "TestApp", HASH(0x2d47b90)) called at /home/sand/src/perl/repoperls/installed-perls/perl/v5.19.9-250-gc27d84d/127e/lib/site_perl/5.19.10/Catalyst.pm line 2638
	eval {...} called at /home/sand/src/perl/repoperls/installed-perls/perl/v5.19.9-250-gc27d84d/127e/lib/site_perl/5.19.10/Catalyst.pm line 2638
	Catalyst::setup_component("TestApp", "TestApp::Controller::ExecutionViaConfig") called at /home/sand/src/perl/repoperls/installed-perls/perl/v5.19.9-250-gc27d84d/127e/lib/site_perl/5.19.10/Catalyst.pm line 2565
	Catalyst::setup_components("TestApp") called at /home/sand/src/perl/repoperls/installed-perls/perl/v5.19.9-250-gc27d84d/127e/lib/site_perl/5.19.10/Catalyst.pm line 1181
	Catalyst::setup("TestApp") called at /tmp/loop_over_bdir-19471-MPnOI6/Catalyst-Controller-ActionRole-0.15-6ZeNK5/t/lib/TestApp.pm line 9
	require TestApp.pm called at /home/sand/src/perl/repoperls/installed-perls/perl/v5.19.9-250-gc27d84d/127e/lib/site_perl/5.19.10/Module/Runtime.pm line 317
	Module::Runtime::require_module("TestApp") called at /home/sand/src/perl/repoperls/installed-perls/perl/v5.19.9-250-gc27d84d/127e/lib/site_perl/5.19.10/Class/Load.pm line 179
	Class::Load::try {...} () called at /home/sand/src/perl/repoperls/installed-perls/perl/v5.19.9-250-gc27d84d/127e/lib/site_perl/5.19.10/Try/Tiny.pm line 77
	eval {...} called at /home/sand/src/perl/repoperls/installed-perls/perl/v5.19.9-250-gc27d84d/127e/lib/site_perl/5.19.10/Try/Tiny.pm line 72
	Try::Tiny::try(CODE(0x1a7d4b8), Try::Tiny::Catch=REF(0x1aece48)) called at /home/sand/src/perl/repoperls/installed-perls/perl/v5.19.9-250-gc27d84d/127e/lib/site_perl/5.19.10/Class/Load.pm line 185
	Class::Load::try_load_class("TestApp", undef) called at /home/sand/src/perl/repoperls/installed-perls/perl/v5.19.9-250-gc27d84d/127e/lib/site_perl/5.19.10/Class/Load.pm line 40
	Class::Load::load_class("TestApp") called at /home/sand/src/perl/repoperls/installed-perls/perl/v5.19.9-250-gc27d84d/127e/lib/site_perl/5.19.10/Catalyst/Test.pm line 29
	Catalyst::Test::_build_request_export("Catalyst::Test", HASH(0xa71470)) called at /home/sand/src/perl/repoperls/installed-perls/perl/v5.19.9-250-gc27d84d/127e/lib/site_perl/5.19.10/Catalyst/Test.pm line 92
	Catalyst::Test::__ANON__("Catalyst::Test", "all", HASH(0xa71440), HASH(0xb38890)) called at /home/sand/src/perl/repoperls/installed-perls/perl/v5.19.9-250-gc27d84d/127e/lib/site_perl/5.19.10/Sub/Exporter.pm line 108
	Sub::Exporter::_expand_group("Catalyst::Test", HASH(0x1df6ae0), ARRAY(0xa50fa0), HASH(0xb38890), HASH(0xa714a0), HASH(0xad9210)) called at /home/sand/src/perl/repoperls/installed-perls/perl/v5.19.9-250-gc27d84d/127e/lib/site_perl/5.19.10/Sub/Exporter.pm line 39
	Sub::Exporter::_expand_groups("Catalyst::Test", HASH(0x1df6ae0), ARRAY(0x1df7428), HASH(0xb38890)) called at /home/sand/src/perl/repoperls/installed-perls/perl/v5.19.9-250-gc27d84d/127e/lib/site_perl/5.19.10/Sub/Exporter.pm line 323
	Sub::Exporter::__ANON__("Catalyst::Test", "-all", HASH(0xa507c0)) called at /home/sand/src/perl/repoperls/installed-perls/perl/v5.19.9-250-gc27d84d/127e/lib/site_perl/5.19.10/Catalyst/Test.pm line 155
	Catalyst::Test::import("Catalyst::Test", "TestApp") called at t/execution-via-config.t line 8
	main::BEGIN() called at /tmp/loop_over_bdir-19471-MPnOI6/Catalyst-Controller-ActionRole-0.15-6ZeNK5/t/lib/TestApp.pm line 0
	eval {...} called at /tmp/loop_over_bdir-19471-MPnOI6/Catalyst-Controller-ActionRole-0.15-6ZeNK5/t/lib/TestApp.pm line 0
t/execution-via-config.t .. ok
Class::MOP::load_class is deprecated at /home/sand/src/perl/repoperls/installed-perls/perl/v5.19.9-250-gc27d84d/127e/lib/site_perl/5.19.10/x86_64-linux-ld/Class/MOP.pm line 73.
	Class::MOP::load_class("TestApp::ActionRole::Kooh") called at /tmp/loop_over_bdir-19471-MPnOI6/Catalyst-Controller-ActionRole-0.15-6ZeNK5/blib/lib/Catalyst/Controller/ActionRole.pm line 50
	Catalyst::Controller::ActionRole::_build__action_roles(TestApp::Controller::Bar=HASH(0x32f8490)) called at native delegation method Catalyst::Controller::ActionRole::_action_roles (elements) of attribute _action_roles (defined at /tmp/loop_over_bdir-19471-MPnOI6/Catalyst-Controller-ActionRole-0.15-6ZeNK5/blib/lib/Catalyst/Controller/ActionRole.pm line 37) line 9
	Catalyst::Controller::ActionRole::_action_roles(TestApp::Controller::Bar=HASH(0x32f8490)) called at /home/sand/src/perl/repoperls/installed-perls/perl/v5.19.9-250-gc27d84d/127e/lib/site_perl/5.19.10/Catalyst/Controller.pm line 84
	Catalyst::Controller::BUILD(TestApp::Controller::Bar=HASH(0x32f8490), HASH(0x330dee0)) called at /home/sand/src/perl/repoperls/installed-perls/perl/v5.19.9-250-gc27d84d/127e/lib/site_perl/5.19.10/x86_64-linux-ld/Class/MOP/Method.pm line 128
	Class::MOP::Method::execute(Moose::Meta::Class::__ANON__::SERIAL::6=HASH(0x2af6248), TestApp::Controller::Bar=HASH(0x32f8490), HASH(0x330dee0)) called at /home/sand/src/perl/repoperls/installed-perls/perl/v5.19.9-250-gc27d84d/127e/lib/site_perl/5.19.10/x86_64-linux-ld/Moose/Object.pm line 56
	Moose::Object::BUILDALL(TestApp::Controller::Bar=HASH(0x32f8490), HASH(0x330dee0)) called at /home/sand/src/perl/repoperls/installed-perls/perl/v5.19.9-250-gc27d84d/127e/lib/site_perl/5.19.10/x86_64-linux-ld/Moose/Meta/Class.pm line 282
	Moose::Meta::Class::new_object(Moose::Meta::Class::__ANON__::SERIAL::5=HASH(0x32e7f18), HASH(0x330dee0)) called at /home/sand/src/perl/repoperls/installed-perls/perl/v5.19.9-250-gc27d84d/127e/lib/site_perl/5.19.10/x86_64-linux-ld/Moose/Object.pm line 27
	Moose::Object::new("TestApp::Controller::Bar", "TestApp", HASH(0x3298010)) called at constructor Catalyst::Controller::new (defined at /home/sand/src/perl/repoperls/installed-perls/perl/v5.19.9-250-gc27d84d/127e/lib/site_perl/5.19.10/Catalyst/Controller.pm line 573) line 4
	Catalyst::Controller::new("TestApp::Controller::Bar", "TestApp", HASH(0x3298010)) called at /home/sand/src/perl/repoperls/installed-perls/perl/v5.19.9-250-gc27d84d/127e/lib/site_perl/5.19.10/Catalyst/Component.pm line 123
	Catalyst::Component::COMPONENT("TestApp::Controller::Bar", "TestApp", HASH(0x3298010)) called at /home/sand/src/perl/repoperls/installed-perls/perl/v5.19.9-250-gc27d84d/127e/lib/site_perl/5.19.10/Catalyst.pm line 2638
	eval {...} called at /home/sand/src/perl/repoperls/installed-perls/perl/v5.19.9-250-gc27d84d/127e/lib/site_perl/5.19.10/Catalyst.pm line 2638
	Catalyst::setup_component("TestApp", "TestApp::Controller::Bar") called at /home/sand/src/perl/repoperls/installed-perls/perl/v5.19.9-250-gc27d84d/127e/lib/site_perl/5.19.10/Catalyst.pm line 2565
	Catalyst::setup_components("TestApp") called at /home/sand/src/perl/repoperls/installed-perls/perl/v5.19.9-250-gc27d84d/127e/lib/site_perl/5.19.10/Catalyst.pm line 1181
	Catalyst::setup("TestApp") called at /tmp/loop_over_bdir-19471-MPnOI6/Catalyst-Controller-ActionRole-0.15-6ZeNK5/t/lib/TestApp.pm line 9
	require TestApp.pm called at /home/sand/src/perl/repoperls/installed-perls/perl/v5.19.9-250-gc27d84d/127e/lib/site_perl/5.19.10/Module/Runtime.pm line 317
	Module::Runtime::require_module("TestApp") called at /home/sand/src/perl/repoperls/installed-perls/perl/v5.19.9-250-gc27d84d/127e/lib/site_perl/5.19.10/Class/Load.pm line 179
	Class::Load::try {...} () called at /home/sand/src/perl/repoperls/installed-perls/perl/v5.19.9-250-gc27d84d/127e/lib/site_perl/5.19.10/Try/Tiny.pm line 77
	eval {...} called at /home/sand/src/perl/repoperls/installed-perls/perl/v5.19.9-250-gc27d84d/127e/lib/site_perl/5.19.10/Try/Tiny.pm line 72
	Try::Tiny::try(CODE(0x203a4c8), Try::Tiny::Catch=REF(0x20a9018)) called at /home/sand/src/perl/repoperls/installed-perls/perl/v5.19.9-250-gc27d84d/127e/lib/site_perl/5.19.10/Class/Load.pm line 185
	Class::Load::try_load_class("TestApp", undef) called at /home/sand/src/perl/repoperls/installed-perls/perl/v5.19.9-250-gc27d84d/127e/lib/site_perl/5.19.10/Class/Load.pm line 40
	Class::Load::load_class("TestApp") called at /home/sand/src/perl/repoperls/installed-perls/perl/v5.19.9-250-gc27d84d/127e/lib/site_perl/5.19.10/Catalyst/Test.pm line 29
	Catalyst::Test::_build_request_export("Catalyst::Test", HASH(0x102d330)) called at /home/sand/src/perl/repoperls/installed-perls/perl/v5.19.9-250-gc27d84d/127e/lib/site_perl/5.19.10/Catalyst/Test.pm line 92
	Catalyst::Test::__ANON__("Catalyst::Test", "all", HASH(0x102d300), HASH(0x10f42e8)) called at /home/sand/src/perl/repoperls/installed-perls/perl/v5.19.9-250-gc27d84d/127e/lib/site_perl/5.19.10/Sub/Exporter.pm line 108
	Sub::Exporter::_expand_group("Catalyst::Test", HASH(0x23b3d60), ARRAY(0x100ce60), HASH(0x10f42e8), HASH(0x102d360), HASH(0x1148188)) called at /home/sand/src/perl/repoperls/installed-perls/perl/v5.19.9-250-gc27d84d/127e/lib/site_perl/5.19.10/Sub/Exporter.pm line 39
	Sub::Exporter::_expand_groups("Catalyst::Test", HASH(0x23b3d60), ARRAY(0x23b46a8), HASH(0x10f42e8)) called at /home/sand/src/perl/repoperls/installed-perls/perl/v5.19.9-250-gc27d84d/127e/lib/site_perl/5.19.10/Sub/Exporter.pm line 323
	Sub::Exporter::__ANON__("Catalyst::Test", "-all", HASH(0x100c680)) called at /home/sand/src/perl/repoperls/installed-perls/perl/v5.19.9-250-gc27d84d/127e/lib/site_perl/5.19.10/Catalyst/Test.pm line 155
	Catalyst::Test::import("Catalyst::Test", "TestApp") called at t/execution-via-does.t line 8
	main::BEGIN() called at /tmp/loop_over_bdir-19471-MPnOI6/Catalyst-Controller-ActionRole-0.15-6ZeNK5/t/lib/TestApp.pm line 0
	eval {...} called at /tmp/loop_over_bdir-19471-MPnOI6/Catalyst-Controller-ActionRole-0.15-6ZeNK5/t/lib/TestApp.pm line 0
Class::MOP::load_first_existing_class is deprecated at /home/sand/src/perl/repoperls/installed-perls/perl/v5.19.9-250-gc27d84d/127e/lib/site_perl/5.19.10/x86_64-linux-ld/Class/MOP.pm line 82.
	Class::MOP::load_first_existing_class("TestApp::ActionRole::Shared", "Catalyst::ActionRole::Shared") called at /tmp/loop_over_bdir-19471-MPnOI6/Catalyst-Controller-ActionRole-0.15-6ZeNK5/blib/lib/Catalyst/Controller/ActionRole.pm line 120
	Catalyst::Controller::ActionRole::__ANON__("Shared") called at /home/sand/src/perl/repoperls/installed-perls/perl/v5.19.9-250-gc27d84d/127e/lib/site_perl/5.19.10/String/RewritePrefix.pm line 44
	String::RewritePrefix::__ANON__("Shared") called at /home/sand/src/perl/repoperls/installed-perls/perl/v5.19.9-250-gc27d84d/127e/lib/site_perl/5.19.10/String/RewritePrefix.pm line 18
	String::RewritePrefix::rewrite("String::RewritePrefix", HASH(0x3324828), "Shared") called at /tmp/loop_over_bdir-19471-MPnOI6/Catalyst-Controller-ActionRole-0.15-6ZeNK5/blib/lib/Catalyst/Controller/ActionRole.pm line 125
	Catalyst::Controller::ActionRole::_expand_role_shortname(TestApp::Controller::ExecutionViaConfig=HASH(0x3324420), "Shared") called at /tmp/loop_over_bdir-19471-MPnOI6/Catalyst-Controller-ActionRole-0.15-6ZeNK5/blib/lib/Catalyst/Controller/ActionRole.pm line 49
	Catalyst::Controller::ActionRole::_build__action_roles(TestApp::Controller::ExecutionViaConfig=HASH(0x3324420)) called at native delegation method Catalyst::Controller::ActionRole::_action_roles (elements) of attribute _action_roles (defined at /tmp/loop_over_bdir-19471-MPnOI6/Catalyst-Controller-ActionRole-0.15-6ZeNK5/blib/lib/Catalyst/Controller/ActionRole.pm line 37) line 9
	Catalyst::Controller::ActionRole::_action_roles(TestApp::Controller::ExecutionViaConfig=HASH(0x3324420)) called at /home/sand/src/perl/repoperls/installed-perls/perl/v5.19.9-250-gc27d84d/127e/lib/site_perl/5.19.10/Catalyst/Controller.pm line 84
	Catalyst::Controller::BUILD(TestApp::Controller::ExecutionViaConfig=HASH(0x3324420), HASH(0x3321c10)) called at /home/sand/src/perl/repoperls/installed-perls/perl/v5.19.9-250-gc27d84d/127e/lib/site_perl/5.19.10/x86_64-linux-ld/Class/MOP/Method.pm line 128
	Class::MOP::Method::execute(Moose::Meta::Class::__ANON__::SERIAL::6=HASH(0x2af6248), TestApp::Controller::ExecutionViaConfig=HASH(0x3324420), HASH(0x3321c10)) called at /home/sand/src/perl/repoperls/installed-perls/perl/v5.19.9-250-gc27d84d/127e/lib/site_perl/5.19.10/x86_64-linux-ld/Moose/Object.pm line 56
	Moose::Object::BUILDALL(TestApp::Controller::ExecutionViaConfig=HASH(0x3324420), HASH(0x3321c10)) called at /home/sand/src/perl/repoperls/installed-perls/perl/v5.19.9-250-gc27d84d/127e/lib/site_perl/5.19.10/x86_64-linux-ld/Moose/Meta/Class.pm line 282
	Moose::Meta::Class::new_object(Moose::Meta::Class::__ANON__::SERIAL::5=HASH(0x3302d58), HASH(0x3321c10)) called at /home/sand/src/perl/repoperls/installed-perls/perl/v5.19.9-250-gc27d84d/127e/lib/site_perl/5.19.10/x86_64-linux-ld/Moose/Object.pm line 27
	Moose::Object::new("TestApp::Controller::ExecutionViaConfig", "TestApp", HASH(0x3324108)) called at constructor Catalyst::Controller::new (defined at /home/sand/src/perl/repoperls/installed-perls/perl/v5.19.9-250-gc27d84d/127e/lib/site_perl/5.19.10/Catalyst/Controller.pm line 573) line 4
	Catalyst::Controller::new("TestApp::Controller::ExecutionViaConfig", "TestApp", HASH(0x3324108)) called at /home/sand/src/perl/repoperls/installed-perls/perl/v5.19.9-250-gc27d84d/127e/lib/site_perl/5.19.10/Catalyst/Component.pm line 123
	Catalyst::Component::COMPONENT("TestApp::Controller::ExecutionViaConfig", "TestApp", HASH(0x3324108)) called at /home/sand/src/perl/repoperls/installed-perls/perl/v5.19.9-250-gc27d84d/127e/lib/site_perl/5.19.10/Catalyst.pm line 2638
	eval {...} called at /home/sand/src/perl/repoperls/installed-perls/perl/v5.19.9-250-gc27d84d/127e/lib/site_perl/5.19.10/Catalyst.pm line 2638
	Catalyst::setup_component("TestApp", "TestApp::Controller::ExecutionViaConfig") called at /home/sand/src/perl/repoperls/installed-perls/perl/v5.19.9-250-gc27d84d/127e/lib/site_perl/5.19.10/Catalyst.pm line 2565
	Catalyst::setup_components("TestApp") called at /home/sand/src/perl/repoperls/installed-perls/perl/v5.19.9-250-gc27d84d/127e/lib/site_perl/5.19.10/Catalyst.pm line 1181
	Catalyst::setup("TestApp") called at /tmp/loop_over_bdir-19471-MPnOI6/Catalyst-Controller-ActionRole-0.15-6ZeNK5/t/lib/TestApp.pm line 9
	require TestApp.pm called at /home/sand/src/perl/repoperls/installed-perls/perl/v5.19.9-250-gc27d84d/127e/lib/site_perl/5.19.10/Module/Runtime.pm line 317
	Module::Runtime::require_module("TestApp") called at /home/sand/src/perl/repoperls/installed-perls/perl/v5.19.9-250-gc27d84d/127e/lib/site_perl/5.19.10/Class/Load.pm line 179
	Class::Load::try {...} () called at /home/sand/src/perl/repoperls/installed-perls/perl/v5.19.9-250-gc27d84d/127e/lib/site_perl/5.19.10/Try/Tiny.pm line 77
	eval {...} called at /home/sand/src/perl/repoperls/installed-perls/perl/v5.19.9-250-gc27d84d/127e/lib/site_perl/5.19.10/Try/Tiny.pm line 72
	Try::Tiny::try(CODE(0x203a4c8), Try::Tiny::Catch=REF(0x20a9018)) called at /home/sand/src/perl/repoperls/installed-perls/perl/v5.19.9-250-gc27d84d/127e/lib/site_perl/5.19.10/Class/Load.pm line 185
	Class::Load::try_load_class("TestApp", undef) called at /home/sand/src/perl/repoperls/installed-perls/perl/v5.19.9-250-gc27d84d/127e/lib/site_perl/5.19.10/Class/Load.pm line 40
	Class::Load::load_class("TestApp") called at /home/sand/src/perl/repoperls/installed-perls/perl/v5.19.9-250-gc27d84d/127e/lib/site_perl/5.19.10/Catalyst/Test.pm line 29
	Catalyst::Test::_build_request_export("Catalyst::Test", HASH(0x102d330)) called at /home/sand/src/perl/repoperls/installed-perls/perl/v5.19.9-250-gc27d84d/127e/lib/site_perl/5.19.10/Catalyst/Test.pm line 92
	Catalyst::Test::__ANON__("Catalyst::Test", "all", HASH(0x102d300), HASH(0x10f42e8)) called at /home/sand/src/perl/repoperls/installed-perls/perl/v5.19.9-250-gc27d84d/127e/lib/site_perl/5.19.10/Sub/Exporter.pm line 108
	Sub::Exporter::_expand_group("Catalyst::Test", HASH(0x23b3d60), ARRAY(0x100ce60), HASH(0x10f42e8), HASH(0x102d360), HASH(0x1148188)) called at /home/sand/src/perl/repoperls/installed-perls/perl/v5.19.9-250-gc27d84d/127e/lib/site_perl/5.19.10/Sub/Exporter.pm line 39
	Sub::Exporter::_expand_groups("Catalyst::Test", HASH(0x23b3d60), ARRAY(0x23b46a8), HASH(0x10f42e8)) called at /home/sand/src/perl/repoperls/installed-perls/perl/v5.19.9-250-gc27d84d/127e/lib/site_perl/5.19.10/Sub/Exporter.pm line 323
	Sub::Exporter::__ANON__("Catalyst::Test", "-all", HASH(0x100c680)) called at /home/sand/src/perl/repoperls/installed-perls/perl/v5.19.9-250-gc27d84d/127e/lib/site_perl/5.19.10/Catalyst/Test.pm line 155
	Catalyst::Test::import("Catalyst::Test", "TestApp") called at t/execution-via-does.t line 8
	main::BEGIN() called at /tmp/loop_over_bdir-19471-MPnOI6/Catalyst-Controller-ActionRole-0.15-6ZeNK5/t/lib/TestApp.pm line 0
	eval {...} called at /tmp/loop_over_bdir-19471-MPnOI6/Catalyst-Controller-ActionRole-0.15-6ZeNK5/t/lib/TestApp.pm line 0
t/execution-via-does.t .... ok
t/release-eol.t ........... skipped: these tests are for release candidate testing
t/release-no-tabs.t ....... skipped: these tests are for release candidate testing
t/release-pod-coverage.t .. skipped: these tests are for release candidate testing
t/release-pod-syntax.t .... skipped: these tests are for release candidate testing
All tests successful.
Files=9, Tests=43,  3 wallclock secs ( 0.04 usr  0.01 sys +  3.36 cusr  0.16 csys =  3.57 CPU)
Result: PASS

------------------------------
PREREQUISITES
------------------------------

Prerequisite modules loaded:

requires:

    Module                 Need    Have    
    ---------------------- ------- --------
    Catalyst::Controller   0       0       
    Catalyst::Runtime      5.80025 5.90061 
    Catalyst::Utils        0       0       
    Class::MOP             0       2.1204  
    List::Util             0       1.38    
    Moose                  0       2.1204  
    Moose::Meta::Class     0       2.1204  
    MooseX::Types::Moose   0       0.44    
    namespace::clean       0       0.25    
    String::RewritePrefix  0.004   0.007   

build_requires:

    Module                 Need    Have    
    ---------------------- ------- --------
    Catalyst               0       5.90061 
    Catalyst::Action       0       0       
    Catalyst::Action::REST 0       1.14    
    Catalyst::Test         0       0       
    FindBin                0       1.51    
    Moose::Role            0       2.1204  
    parent                 0       0.228   
    Test::More             0       1.001002

configure_requires:

    Module                 Need    Have    
    ---------------------- ------- --------
    ExtUtils::MakeMaker    6.31    6.92    


------------------------------
ENVIRONMENT AND OTHER CONTEXT
------------------------------

Environment variables:

    AUTOMATED_TESTING = 1
    LANG = en_US.UTF-8
    LANGUAGE = en_US:en
    PATH = /usr/lib/ccache:/home/sand/bin:/usr/local/bin:/usr/bin:/bin:/usr/games:/usr/local/perl/bin:/usr/X11/bin:/sbin:/usr/sbin
    PERL = /tmp/basesmoker-reloperl-ynps/bin/perl
    PERL5LIB = 
    PERL5OPT = 
    PERL5_CPANPLUS_IS_RUNNING = 19476
    PERL5_CPAN_IS_RUNNING = 19476
    PERL_MM_USE_DEFAULT = 1
    SHELL = /usr/bin/zsh
    TERM = screen

Perl special variables (and OS-specific diagnostics, for MSWin32):

    $^X = /tmp/basesmoker-reloperl-ynps/bin/perl
    $UID/$EUID = 1005 / 1005
    $GID = 1005 1005
    $EGID = 1005 1005

Perl module toolchain versions installed:

    Module              Have    
    ------------------- --------
    CPAN                2.00    
    CPAN::Meta          2.140640
    Cwd                 3.47    
    ExtUtils::CBuilder  0.280216
    ExtUtils::Command   1.18    
    ExtUtils::Install   1.63    
    ExtUtils::MakeMaker 6.92    
    ExtUtils::Manifest  1.63    
    ExtUtils::ParseXS   3.24    
    File::Spec          3.47    
    JSON                2.90    
    JSON::PP            2.27203 
    Module::Build       0.4205  
    Module::Signature   0.73    
    Parse::CPAN::Meta   1.4414  
    Test::Harness       3.30    
    Test::More          1.001002
    YAML                0.90    
    YAML::Syck          1.27    
    version             0.9908  


--

Summary of my perl5 (revision 5 version 19 subversion 10) configuration:
  Commit id: c27d84d919f5c9d4d5292351d434abd2f16e2358
  Platform:
    osname=linux, osvers=3.13-1-amd64, archname=x86_64-linux-ld
    uname='linux k83 3.13-1-amd64 #1 smp debian 3.13.6-1 (2014-03-19) x86_64 gnulinux '
    config_args='-Dprefix=/home/sand/src/perl/repoperls/installed-perls/perl/v5.19.9-250-gc27d84d/127e -Dmyhostname=k83 -Dinstallusrbinperl=n -Uversiononly -Dusedevel -des -Ui_db -Uuseithreads -Duselongdouble -DDEBUGGING=-g'
    hint=recommended, useposix=true, d_sigaction=define
    useithreads=undef, usemultiplicity=undef
    use64bitint=define, use64bitall=define, uselongdouble=define
    usemymalloc=n, bincompat5005=undef
  Compiler:
    cc='cc', ccflags ='-fno-strict-aliasing -pipe -fstack-protector -I/usr/local/include -D_LARGEFILE_SOURCE -D_FILE_OFFSET_BITS=64',
    optimize='-O2 -g',
    cppflags='-fno-strict-aliasing -pipe -fstack-protector -I/usr/local/include'
    ccversion='', gccversion='4.8.2', gccosandvers=''
    intsize=4, longsize=8, ptrsize=8, doublesize=8, byteorder=12345678
    d_longlong=define, longlongsize=8, d_longdbl=define, longdblsize=16
    ivtype='long', ivsize=8, nvtype='long double', nvsize=16, Off_t='off_t', lseeksize=8
    alignbytes=16, prototype=define
  Linker and Libraries:
    ld='cc', ldflags =' -fstack-protector -L/usr/local/lib'
    libpth=/usr/local/lib /usr/lib/gcc/x86_64-linux-gnu/4.8/include-fixed /usr/include/x86_64-linux-gnu /usr/lib /lib/x86_64-linux-gnu /lib/../lib /usr/lib/x86_64-linux-gnu /usr/lib/../lib /lib
    libs=-lnsl -lgdbm -ldb -ldl -lm -lcrypt -lutil -lc -lgdbm_compat
    perllibs=-lnsl -ldl -lm -lcrypt -lutil -lc
    libc=libc-2.18.so, so=so, useshrplib=false, libperl=libperl.a
    gnulibc_version='2.18'
  Dynamic Linking:
    dlsrc=dl_dlopen.xs, dlext=so, d_dlsymun=undef, ccdlflags='-Wl,-E'
    cccdlflags='-fPIC', lddlflags='-shared -O2 -g -L/usr/local/lib -fstack-protector'


Characteristics of this binary (from libperl): 
  Compile-time options: HAS_TIMES PERLIO_LAYERS PERL_DONT_CREATE_GVSV
                        PERL_HASH_FUNC_ONE_AT_A_TIME_HARD PERL_MALLOC_WRAP
                        PERL_NEW_COPY_ON_WRITE PERL_PRESERVE_IVUV
                        PERL_USE_DEVEL USE_64_BIT_ALL USE_64_BIT_INT
                        USE_LARGE_FILES USE_LOCALE USE_LOCALE_COLLATE
                        USE_LOCALE_CTYPE USE_LOCALE_NUMERIC USE_LONG_DOUBLE
                        USE_PERLIO USE_PERL_ATOF
  Built under linux
  Compiled at Mar 20 2014 22:31:56
  %ENV:
    PERL="/tmp/basesmoker-reloperl-ynps/bin/perl"
    PERL5LIB=""
    PERL5OPT=""
    PERL5_CPANPLUS_IS_RUNNING="19476"
    PERL5_CPAN_IS_RUNNING="19476"
    PERL_MM_USE_DEFAULT="1"
  @INC:
    /home/sand/src/perl/repoperls/installed-perls/perl/v5.19.9-250-gc27d84d/127e/lib/site_perl/5.19.10/x86_64-linux-ld
    /home/sand/src/perl/repoperls/installed-perls/perl/v5.19.9-250-gc27d84d/127e/lib/site_perl/5.19.10
    /home/sand/src/perl/repoperls/installed-perls/perl/v5.19.9-250-gc27d84d/127e/lib/5.19.10/x86_64-linux-ld
    /home/sand/src/perl/repoperls/installed-perls/perl/v5.19.9-250-gc27d84d/127e/lib/5.19.10
    .