Report for Perlbal-1.80

Back
From: metabase:user:0b91ce32-3676-11e1-a1bc-bfed0df65b4f
Subject: PASS Perlbal-1.80 v5.16.0 RC0 GNU/Linux
Date: 2012-05-28T19:28:09Z

This distribution has been tested as part of the CPAN Testers
project, supporting the Perl programming language.  See
http://wiki.cpantesters.org/ for more information or email
questions to cpan-testers-discuss@perl.org


--
Dear Alan Kasindorf,

This is a computer-generated report for Perlbal-1.80
on perl 5.16.0, created by CPAN-Reporter-1.2006.

Thank you for uploading your work to CPAN.  Congratulations!
All tests were successful.

Sections of this report:

    * Tester comments
    * Program output
    * Prerequisites
    * Environment and other context

------------------------------
TESTER COMMENTS
------------------------------

Additional comments from tester:

none provided

------------------------------
PROGRAM OUTPUT
------------------------------

Output from '/usr/bin/make test':

PERL_DL_NONLAZY=1 /opt/perl-5.16.0-RC0/bin/perl "-MExtUtils::Command::MM" "-e" "test_harness(0, 'blib/lib', 'blib/arch')" t/*.t
[12:26:21] t/00-use.t ............... ok     3237 ms
[12:26:23] t/10-testharness.t ....... ok     2341 ms
[12:26:24] t/12-headers.t ........... ok      640 ms
[12:26:27] t/13-server-tokens.t ..... ok     2740 ms
[12:26:29] t/15-webserver.t ......... ok     2306 ms
[12:26:31] t/17-webserver-concat.t .. ok     1772 ms
Manage command failed: 'SERVER aio_mode = ioaio' 'ERROR: IO::AIO not available
'
Manage command failed: 'SERVER aio_mode = ioaio' 'ERROR: IO::AIO not available
'
Manage command failed: 'SERVER aio_mode = ioaio' 'ERROR: IO::AIO not available
'
[12:26:33] t/20-put.t ............... ok     2091 ms
# Writing: 500
# Writing: 5
# Writing: 5
# Writing: 5
# Writing: 100000
# Writing: 60000
# Writing: 1000
# Writing: 338485
[12:26:35] t/22-chunked-put.t ....... ok     1679 ms
[12:26:37] t/30-reverseproxy.t ...... ok     2110 ms
[12:27:09] t/31-realworld.t ......... ok    31835 ms
# separator length 2
# separator length 0
500 response!
[12:27:14] t/32-pipelining.t ........ ok     5233 ms
[12:27:16] t/32-selector.t .......... ok     1854 ms
Manage command failed: 'SERVER aio_mode = ioaio' 'ERROR: IO::AIO not available
'
[12:27:20] t/35-reproxy.t ........... ok     3767 ms
Manage command failed: 'SERVER aio_mode = ioaio' 'ERROR: IO::AIO not available
'
Manage command failed: 'SERVER aio_mode = ioaio' 'ERROR: IO::AIO not available
'
[12:27:23] t/40-ranges.t ............ ok     2669 ms
[12:27:33] t/45-buffereduploads.t ... ok    10310 ms
[12:27:34] t/50-plugins.t ........... ok     1120 ms
[12:27:37] t/52-chunked-upload.t .... ok     2636 ms
[12:27:37] t/60-child-httpd.t ....... skipped: Alpha feature; test skipped without $ENV{PERLBAL_TEST_ALPHA}
[12:27:39] t/75-plugin-include.t .... ok     1566 ms
[12:27:41] t/76-plugin-redirect.t ... ok     1320 ms
[12:27:41] t/77-plugin-throttle.t ... ok      758 ms
[12:27:46] t/78-plugin-xffextras.t .. ok     4945 ms
[12:27:47] t/90-accesscontrol.t ..... skipped: Net::Netmask not installed
[12:27:47] t/91-fields.t ............ ok      119 ms
[12:28:02] t/99-benchmark-bool.t .... ok    15646 ms
[12:28:02]
All tests successful.
Files=25, Tests=525, 105 wallclock secs ( 0.32 usr  0.05 sys + 17.09 cusr  1.36 csys = 18.82 CPU)
Result: PASS

------------------------------
PREREQUISITES
------------------------------

Prerequisite modules loaded:

requires:

    Module              Need Have  
    ------------------- ---- ------
    base                0    2.18  
    BSD::Resource       0    1.2904
    Carp                0    1.25  
    constant            0    1.21  
    Danga::Socket       1.44 1.61  
    Errno               0    1.15  
    Exporter            0    5.66  
    Fcntl               0    1.11  
    fields              0    2.16  
    File::Path          0    2.08  
    File::Temp          0    0.22  
    FindBin             0    1.51  
    Getopt::Long        0    2.38  
    Hash::Util          0    0.11  
    HTTP::Date          0    6.02  
    HTTP::Request       0    6.00  
    HTTP::Response      0    6.03  
    IO::File            0    1.14  
    IO::Handle          0    1.28  
    IO::Select          0    1.17  
    IO::Socket::INET    0    1.31  
    lib                 0    0.63  
    LWP::UserAgent      0    6.04  
    Scalar::Util        0    1.25  
    Socket              0    2.001 
    strict              0    1.07  
    Sys::Syscall        0    0.23  
    Test::More          0.94 0.98  
    Time::HiRes         0    1.9725
    vars                0    1.02  
    warnings            0    1.13  

build_requires:

    Module              Need Have  
    ------------------- ---- ------
    ExtUtils::MakeMaker 0    6.62  

configure_requires:

    Module              Need Have  
    ------------------- ---- ------
    ExtUtils::MakeMaker 0    6.62  


------------------------------
ENVIRONMENT AND OTHER CONTEXT
------------------------------

Environment variables:

    AUTHOR_TESTING = 1
    LANG = en_US.UTF-8
    PATH = /usr/kerberos/sbin:/usr/kerberos/bin:/usr/local/sbin:/usr/local/bin:/sbin:/bin:/usr/sbin:/usr/bin:/opt/real/RealPlayer:/root/bin:/opt/real/RealPlayer
    PERL5LIB = 
    PERL5OPT = 
    PERL5_CPANPLUS_IS_RUNNING = 23614
    PERL5_CPAN_IS_RUNNING = 23614
    PERL_AUTOINSTALL = defaultdeps
    PERL_EXTUTILS_AUTOINSTALL = --defaultdeps
    PERL_MM_USE_DEFAULT = 1
    SHELL = /bin/bash
    TERM = xterm

Perl special variables (and OS-specific diagnostics, for MSWin32):

    $^X = /opt/perl-5.16.0-RC0/bin/perl
    $UID/$EUID = 0 / 0
    $GID = 0 0 1 2 3 4 6 10
    $EGID = 0 0 1 2 3 4 6 10

Perl module toolchain versions installed:

    Module              Have    
    ------------------- --------
    CPAN                1.9800  
    CPAN::Meta          2.120921
    Cwd                 3.33    
    ExtUtils::CBuilder  0.280205
    ExtUtils::Command   1.17    
    ExtUtils::Install   1.54    
    ExtUtils::MakeMaker 6.62    
    ExtUtils::Manifest  1.60    
    ExtUtils::ParseXS   3.15    
    File::Spec          3.33    
    JSON                2.53    
    JSON::PP            2.27200 
    Module::Build       0.40    
    Module::Signature   0.68    
    Parse::CPAN::Meta   1.4404  
    Test::Harness       3.23    
    Test::More          0.98    
    YAML                0.81    
    YAML::Syck          1.20    
    version             0.99    


--

Summary of my perl5 (revision 5 version 16 subversion 0) configuration:
   
  Platform:
    osname=linux, osvers=2.6.18-1.2798.fc6, archname=i686-linux-thread-multi-64int-ld
    uname='linux localhost.localdomain 2.6.18-1.2798.fc6 #1 smp mon oct 16 14:37:32 edt 2006 i686 i686 i386 gnulinux '
    config_args='-Dcc=gcc -Dprefix=/opt/perl-5.16.0-RC0 DEBUGGING'
    hint=recommended, useposix=true, d_sigaction=define
    useithreads=define, usemultiplicity=define
    useperlio=define, d_sfio=undef, uselargefiles=define, usesocks=undef
    use64bitint=define, use64bitall=undef, uselongdouble=define
    usemymalloc=n, bincompat5005=undef
  Compiler:
    cc='gcc', ccflags ='-D_REENTRANT -D_GNU_SOURCE -fno-strict-aliasing -pipe -fstack-protector -I/usr/local/include -D_LARGEFILE_SOURCE -D_FILE_OFFSET_BITS=64',
    optimize='-O2',
    cppflags='-D_REENTRANT -D_GNU_SOURCE -fno-strict-aliasing -pipe -fstack-protector -I/usr/local/include'
    ccversion='', gccversion='4.1.1 20061011 (Red Hat 4.1.1-30)', gccosandvers=''
    intsize=4, longsize=4, ptrsize=4, doublesize=8, byteorder=12345678
    d_longlong=define, longlongsize=8, d_longdbl=define, longdblsize=12
    ivtype='long long', ivsize=8, nvtype='long double', nvsize=12, Off_t='off_t', lseeksize=8
    alignbytes=4, prototype=define
  Linker and Libraries:
    ld='gcc', ldflags =' -fstack-protector -L/usr/local/lib'
    libpth=/usr/local/lib /lib /usr/lib
    libs=-lnsl -lgdbm -ldb -ldl -lm -lcrypt -lutil -lpthread -lc
    perllibs=-lnsl -ldl -lm -lcrypt -lutil -lpthread -lc
    libc=/lib/libc-2.5.so, so=so, useshrplib=true, libperl=libperl.so
    gnulibc_version='2.5'
  Dynamic Linking:
    dlsrc=dl_dlopen.xs, dlext=so, d_dlsymun=undef, ccdlflags='-Wl,-E -Wl,-rpath,/opt/perl-5.16.0-RC0/lib/5.16.0/i686-linux-thread-multi-64int-ld/CORE'
    cccdlflags='-fPIC', lddlflags='-shared -O2 -L/usr/local/lib -fstack-protector'


Characteristics of this binary (from libperl): 
  Compile-time options: HAS_TIMES MULTIPLICITY PERLIO_LAYERS
                        PERL_DONT_CREATE_GVSV PERL_IMPLICIT_CONTEXT
                        PERL_MALLOC_WRAP PERL_PRESERVE_IVUV USE_64_BIT_INT
                        USE_FAST_STDIO USE_ITHREADS USE_LARGE_FILES
                        USE_LOCALE USE_LOCALE_COLLATE USE_LOCALE_CTYPE
                        USE_LOCALE_NUMERIC USE_LONG_DOUBLE USE_PERLIO
                        USE_PERL_ATOF USE_REENTRANT_API
  Locally applied patches:
	RC0
  Built under linux
  Compiled at May 12 2012 07:33:22
  %ENV:
    PERL5LIB=""
    PERL5OPT=""
    PERL5_CPANPLUS_IS_RUNNING="23614"
    PERL5_CPAN_IS_RUNNING="23614"
    PERL_AUTOINSTALL="defaultdeps"
    PERL_EXTUTILS_AUTOINSTALL="--defaultdeps"
    PERL_MM_USE_DEFAULT="1"
  @INC:
    /opt/perl-5.16.0-RC0/lib/site_perl/5.16.0/i686-linux-thread-multi-64int-ld
    /opt/perl-5.16.0-RC0/lib/site_perl/5.16.0
    /opt/perl-5.16.0-RC0/lib/5.16.0/i686-linux-thread-multi-64int-ld
    /opt/perl-5.16.0-RC0/lib/5.16.0
    .