Report for Dist-Zilla-Plugin-Bitbucket-0.001

Back
From: metabase:user:314402c4-2aae-11df-837a-5e0a49663a4f
Subject: PASS Dist-Zilla-Plugin-Bitbucket-0.001 v5.10.1 GNU/Linux
Date: 2014-11-04T01:52:38Z

This distribution has been tested as part of the CPAN Testers
project, supporting the Perl programming language.  See
http://wiki.cpantesters.org/ for more information or email
questions to cpan-testers-discuss@perl.org


--
Dear Apocalypse,

This is a computer-generated report for Dist-Zilla-Plugin-Bitbucket-0.001
on perl 5.10.1, created by CPAN-Reporter-1.2011.

Thank you for uploading your work to CPAN.  Congratulations!
All tests were successful.

Sections of this report:

    * Tester comments
    * Program output
    * Prerequisites
    * Environment and other context

------------------------------
TESTER COMMENTS
------------------------------

Additional comments from tester:

none provided

------------------------------
PROGRAM OUTPUT
------------------------------

Output from './Build test':

t/00-compile.t ......... ok
# 
# Versions for all modules listed in MYMETA.json (including optional ones):
# 
# === Configure Requires ===
# 
#     Module               Want  Have
#     ------------------- ----- -----
#     ExtUtils::MakeMaker   any  7.00
#     Module::Build::Tiny 0.039 0.039
# 
# === Test Requires ===
# 
#     Module              Want     Have
#     ------------------- ---- --------
#     ExtUtils::MakeMaker  any     7.00
#     File::Spec           any     3.47
#     File::Temp           any   0.2304
#     IO::Handle           any     1.28
#     IPC::Open3           any     1.04
#     Test::More           any 1.001009
# 
# === Test Recommends ===
# 
#     Module         Want     Have
#     ---------- -------- --------
#     CPAN::Meta 2.120900 2.142690
# 
# === Runtime Requires ===
# 
#     Module                              Want     Have
#     ------------------------------- -------- --------
#     Carp                                 any   1.3301
#     Config::Identity                  0.0018   0.0018
#     Dist::Zilla::Role::AfterMint         any    5.021
#     Dist::Zilla::Role::AfterRelease      any    5.021
#     Dist::Zilla::Role::MetaProvider      any    5.021
#     Dist::Zilla::Role::TextTemplate      any    5.021
#     File::Slurp::Tiny                    any    0.003
#     File::pushd                        1.009    1.009
#     Git::Wrapper                       0.037    0.037
#     HTTP::Tiny                         0.050    0.050
#     JSON::MaybeXS                   1.002006 1.002006
#     MIME::Base64                        3.14     3.14
#     Moose                             2.1400   2.1401
#     Moose::Util::TypeConstraints        1.01   2.1401
#     Try::Tiny                           0.22     0.22
#     strict                               any     1.04
#     warnings                             any     1.06
# 
t/00-report-prereqs.t .. ok
t/apocalypse.t ......... skipped: Test::Apocalypse required for validating the distribution
All tests successful.
Files=3, Tests=6,  1 wallclock secs ( 0.01 usr  0.03 sys +  0.96 cusr  0.18 csys =  1.18 CPU)
Result: PASS

------------------------------
PREREQUISITES
------------------------------

Prerequisite modules loaded:

requires:

    Module                          Need     Have    
    ------------------------------- -------- --------
    Carp                            0        1.3301  
    Config::Identity                0.0018   0.0018  
    Dist::Zilla::Role::AfterMint    0        5.021   
    Dist::Zilla::Role::AfterRelease 0        5.021   
    Dist::Zilla::Role::MetaProvider 0        5.021   
    Dist::Zilla::Role::TextTemplate 0        5.021   
    File::pushd                     1.009    1.009   
    File::Slurp::Tiny               0        0.003   
    Git::Wrapper                    0.037    0.037   
    HTTP::Tiny                      0.050    0.050   
    JSON::MaybeXS                   1.002006 1.002006
    MIME::Base64                    3.14     3.14    
    Moose                           2.1400   2.1401  
    Moose::Util::TypeConstraints    1.01     2.1401  
    perl                            5.006    5.010001
    strict                          0        1.04    
    Try::Tiny                       0.22     0.22    
    warnings                        0        1.06    

build_requires:

    Module                          Need     Have    
    ------------------------------- -------- --------
    ExtUtils::MakeMaker             0        7.00    
    File::Spec                      0        3.47    
    File::Temp                      0        0.2304  
    IO::Handle                      0        1.28    
    IPC::Open3                      0        1.04    
    perl                            5.006    5.010001
    Test::More                      0        1.001009

configure_requires:

    Module                          Need     Have    
    ------------------------------- -------- --------
    ExtUtils::MakeMaker             0        7.00    
    Module::Build::Tiny             0.039    0.039   
    perl                            5.006    5.010001


------------------------------
ENVIRONMENT AND OTHER CONTEXT
------------------------------

Environment variables:

    DBIC_NO_WARN_BAD_PERL = 1
    LANG = C
    LC_ALL = de_DE.UTF-8
    PATH = /usr/local/bin:/usr/bin:/bin:/usr/local/sbin:/usr/sbin:/sbin:/home/eserte/bin/linux-gnu:/home/eserte/bin/sh:/home/eserte/bin:/usr/games:/home/eserte/devel:/home/eserte/src/srezic-misc/scripts
    PERL5LIB = /home/eserte/.cpan/build/Moose-2.1401-7AyBme/blib/arch:/home/eserte/.cpan/build/Moose-2.1401-7AyBme/blib/lib:/home/eserte/.cpan/build/Devel-OverloadInfo-0.002-lYn5ov/blib/arch:/home/eserte/.cpan/build/Devel-OverloadInfo-0.002-lYn5ov/blib/lib:/home/eserte/.cpan/build/HTTP-Tiny-0.050-zjxFtX/blib/arch:/home/eserte/.cpan/build/HTTP-Tiny-0.050-zjxFtX/blib/lib
    PERL5OPT = 
    PERL5_CPANPLUS_IS_RUNNING = 27763
    PERL5_CPAN_IS_RUNNING = 27763
    PERL5_CPAN_IS_RUNNING_IN_RECURSION = 27686,27763
    PERLDOC = -MPod::Perldoc::ToTextOverstrike
    PERL_BATCH = yes
    PERL_CPAN_REPORTER_CONFIG = /var/tmp/cpansmoker-1001/pnGgc6UcBU_config.ini
    PERL_EXTUTILS_AUTOINSTALL = --defaultdeps
    PERL_HTML_DISPLAY_CLASS = HTML::Display::Mozilla
    PERL_PARALLEL_SMOKER = yes
    SHELL = /bin/zsh
    TERM = screen
    TMPDIR = /var/tmp/cpansmoker-1001

Perl special variables (and OS-specific diagnostics, for MSWin32):

    $^X = /bbbike/perl-5.10.1/bin/perl5.10.1
    $UID/$EUID = 1001 / 1001
    $GID = 1001 109 1001
    $EGID = 1001 109 1001

Perl module toolchain versions installed:

    Module              Have    
    ------------------- --------
    CPAN                1.9402  
    CPAN::Meta          2.142690
    Cwd                 3.47    
    ExtUtils::CBuilder  0.280219
    ExtUtils::Command   1.16    
    ExtUtils::Install   2.04    
    ExtUtils::MakeMaker 7.00    
    ExtUtils::Manifest  1.68    
    ExtUtils::ParseXS   3.24    
    File::Spec          3.47    
    JSON                2.90    
    JSON::PP            2.27203 
    Module::Build       0.4210  
    Module::Signature   0.73    
    Parse::CPAN::Meta   1.4414  
    Test::Harness       3.33    
    Test::More          1.001009
    YAML                1.13    
    YAML::Syck          1.27    
    version             0.9909  


--

Summary of my perl5 (revision 5 version 10 subversion 1) configuration:
   
  Platform:
    osname=linux, osvers=3.2.0-4-amd64, archname=x86_64-linux
    uname='linux eserte 3.2.0-4-amd64 #1 smp debian 3.2.60-1+deb7u3 x86_64 gnulinux '
    config_args='-ds -e -Dprefix=/opt/perl-5.10.1'
    hint=recommended, useposix=true, d_sigaction=define
    useithreads=undef, usemultiplicity=undef
    useperlio=define, d_sfio=undef, uselargefiles=define, usesocks=undef
    use64bitint=define, use64bitall=define, uselongdouble=undef
    usemymalloc=n, bincompat5005=undef
  Compiler:
    cc='cc', ccflags ='-fno-strict-aliasing -pipe -fstack-protector -I/usr/local/include -D_LARGEFILE_SOURCE -D_FILE_OFFSET_BITS=64',
    optimize='-O2',
    cppflags='-fno-strict-aliasing -pipe -fstack-protector -I/usr/local/include'
    ccversion='', gccversion='4.7.2', gccosandvers=''
    intsize=4, longsize=8, ptrsize=8, doublesize=8, byteorder=12345678
    d_longlong=define, longlongsize=8, d_longdbl=define, longdblsize=16
    ivtype='long', ivsize=8, nvtype='double', nvsize=8, Off_t='off_t', lseeksize=8
    alignbytes=8, prototype=define
  Linker and Libraries:
    ld='cc', ldflags =' -fstack-protector -L/usr/local/lib'
    libpth=/usr/local/lib /lib/x86_64-linux-gnu /lib/../lib /usr/lib/x86_64-linux-gnu /usr/lib/../lib /lib /usr/lib
    libs=-lnsl -ldb -ldl -lm -lcrypt -lutil -lc
    perllibs=-lnsl -ldl -lm -lcrypt -lutil -lc
    libc=libc-2.13.so, so=so, useshrplib=false, libperl=libperl.a
    gnulibc_version='2.13'
  Dynamic Linking:
    dlsrc=dl_dlopen.xs, dlext=so, d_dlsymun=undef, ccdlflags='-Wl,-E'
    cccdlflags='-fPIC', lddlflags='-shared -O2 -L/usr/local/lib -fstack-protector'


Characteristics of this binary (from libperl): 
  Compile-time options: PERL_DONT_CREATE_GVSV PERL_MALLOC_WRAP USE_64_BIT_ALL
                        USE_64_BIT_INT USE_LARGE_FILES USE_PERLIO
  Built under linux
  Compiled at Aug 18 2014 20:38:33
  %ENV:
    PERL5LIB="/home/eserte/.cpan/build/Moose-2.1401-7AyBme/blib/arch:/home/eserte/.cpan/build/Moose-2.1401-7AyBme/blib/lib:/home/eserte/.cpan/build/Devel-OverloadInfo-0.002-lYn5ov/blib/arch:/home/eserte/.cpan/build/Devel-OverloadInfo-0.002-lYn5ov/blib/lib:/home/eserte/.cpan/build/HTTP-Tiny-0.050-zjxFtX/blib/arch:/home/eserte/.cpan/build/HTTP-Tiny-0.050-zjxFtX/blib/lib"
    PERL5OPT=""
    PERL5_CPANPLUS_IS_RUNNING="27763"
    PERL5_CPAN_IS_RUNNING="27763"
    PERL5_CPAN_IS_RUNNING_IN_RECURSION="27686,27763"
    PERLDOC="-MPod::Perldoc::ToTextOverstrike"
    PERL_BATCH="yes"
    PERL_CPAN_REPORTER_CONFIG="/var/tmp/cpansmoker-1001/pnGgc6UcBU_config.ini"
    PERL_EXTUTILS_AUTOINSTALL="--defaultdeps"
    PERL_HTML_DISPLAY_CLASS="HTML::Display::Mozilla"
    PERL_PARALLEL_SMOKER="yes"
  @INC:
    /home/eserte/.cpan/build/Moose-2.1401-7AyBme/blib/arch
    /home/eserte/.cpan/build/Moose-2.1401-7AyBme/blib/lib
    /home/eserte/.cpan/build/Devel-OverloadInfo-0.002-lYn5ov/blib/arch
    /home/eserte/.cpan/build/Devel-OverloadInfo-0.002-lYn5ov/blib/lib
    /home/eserte/.cpan/build/HTTP-Tiny-0.050-zjxFtX/blib/arch
    /home/eserte/.cpan/build/HTTP-Tiny-0.050-zjxFtX/blib/lib
    /opt/perl-5.10.1/lib/5.10.1/x86_64-linux
    /opt/perl-5.10.1/lib/5.10.1
    /opt/perl-5.10.1/lib/site_perl/5.10.1/x86_64-linux
    /opt/perl-5.10.1/lib/site_perl/5.10.1
    .