Test-Reporter-Transport-Metabase-Fallback v1.001 Perl 5 v5.26.1 OpenBSD.amd64-openbsd
- Status
- Pass
- From
- Alceu Rodrigues de Freitas Junior
- Dist
-
Test-Reporter-Transport-Metabase-Fallback v1.001
- Platform
- Perl 5 v5.26.1 OpenBSD.amd64-openbsd
- Date
- 2018-01-26 18:32:25
- ID
- 415edd4c-02c7-11e8-af6f-94abd6fa0a8b
This distribution has been tested as part of the CPAN Testers
project, supporting the Perl programming language. See
http://wiki.cpantesters.org/ for more information or email
questions to cpan-testers-discuss@perl.org
--
Dear Serguei Trouchelle,
This is a computer-generated report for Test-Reporter-Transport-Metabase-Fallback-1.001
on perl 5.26.1, created by CPAN-Reporter-1.2018.
Thank you for uploading your work to CPAN. Congratulations!
All tests were successful.
Sections of this report:
* Tester comments
* Program output
* Prerequisites
* Environment and other context
------------------------------
TESTER COMMENTS
------------------------------
Additional comments from tester:
this report is from an automated smoke testing program
and was not reviewed by a human for accuracy
------------------------------
PROGRAM OUTPUT
------------------------------
Output from '/usr/bin/make test':
PERL_DL_NONLAZY=1 "/home/goku/perl5/perlbrew/perls/perl-5.26.1/bin/perl" "-MExtUtils::Command::MM" "-MTest::Harness" "-e" "undef *Test::Harness::Switches; test_harness(0, 'blib/lib', 'blib/arch')" t/*.t
Use of uninitialized value in concatenation (.) or string at /home/goku/perl5/perlbrew/perls/perl-5.26.1/lib/site_perl/5.26.1/Metabase/Client/Simple.pm line 243.
Test::Reporter::Transport::Metabase::Fallback Metabase error: fact submission failed: at /home/goku/perl5/perlbrew/perls/perl-5.26.1/lib/site_perl/5.26.1/Metabase/Client/Simple.pm line 129.
Metabase::Client::Simple::submit_fact(Metabase::Client::Simple=HASH(0x9f8889d09e8), CPAN::Testers::Report=HASH(0x9f89cc45478)) called at /home/goku/perl5/perlbrew/perls/perl-5.26.1/lib/site_perl/5.26.1/Test/Reporter/Transport/Metabase.pm line 122
Test::Reporter::Transport::Metabase::send(Test::Reporter::Transport::Metabase=HASH(0x9f808652f88), Test::Reporter=HASH(0x9f8817d7280)) called at /mnt/cpan_build_dir/goku/Test-Reporter-Transport-Metabase-Fallback-1.001-0/blib/lib/Test/Reporter/Transport/Metabase/Fallback.pm line 60
eval {...} called at /mnt/cpan_build_dir/goku/Test-Reporter-Transport-Metabase-Fallback-1.001-0/blib/lib/Test/Reporter/Transport/Metabase/Fallback.pm line 60
Test::Reporter::Transport::Metabase::Fallback::send(Test::Reporter::Transport::Metabase::Fallback=HASH(0x9f808652fa0), Test::Reporter=HASH(0x9f8817d7280)) called at /home/goku/perl5/perlbrew/perls/perl-5.26.1/lib/site_perl/5.26.1/Test/Reporter.pm line 272
eval {...} called at /home/goku/perl5/perlbrew/perls/perl-5.26.1/lib/site_perl/5.26.1/Test/Reporter.pm line 272
Test::Reporter::send(Test::Reporter=HASH(0x9f8817d7280)) called at t/00-use.t line 33
Test::Reporter::Transport::Metabase::Fallback Saving report in the queue.
at /home/goku/perl5/perlbrew/perls/perl-5.26.1/lib/site_perl/5.26.1/Test/Reporter.pm line 272.
t/00-use.t ............. ok
t/author-critic.t ...... skipped: these tests are for testing by the author
t/author-pod-syntax.t .. skipped: these tests are for testing by the author
All tests successful.
Files=3, Tests=7, 2 wallclock secs ( 0.06 usr 0.03 sys + 0.45 cusr 0.22 csys = 0.76 CPU)
Result: PASS
------------------------------
PREREQUISITES
------------------------------
Prerequisite modules loaded:
requires:
Module Need Have
----------------------------------- ---- --------
Carp 0 1.38
Test::Reporter::Transport::File 0 1.62
Test::Reporter::Transport::Metabase 0 1.999010
build_requires:
Module Need Have
----------------------------------- ---- --------
Cwd 0 3.62
ExtUtils::MakeMaker 0 7.31_07
File::Spec 0 3.62
strict 0 1.11
Test::More 0 1.302120
Test::Reporter 0 1.62
configure_requires:
Module Need Have
----------------------------------- ---- --------
ExtUtils::MakeMaker 0 7.31_07
------------------------------
ENVIRONMENT AND OTHER CONTEXT
------------------------------
Environment variables:
AUTOMATED_TESTING = 1
DBD_MYSQL_TESTDB = test
DBD_MYSQL_TESTHOST = localhost
DBD_MYSQL_TESTPASSWORD =
DBD_MYSQL_TESTPORT = 3306
DBD_MYSQL_TESTUSER = goku
EXTENDED_TESTING = 1
PATH = /home/goku/perl5/perlbrew/bin:/home/goku/perl5/perlbrew/perls/perl-5.26.1/bin:/home/goku/bin:/usr/bin:/bin:/usr/sbin:/sbin:/usr/X11R6/bin:/usr/local/bin:/usr/local/sbin
PERL5LIB =
PERL5OPT =
PERL5_CPANPLUS_IS_RUNNING = 9749
PERL5_CPAN_IS_RUNNING = 9749
PERL5_CPAN_IS_RUNNING_IN_RECURSION = 13032,9749
PERLBREW_HOME = /home/goku/.perlbrew
PERLBREW_MANPATH = /home/goku/perl5/perlbrew/perls/perl-5.26.1/man
PERLBREW_PATH = /home/goku/perl5/perlbrew/bin:/home/goku/perl5/perlbrew/perls/perl-5.26.1/bin
PERLBREW_PERL = perl-5.26.1
PERLBREW_ROOT = /home/goku/perl5/perlbrew
PERLBREW_SHELLRC_VERSION = 0.82
PERLBREW_VERSION = 0.82
PERL_CR_SMOKER_CURRENT = Test-Reporter-Transport-Metabase-Fallback-1.001
PERL_EXTUTILS_AUTOINSTALL = --defaultdeps
PERL_MM_USE_DEFAULT = 1
SHELL = /usr/local/bin/bash
TERM = vt220
Perl special variables (and OS-specific diagnostics, for MSWin32):
$^X = /home/goku/perl5/perlbrew/perls/perl-5.26.1/bin/perl
$UID/$EUID = 1001 / 1001
$GID = 998 998 1001
$EGID = 998 998 1001
Perl module toolchain versions installed:
Module Have
------------------- --------
CPAN 2.16
CPAN::Meta 2.150010
Cwd 3.62
ExtUtils::CBuilder 0.280230
ExtUtils::Command 7.31_07
ExtUtils::Install 2.14
ExtUtils::MakeMaker 7.31_07
ExtUtils::Manifest 1.70
ExtUtils::ParseXS 3.35
File::Spec 3.62
JSON 2.97001
JSON::PP 2.97001
Module::Build 0.4224
Module::Signature n/a
Parse::CPAN::Meta 2.150010
Test::Harness 3.39
Test::More 1.302120
YAML 1.24
YAML::Syck 1.30
version 0.9918
--
Summary of my perl5 (revision 5 version 26 subversion 1) configuration:
Platform:
osname=openbsd
osvers=6.2
archname=OpenBSD.amd64-openbsd
uname='openbsd cpan-smoker-openbsd 6.2 generic.mp#134 amd64 '
config_args='-de -Dprefix=/home/goku/perl5/perlbrew/perls/perl-5.26.1 -Aeval:scriptdir=/home/goku/perl5/perlbrew/perls/perl-5.26.1/bin'
hint=recommended
useposix=true
d_sigaction=define
useithreads=undef
usemultiplicity=undef
use64bitint=define
use64bitall=define
uselongdouble=undef
usemymalloc=n
default_inc_excludes_dot=define
bincompat5005=undef
Compiler:
cc='cc'
ccflags ='-fno-strict-aliasing -pipe -fstack-protector-strong -I/usr/local/include -D_FORTIFY_SOURCE=2'
optimize='-O2'
cppflags='-fno-strict-aliasing -pipe -fstack-protector-strong -I/usr/local/include'
ccversion=''
gccversion='4.2.1 Compatible OpenBSD Clang 4.0.0 (tags/RELEASE_400/final)'
gccosandvers=''
intsize=4
longsize=8
ptrsize=8
doublesize=8
byteorder=12345678
doublekind=3
d_longlong=define
longlongsize=8
d_longdbl=define
longdblsize=16
longdblkind=3
ivtype='long'
ivsize=8
nvtype='double'
nvsize=8
Off_t='off_t'
lseeksize=8
alignbytes=8
prototype=define
Linker and Libraries:
ld='cc'
ldflags ='-Wl,-E -fstack-protector-strong -L/usr/local/lib'
libpth=/usr/lib /usr/local/lib
libs=-lpthread -lm -lutil -lc
perllibs=-lpthread -lm -lutil -lc
libc=/usr/lib/libc.so.90.0
so=so
useshrplib=false
libperl=libperl.a
gnulibc_version=''
Dynamic Linking:
dlsrc=dl_dlopen.xs
dlext=so
d_dlsymun=undef
ccdlflags=' '
cccdlflags='-DPIC -fPIC '
lddlflags='-shared -fPIC -L/usr/local/lib -fstack-protector-strong'
Characteristics of this binary (from libperl):
Compile-time options:
HAS_TIMES
PERLIO_LAYERS
PERL_COPY_ON_WRITE
PERL_DONT_CREATE_GVSV
PERL_MALLOC_WRAP
PERL_OP_PARENT
PERL_PRESERVE_IVUV
USE_64_BIT_ALL
USE_64_BIT_INT
USE_LARGE_FILES
USE_LOCALE
USE_LOCALE_COLLATE
USE_LOCALE_CTYPE
USE_LOCALE_NUMERIC
USE_LOCALE_TIME
USE_PERLIO
USE_PERL_ATOF
Locally applied patches:
Devel::PatchPerl 1.48
Built under openbsd
Compiled at Dec 20 2017 18:45:59
%ENV:
PERL5LIB=""
PERL5OPT=""
PERL5_CPANPLUS_IS_RUNNING="9749"
PERL5_CPAN_IS_RUNNING="9749"
PERL5_CPAN_IS_RUNNING_IN_RECURSION="13032,9749"
PERLBREW_HOME="/home/goku/.perlbrew"
PERLBREW_MANPATH="/home/goku/perl5/perlbrew/perls/perl-5.26.1/man"
PERLBREW_PATH="/home/goku/perl5/perlbrew/bin:/home/goku/perl5/perlbrew/perls/perl-5.26.1/bin"
PERLBREW_PERL="perl-5.26.1"
PERLBREW_ROOT="/home/goku/perl5/perlbrew"
PERLBREW_SHELLRC_VERSION="0.82"
PERLBREW_VERSION="0.82"
PERL_CR_SMOKER_CURRENT="Test-Reporter-Transport-Metabase-Fallback-1.001"
PERL_EXTUTILS_AUTOINSTALL="--defaultdeps"
PERL_MM_USE_DEFAULT="1"
@INC:
/home/goku/perl5/perlbrew/perls/perl-5.26.1/lib/site_perl/5.26.1/OpenBSD.amd64-openbsd
/home/goku/perl5/perlbrew/perls/perl-5.26.1/lib/site_perl/5.26.1
/home/goku/perl5/perlbrew/perls/perl-5.26.1/lib/5.26.1/OpenBSD.amd64-openbsd
/home/goku/perl5/perlbrew/perls/perl-5.26.1/lib/5.26.1