Report for IO-Iron-0.09

Back
From: metabase:user:314402c4-2aae-11df-837a-5e0a49663a4f
Subject: PASS IO-Iron-0.09 v5.19.11 FreeBSD
Date: 2014-04-27T06:43:34Z

This distribution has been tested as part of the CPAN Testers
project, supporting the Perl programming language.  See
http://wiki.cpantesters.org/ for more information or email
questions to cpan-testers-discuss@perl.org


--
Dear Mikko Koivunalho,

This is a computer-generated report for IO-Iron-0.09
on perl 5.19.11, created by CPAN-Reporter-1.2011.

Thank you for uploading your work to CPAN.  Congratulations!
All tests were successful.

Sections of this report:

    * Tester comments
    * Program output
    * Prerequisites
    * Environment and other context

------------------------------
TESTER COMMENTS
------------------------------

Additional comments from tester:

none provided

------------------------------
PROGRAM OUTPUT
------------------------------

Output from '/usr/bin/make test':

PERL_DL_NONLAZY=1 /usr/home/eserte/var/ctps/51911/install/perl-5.19.11/bin/perl5.19.11 "-MExtUtils::Command::MM" "-MTest::Harness" "-e" "undef *Test::Harness::Switches; test_harness(0, 'blib/lib', 'blib/arch')" t/*.t t/Iron/*.t t/IronCache/*.t t/IronMQ/*.t t/IronWorker/*.t
t/boilerplate.t ............. ok
# Testing IO::Iron::IronMQ 0.09, Perl 5.019011, /usr/home/eserte/var/ctps/51911/install/perl-5.19.11/bin/perl5.19.11
# test ReadIronMQConfig
# Current dir config filename: ./iron.json
# Extra config filename: t/.IronMQTestConfig.json
t/Iron/client_readconfig.t .. ok
# Testing IO::Iron 0.09, Perl 5.019011, /usr/home/eserte/var/ctps/51911/install/perl-5.19.11/bin/perl5.19.11
t/Iron/load.t ............... ok
# Testing IO::Iron::IronCache 0.09, Perl 5.019011, /usr/home/eserte/var/ctps/51911/install/perl-5.19.11/bin/perl5.19.11
t/IronCache/load.t .......... ok
# Testing IO::Iron::IronMQ 0.09, Perl 5.019011, /usr/home/eserte/var/ctps/51911/install/perl-5.19.11/bin/perl5.19.11
t/IronMQ/load.t ............. ok
# Testing IO::Iron::IronWorker 0.09, Perl 5.019011, /usr/home/eserte/var/ctps/51911/install/perl-5.19.11/bin/perl5.19.11
t/IronWorker/load.t ......... ok
t/release-kwalitee.t ........ skipped: these tests are for release candidate testing
t/release-pod-coverage.t .... skipped: these tests are for release candidate testing
t/release-pod-syntax.t ...... skipped: these tests are for release candidate testing
All tests successful.

Test Summary Report
-------------------
t/boilerplate.t           (Wstat: 0 Tests: 3 Failed: 0)
  TODO passed:   1-3
Files=9, Tests=91,  3 wallclock secs ( 0.09 usr  0.03 sys +  1.05 cusr  0.16 csys =  1.32 CPU)
Result: PASS

------------------------------
PREREQUISITES
------------------------------

Prerequisite modules loaded:

requires:

    Module             Need Have    
    ------------------ ---- --------
    Carp               0    1.3301  
    Carp::Assert       0    0.20    
    Carp::Assert::More 0    1.14    
    constant           0    1.31    
    Data::Dumper       0    2.151   
    Data::UUID         0    1.219   
    English            0    1.09    
    Exception::Class   0    1.37    
    Exporter           0    5.70    
    File::HomeDir      0    1.00    
    File::Slurp        0    9999.19 
    File::Spec         0    3.47    
    Hash::Util         0.06 0.16    
    JSON               0    2.90    
    Log::Any           0    0.15    
    Params::Validate   0    1.08    
    parent             0    0.228   
    REST::Client       0    271     
    Scalar::Util       0    1.38    
    strict             0    1.08    
    Try::Tiny          0    0.21    
    URI::Escape        0    3.31    
    warnings           0    1.23    

build_requires:

    Module             Need Have    
    ------------------ ---- --------
    File::Copy         0    2.29    
    File::Remove       0    1.52    
    Test::More         0    1.001003


------------------------------
ENVIRONMENT AND OTHER CONTEXT
------------------------------

Environment variables:

    DBIC_NO_WARN_BAD_PERL = 1
    PATH = /usr/local/bin:/usr/bin:/bin:/usr/local/sbin:/usr/sbin:/sbin:/home/eserte/bin/freebsd9.1:/home/eserte/bin/sh:/home/eserte/bin:/usr/games:/home/eserte/devel:/usr/home/eserte/src/cpan-testers-parallelsmoker/utils
    PERL5LIB = 
    PERL5OPT = 
    PERL5_CPANPLUS_IS_RUNNING = 82292
    PERL5_CPAN_IS_RUNNING = 82292
    PERL5_CPAN_IS_RUNNING_IN_RECURSION = 32281,82292
    PERLDOC = -MPod::Perldoc::ToTextOverstrike
    PERL_BATCH = yes
    PERL_CPAN_REPORTER_DIR = /home/eserte/var/ctps/51911/config/perl-5.19.11/cpanreporter
    PERL_EXTUTILS_AUTOINSTALL = --defaultdeps
    PERL_HTML_DISPLAY_CLASS = HTML::Display::Mozilla
    PERL_PARALLEL_SMOKER = yes
    PERL_TEST_UNPATCHED = 1
    PERL_TEST_UNPATCHED = 1
    SHELL = /usr/local/bin/zsh
    TERM = xterm
    TMPDIR = /var/tmp/cpansmoker-1000

Perl special variables (and OS-specific diagnostics, for MSWin32):

    $^X = /usr/home/eserte/var/ctps/51911/install/perl-5.19.11/bin/perl5.19.11
    $UID/$EUID = 1000 / 1000
    $GID = 1000 1000 0 5
    $EGID = 1000 1000 0 5

Perl module toolchain versions installed:

    Module              Have    
    ------------------- --------
    CPAN                2.05    
    CPAN::Meta          2.140640
    Cwd                 3.47    
    ExtUtils::CBuilder  0.280216
    ExtUtils::Command   1.18    
    ExtUtils::Install   1.67    
    ExtUtils::MakeMaker 6.96    
    ExtUtils::Manifest  1.63    
    ExtUtils::ParseXS   3.24    
    File::Spec          3.47    
    JSON                2.90    
    JSON::PP            2.27203 
    Module::Build       0.4205  
    Module::Signature   n/a     
    Parse::CPAN::Meta   1.4414  
    Test::Harness       3.30    
    Test::More          1.001003
    YAML                0.90    
    YAML::Syck          1.27    
    version             0.9908  


--

Summary of my perl5 (revision 5 version 19 subversion 11) configuration:
   
  Platform:
    osname=freebsd, osvers=9.2-release, archname=amd64-freebsd
    uname='freebsd cvrsnica-freebsd-92-ctps-51911.herceg.de 9.2-release freebsd 9.2-release #0 r255898: thu sep 26 22:50:31 utc 2013 root@bake.isc.freebsd.org:usrobjusrsrcsysgeneric amd64 '
    config_args='-ds -e -Uversiononly -Dinstallusrbinperl=n -Dusedevel -Dprefix=/home/eserte/var/ctps/51911/install/perl-5.19.11'
    hint=recommended, useposix=true, d_sigaction=define
    useithreads=undef, usemultiplicity=undef
    use64bitint=define, use64bitall=define, uselongdouble=undef
    usemymalloc=n, bincompat5005=undef
  Compiler:
    cc='cc', ccflags ='-DHAS_FPSETMASK -DHAS_FLOATINGPOINT_H -fno-strict-aliasing -pipe -fstack-protector -I/usr/local/include',
    optimize='-O',
    cppflags='-DHAS_FPSETMASK -DHAS_FLOATINGPOINT_H -fno-strict-aliasing -pipe -fstack-protector -I/usr/local/include'
    ccversion='', gccversion='4.2.1 20070831 patched [FreeBSD]', gccosandvers=''
    intsize=4, longsize=8, ptrsize=8, doublesize=8, byteorder=12345678
    d_longlong=define, longlongsize=8, d_longdbl=define, longdblsize=16
    ivtype='long', ivsize=8, nvtype='double', nvsize=8, Off_t='off_t', lseeksize=8
    alignbytes=8, prototype=define
  Linker and Libraries:
    ld='cc', ldflags ='-Wl,-E  -fstack-protector -L/usr/local/lib'
    libpth=/usr/lib /usr/local/lib /usr/include/gcc/4.2 /usr/lib
    libs=-lgdbm -lm -lcrypt -lutil -lc
    perllibs=-lm -lcrypt -lutil -lc
    libc=, so=so, useshrplib=false, libperl=libperl.a
    gnulibc_version=''
  Dynamic Linking:
    dlsrc=dl_dlopen.xs, dlext=so, d_dlsymun=undef, ccdlflags=' '
    cccdlflags='-DPIC -fPIC', lddlflags='-shared  -L/usr/local/lib -fstack-protector'


Characteristics of this binary (from libperl): 
  Compile-time options: HAS_TIMES PERLIO_LAYERS PERL_DONT_CREATE_GVSV
                        PERL_HASH_FUNC_ONE_AT_A_TIME_HARD PERL_MALLOC_WRAP
                        PERL_NEW_COPY_ON_WRITE PERL_PRESERVE_IVUV
                        PERL_USE_DEVEL USE_64_BIT_ALL USE_64_BIT_INT
                        USE_LARGE_FILES USE_LOCALE USE_LOCALE_COLLATE
                        USE_LOCALE_CTYPE USE_LOCALE_NUMERIC USE_PERLIO
                        USE_PERL_ATOF
  Built under freebsd
  Compiled at Apr 25 2014 08:05:33
  %ENV:
    PERL5LIB=""
    PERL5OPT=""
    PERL5_CPANPLUS_IS_RUNNING="82292"
    PERL5_CPAN_IS_RUNNING="82292"
    PERL5_CPAN_IS_RUNNING_IN_RECURSION="32281,82292"
    PERLDOC="-MPod::Perldoc::ToTextOverstrike"
    PERL_BATCH="yes"
    PERL_CPAN_REPORTER_DIR="/home/eserte/var/ctps/51911/config/perl-5.19.11/cpanreporter"
    PERL_EXTUTILS_AUTOINSTALL="--defaultdeps"
    PERL_HTML_DISPLAY_CLASS="HTML::Display::Mozilla"
    PERL_PARALLEL_SMOKER="yes"
    PERL_TEST_UNPATCHED="1"
  @INC:
    /home/eserte/var/ctps/51911/install/perl-5.19.11/lib/site_perl/5.19.11/amd64-freebsd
    /home/eserte/var/ctps/51911/install/perl-5.19.11/lib/site_perl/5.19.11
    /home/eserte/var/ctps/51911/install/perl-5.19.11/lib/5.19.11/amd64-freebsd
    /home/eserte/var/ctps/51911/install/perl-5.19.11/lib/5.19.11
    .