Report for Catalyst-ActionRole-NotCacheableHeaders-0.02

Back
From: metabase:user:314402c4-2aae-11df-837a-5e0a49663a4f
Subject: PASS Catalyst-ActionRole-NotCacheableHeaders-0.02 v5.19.11 GNU/Linux
Date: 2014-05-02T10:41:01Z

This distribution has been tested as part of the CPAN Testers
project, supporting the Perl programming language.  See
http://wiki.cpantesters.org/ for more information or email
questions to cpan-testers-discuss@perl.org


--
Dear Alex J. G. Burzynski,

This is a computer-generated report for Catalyst-ActionRole-NotCacheableHeaders-0.02
on perl 5.19.11, created by CPAN-Reporter-1.2011.

Thank you for uploading your work to CPAN.  Congratulations!
All tests were successful.

Sections of this report:

    * Tester comments
    * Program output
    * Prerequisites
    * Environment and other context

------------------------------
TESTER COMMENTS
------------------------------

Additional comments from tester:

none provided

------------------------------
PROGRAM OUTPUT
------------------------------

Output from './Build test':

t/00-compile.t ............ ok
# Testing Catalyst::ActionRole::NotCacheableHeaders 0.02, Perl 5.019011, /bbbike/ctps/51911linux/install/perl-5.19.11/bin/perl
t/00-load.t ............... ok
Class::MOP::load_first_existing_class is deprecated at /home/eserte/var/ctps/51911linux/install/perl-5.19.11/lib/site_perl/5.19.11/x86_64-linux/Class/MOP.pm line 82.
	Class::MOP::load_first_existing_class("TestApp::ActionRole::NotCacheableHeaders", "Catalyst::ActionRole::NotCacheableHeaders") called at /home/eserte/var/ctps/51911linux/install/perl-5.19.11/lib/site_perl/5.19.11/Catalyst/Controller/ActionRole.pm line 120
	Catalyst::Controller::ActionRole::__ANON__("NotCacheableHeaders") called at /home/eserte/var/ctps/51911linux/install/perl-5.19.11/lib/site_perl/5.19.11/String/RewritePrefix.pm line 44
	String::RewritePrefix::__ANON__("NotCacheableHeaders") called at /home/eserte/var/ctps/51911linux/install/perl-5.19.11/lib/site_perl/5.19.11/String/RewritePrefix.pm line 18
	String::RewritePrefix::rewrite("String::RewritePrefix", HASH(0x32c99d0), "NotCacheableHeaders") called at /home/eserte/var/ctps/51911linux/install/perl-5.19.11/lib/site_perl/5.19.11/Catalyst/Controller/ActionRole.pm line 125
	Catalyst::Controller::ActionRole::_expand_role_shortname(TestApp::Controller::NotCacheableWithActionRoles=HASH(0x32bffe8), "NotCacheableHeaders") called at /home/eserte/var/ctps/51911linux/install/perl-5.19.11/lib/site_perl/5.19.11/Catalyst/Controller/ActionRole.pm line 49
	Catalyst::Controller::ActionRole::_build__action_roles(TestApp::Controller::NotCacheableWithActionRoles=HASH(0x32bffe8)) called at native delegation method Catalyst::Controller::ActionRole::_action_roles (elements) of attribute _action_roles (defined at /home/eserte/var/ctps/51911linux/install/perl-5.19.11/lib/site_perl/5.19.11/Catalyst/Controller/ActionRole.pm line 37) line 9
	Catalyst::Controller::ActionRole::_action_roles(TestApp::Controller::NotCacheableWithActionRoles=HASH(0x32bffe8)) called at /home/eserte/var/ctps/51911linux/install/perl-5.19.11/lib/site_perl/5.19.11/Catalyst/Controller.pm line 84
	Catalyst::Controller::BUILD(TestApp::Controller::NotCacheableWithActionRoles=HASH(0x32bffe8), HASH(0x32c1870)) called at /home/eserte/var/ctps/51911linux/install/perl-5.19.11/lib/site_perl/5.19.11/x86_64-linux/Class/MOP/Method.pm line 128
	Class::MOP::Method::execute(Moose::Meta::Class::__ANON__::SERIAL::7=HASH(0x2aef6b0), TestApp::Controller::NotCacheableWithActionRoles=HASH(0x32bffe8), HASH(0x32c1870)) called at /home/eserte/var/ctps/51911linux/install/perl-5.19.11/lib/site_perl/5.19.11/x86_64-linux/Moose/Object.pm line 56
	Moose::Object::BUILDALL(TestApp::Controller::NotCacheableWithActionRoles=HASH(0x32bffe8), HASH(0x32c1870)) called at /home/eserte/var/ctps/51911linux/install/perl-5.19.11/lib/site_perl/5.19.11/x86_64-linux/Moose/Meta/Class.pm line 282
	Moose::Meta::Class::new_object(Moose::Meta::Class::__ANON__::SERIAL::5=HASH(0x3298f70), HASH(0x32c1870)) called at /home/eserte/var/ctps/51911linux/install/perl-5.19.11/lib/site_perl/5.19.11/x86_64-linux/Moose/Object.pm line 27
	Moose::Object::new("TestApp::Controller::NotCacheableWithActionRoles", "TestApp", HASH(0x32c1678)) called at constructor Catalyst::Controller::new (defined at /home/eserte/var/ctps/51911linux/install/perl-5.19.11/lib/site_perl/5.19.11/Catalyst/Controller.pm line 573) line 4
	Catalyst::Controller::new("TestApp::Controller::NotCacheableWithActionRoles", "TestApp", HASH(0x32c1678)) called at /home/eserte/var/ctps/51911linux/install/perl-5.19.11/lib/site_perl/5.19.11/Catalyst/Component.pm line 123
	Catalyst::Component::COMPONENT("TestApp::Controller::NotCacheableWithActionRoles", "TestApp", HASH(0x32c1678)) called at /home/eserte/var/ctps/51911linux/install/perl-5.19.11/lib/site_perl/5.19.11/Catalyst.pm line 2638
	eval {...} called at /home/eserte/var/ctps/51911linux/install/perl-5.19.11/lib/site_perl/5.19.11/Catalyst.pm line 2638
	Catalyst::setup_component("TestApp", "TestApp::Controller::NotCacheableWithActionRoles") called at /home/eserte/var/ctps/51911linux/install/perl-5.19.11/lib/site_perl/5.19.11/Catalyst.pm line 2565
	Catalyst::setup_components("TestApp") called at /home/eserte/var/ctps/51911linux/install/perl-5.19.11/lib/site_perl/5.19.11/Catalyst.pm line 1181
	Catalyst::setup("TestApp") called at t/lib/TestApp.pm line 9
	require TestApp.pm called at /home/eserte/var/ctps/51911linux/install/perl-5.19.11/lib/site_perl/5.19.11/Module/Runtime.pm line 317
	Module::Runtime::require_module("TestApp") called at /home/eserte/var/ctps/51911linux/install/perl-5.19.11/lib/site_perl/5.19.11/Class/Load.pm line 179
	Class::Load::try {...} () called at /home/eserte/var/ctps/51911linux/install/perl-5.19.11/lib/site_perl/5.19.11/Try/Tiny.pm line 77
	eval {...} called at /home/eserte/var/ctps/51911linux/install/perl-5.19.11/lib/site_perl/5.19.11/Try/Tiny.pm line 72
	Try::Tiny::try(CODE(0x201d3a0), Try::Tiny::Catch=REF(0x201d5b0)) called at /home/eserte/var/ctps/51911linux/install/perl-5.19.11/lib/site_perl/5.19.11/Class/Load.pm line 185
	Class::Load::try_load_class("TestApp", undef) called at /home/eserte/var/ctps/51911linux/install/perl-5.19.11/lib/site_perl/5.19.11/Class/Load.pm line 40
	Class::Load::load_class("TestApp") called at /home/eserte/var/ctps/51911linux/install/perl-5.19.11/lib/site_perl/5.19.11/Catalyst/Test.pm line 29
	Catalyst::Test::_build_request_export("Catalyst::Test", HASH(0x23d9fe8)) called at /home/eserte/var/ctps/51911linux/install/perl-5.19.11/lib/site_perl/5.19.11/Catalyst/Test.pm line 92
	Catalyst::Test::__ANON__("Catalyst::Test", "all", HASH(0x23d9fb8), HASH(0x10c8c80)) called at /home/eserte/var/ctps/51911linux/install/perl-5.19.11/lib/site_perl/5.19.11/Sub/Exporter.pm line 108
	Sub::Exporter::_expand_group("Catalyst::Test", HASH(0x23cc848), ARRAY(0x10c8f20), HASH(0x10c8c80), HASH(0x23da018), HASH(0x10c8c68)) called at /home/eserte/var/ctps/51911linux/install/perl-5.19.11/lib/site_perl/5.19.11/Sub/Exporter.pm line 39
	Sub::Exporter::_expand_groups("Catalyst::Test", HASH(0x23cc848), ARRAY(0x23d9988), HASH(0x10c8c80)) called at /home/eserte/var/ctps/51911linux/install/perl-5.19.11/lib/site_perl/5.19.11/Sub/Exporter.pm line 323
	Sub::Exporter::__ANON__("Catalyst::Test", "-all", HASH(0x125bcf0)) called at /home/eserte/var/ctps/51911linux/install/perl-5.19.11/lib/site_perl/5.19.11/Catalyst/Test.pm line 155
	Catalyst::Test::import("Catalyst::Test", "TestApp") called at t/notcachable-headers.t line 8
	main::BEGIN() called at t/lib/TestApp.pm line 0
	eval {...} called at t/lib/TestApp.pm line 0
Class::MOP::load_class is deprecated at /home/eserte/var/ctps/51911linux/install/perl-5.19.11/lib/site_perl/5.19.11/x86_64-linux/Class/MOP.pm line 73.
	Class::MOP::load_class("Catalyst::ActionRole::NotCacheableHeaders") called at /home/eserte/var/ctps/51911linux/install/perl-5.19.11/lib/site_perl/5.19.11/Catalyst/Controller/ActionRole.pm line 50
	Catalyst::Controller::ActionRole::_build__action_roles(TestApp::Controller::NotCacheableWithActionRoles=HASH(0x32bffe8)) called at native delegation method Catalyst::Controller::ActionRole::_action_roles (elements) of attribute _action_roles (defined at /home/eserte/var/ctps/51911linux/install/perl-5.19.11/lib/site_perl/5.19.11/Catalyst/Controller/ActionRole.pm line 37) line 9
	Catalyst::Controller::ActionRole::_action_roles(TestApp::Controller::NotCacheableWithActionRoles=HASH(0x32bffe8)) called at /home/eserte/var/ctps/51911linux/install/perl-5.19.11/lib/site_perl/5.19.11/Catalyst/Controller.pm line 84
	Catalyst::Controller::BUILD(TestApp::Controller::NotCacheableWithActionRoles=HASH(0x32bffe8), HASH(0x32c1870)) called at /home/eserte/var/ctps/51911linux/install/perl-5.19.11/lib/site_perl/5.19.11/x86_64-linux/Class/MOP/Method.pm line 128
	Class::MOP::Method::execute(Moose::Meta::Class::__ANON__::SERIAL::7=HASH(0x2aef6b0), TestApp::Controller::NotCacheableWithActionRoles=HASH(0x32bffe8), HASH(0x32c1870)) called at /home/eserte/var/ctps/51911linux/install/perl-5.19.11/lib/site_perl/5.19.11/x86_64-linux/Moose/Object.pm line 56
	Moose::Object::BUILDALL(TestApp::Controller::NotCacheableWithActionRoles=HASH(0x32bffe8), HASH(0x32c1870)) called at /home/eserte/var/ctps/51911linux/install/perl-5.19.11/lib/site_perl/5.19.11/x86_64-linux/Moose/Meta/Class.pm line 282
	Moose::Meta::Class::new_object(Moose::Meta::Class::__ANON__::SERIAL::5=HASH(0x3298f70), HASH(0x32c1870)) called at /home/eserte/var/ctps/51911linux/install/perl-5.19.11/lib/site_perl/5.19.11/x86_64-linux/Moose/Object.pm line 27
	Moose::Object::new("TestApp::Controller::NotCacheableWithActionRoles", "TestApp", HASH(0x32c1678)) called at constructor Catalyst::Controller::new (defined at /home/eserte/var/ctps/51911linux/install/perl-5.19.11/lib/site_perl/5.19.11/Catalyst/Controller.pm line 573) line 4
	Catalyst::Controller::new("TestApp::Controller::NotCacheableWithActionRoles", "TestApp", HASH(0x32c1678)) called at /home/eserte/var/ctps/51911linux/install/perl-5.19.11/lib/site_perl/5.19.11/Catalyst/Component.pm line 123
	Catalyst::Component::COMPONENT("TestApp::Controller::NotCacheableWithActionRoles", "TestApp", HASH(0x32c1678)) called at /home/eserte/var/ctps/51911linux/install/perl-5.19.11/lib/site_perl/5.19.11/Catalyst.pm line 2638
	eval {...} called at /home/eserte/var/ctps/51911linux/install/perl-5.19.11/lib/site_perl/5.19.11/Catalyst.pm line 2638
	Catalyst::setup_component("TestApp", "TestApp::Controller::NotCacheableWithActionRoles") called at /home/eserte/var/ctps/51911linux/install/perl-5.19.11/lib/site_perl/5.19.11/Catalyst.pm line 2565
	Catalyst::setup_components("TestApp") called at /home/eserte/var/ctps/51911linux/install/perl-5.19.11/lib/site_perl/5.19.11/Catalyst.pm line 1181
	Catalyst::setup("TestApp") called at t/lib/TestApp.pm line 9
	require TestApp.pm called at /home/eserte/var/ctps/51911linux/install/perl-5.19.11/lib/site_perl/5.19.11/Module/Runtime.pm line 317
	Module::Runtime::require_module("TestApp") called at /home/eserte/var/ctps/51911linux/install/perl-5.19.11/lib/site_perl/5.19.11/Class/Load.pm line 179
	Class::Load::try {...} () called at /home/eserte/var/ctps/51911linux/install/perl-5.19.11/lib/site_perl/5.19.11/Try/Tiny.pm line 77
	eval {...} called at /home/eserte/var/ctps/51911linux/install/perl-5.19.11/lib/site_perl/5.19.11/Try/Tiny.pm line 72
	Try::Tiny::try(CODE(0x201d3a0), Try::Tiny::Catch=REF(0x201d5b0)) called at /home/eserte/var/ctps/51911linux/install/perl-5.19.11/lib/site_perl/5.19.11/Class/Load.pm line 185
	Class::Load::try_load_class("TestApp", undef) called at /home/eserte/var/ctps/51911linux/install/perl-5.19.11/lib/site_perl/5.19.11/Class/Load.pm line 40
	Class::Load::load_class("TestApp") called at /home/eserte/var/ctps/51911linux/install/perl-5.19.11/lib/site_perl/5.19.11/Catalyst/Test.pm line 29
	Catalyst::Test::_build_request_export("Catalyst::Test", HASH(0x23d9fe8)) called at /home/eserte/var/ctps/51911linux/install/perl-5.19.11/lib/site_perl/5.19.11/Catalyst/Test.pm line 92
	Catalyst::Test::__ANON__("Catalyst::Test", "all", HASH(0x23d9fb8), HASH(0x10c8c80)) called at /home/eserte/var/ctps/51911linux/install/perl-5.19.11/lib/site_perl/5.19.11/Sub/Exporter.pm line 108
	Sub::Exporter::_expand_group("Catalyst::Test", HASH(0x23cc848), ARRAY(0x10c8f20), HASH(0x10c8c80), HASH(0x23da018), HASH(0x10c8c68)) called at /home/eserte/var/ctps/51911linux/install/perl-5.19.11/lib/site_perl/5.19.11/Sub/Exporter.pm line 39
	Sub::Exporter::_expand_groups("Catalyst::Test", HASH(0x23cc848), ARRAY(0x23d9988), HASH(0x10c8c80)) called at /home/eserte/var/ctps/51911linux/install/perl-5.19.11/lib/site_perl/5.19.11/Sub/Exporter.pm line 323
	Sub::Exporter::__ANON__("Catalyst::Test", "-all", HASH(0x125bcf0)) called at /home/eserte/var/ctps/51911linux/install/perl-5.19.11/lib/site_perl/5.19.11/Catalyst/Test.pm line 155
	Catalyst::Test::import("Catalyst::Test", "TestApp") called at t/notcachable-headers.t line 8
	main::BEGIN() called at t/lib/TestApp.pm line 0
	eval {...} called at t/lib/TestApp.pm line 0
t/notcachable-headers.t ... ok
t/release-eol.t ........... skipped: these tests are for release candidate testing
t/release-kwalitee.t ...... skipped: these tests are for release candidate testing
t/release-no-tabs.t ....... skipped: these tests are for release candidate testing
t/release-pod-coverage.t .. skipped: these tests are for release candidate testing
t/release-pod-syntax.t .... skipped: these tests are for release candidate testing
t/release-portability.t ... skipped: these tests are for release candidate testing
All tests successful.
Files=9, Tests=39,  6 wallclock secs ( 0.04 usr  0.06 sys +  1.66 cusr  0.22 csys =  1.98 CPU)
Result: PASS

------------------------------
PREREQUISITES
------------------------------

Prerequisite modules loaded:

requires:

    Module                           Need   Have  
    -------------------------------- ------ ------
    Catalyst::Controller::ActionRole 0.15   0.15  
    HTTP::Date                       0      6.02  
    Moose                            0.90   2.1205

build_requires:

    Module                           Need   Have  
    -------------------------------- ------ ------
    DateTime::Format::DateParse      0.05   0.05  
    Module::Build                    0.3601 0.4205

configure_requires:

    Module                           Need   Have  
    -------------------------------- ------ ------
    ExtUtils::MakeMaker              6.31   6.98  
    Module::Build                    0.3601 0.4205


------------------------------
ENVIRONMENT AND OTHER CONTEXT
------------------------------

Environment variables:

    DBIC_NO_WARN_BAD_PERL = 1
    LANG = C
    PATH = /usr/local/bin:/usr/bin:/bin:/usr/local/sbin:/usr/sbin:/sbin:/home/eserte/bin/linux-gnu:/home/eserte/bin/sh:/home/eserte/bin:/usr/games:/home/eserte/devel:/home/eserte/src/cpan-testers-parallelsmoker/utils/synced
    PERL5LIB = 
    PERL5OPT = 
    PERL5_CPANPLUS_IS_RUNNING = 14400
    PERL5_CPAN_IS_RUNNING = 14400
    PERL5_CPAN_IS_RUNNING_IN_RECURSION = 22522,14400
    PERLDOC = -MPod::Perldoc::ToTextOverstrike
    PERL_BATCH = yes
    PERL_CPAN_REPORTER_CONFIG = /var/tmp/cpansmoker-1001/hXKCKMSBzm_config.ini
    PERL_CPAN_REPORTER_DIR = /home/eserte/var/ctps/51911linux/config/perl-5.19.11/cpanreporter
    PERL_EXTUTILS_AUTOINSTALL = --defaultdeps
    PERL_HTML_DISPLAY_CLASS = HTML::Display::Mozilla
    PERL_PARALLEL_SMOKER = yes
    PERL_TEST_UNPATCHED = 1
    PERL_TEST_UNPATCHED = 1
    SHELL = /usr/bin/zsh
    TERM = xterm
    TMPDIR = /var/tmp/cpansmoker-1001

Perl special variables (and OS-specific diagnostics, for MSWin32):

    $^X = /bbbike/ctps/51911linux/install/perl-5.19.11/bin/perl
    $UID/$EUID = 1001 / 1001
    $GID = 1001 109 1001
    $EGID = 1001 109 1001

Perl module toolchain versions installed:

    Module              Have    
    ------------------- --------
    CPAN                2.05    
    CPAN::Meta          2.141170
    Cwd                 3.47    
    ExtUtils::CBuilder  0.280216
    ExtUtils::Command   1.18    
    ExtUtils::Install   1.67    
    ExtUtils::MakeMaker 6.98    
    ExtUtils::Manifest  1.63    
    ExtUtils::ParseXS   3.24    
    File::Spec          3.47    
    JSON                2.90    
    JSON::PP            2.27203 
    Module::Build       0.4205  
    Module::Signature   0.73    
    Parse::CPAN::Meta   1.4414  
    Test::Harness       3.30    
    Test::More          1.001003
    YAML                0.90    
    YAML::Syck          1.27    
    version             0.9908  


--

Summary of my perl5 (revision 5 version 19 subversion 11) configuration:
   
  Platform:
    osname=linux, osvers=2.6.32-5-xen-amd64, archname=x86_64-linux
    uname='linux eserte 2.6.32-5-xen-amd64 #1 smp mon sep 23 23:29:01 utc 2013 x86_64 gnulinux '
    config_args='-ds -e -Uversiononly -Dinstallusrbinperl=n -Dusedevel -Dprefix=/home/eserte/var/ctps/51911linux/install/perl-5.19.11'
    hint=recommended, useposix=true, d_sigaction=define
    useithreads=undef, usemultiplicity=undef
    use64bitint=define, use64bitall=define, uselongdouble=undef
    usemymalloc=n, bincompat5005=undef
  Compiler:
    cc='cc', ccflags ='-fwrapv -fno-strict-aliasing -pipe -fstack-protector -I/usr/local/include -D_LARGEFILE_SOURCE -D_FILE_OFFSET_BITS=64',
    optimize='-O2',
    cppflags='-fwrapv -fno-strict-aliasing -pipe -fstack-protector -I/usr/local/include'
    ccversion='', gccversion='4.4.5', gccosandvers=''
    intsize=4, longsize=8, ptrsize=8, doublesize=8, byteorder=12345678
    d_longlong=define, longlongsize=8, d_longdbl=define, longdblsize=16
    ivtype='long', ivsize=8, nvtype='double', nvsize=8, Off_t='off_t', lseeksize=8
    alignbytes=8, prototype=define
  Linker and Libraries:
    ld='cc', ldflags =' -fstack-protector -L/usr/local/lib'
    libpth=/usr/local/lib /usr/lib/gcc/x86_64-linux-gnu/4.4.5/include-fixed /usr/lib /lib/../lib /usr/lib/../lib /lib /lib64 /usr/lib64
    libs=-lnsl -ldb -ldl -lm -lcrypt -lutil -lc
    perllibs=-lnsl -ldl -lm -lcrypt -lutil -lc
    libc=libc-2.11.3.so, so=so, useshrplib=false, libperl=libperl.a
    gnulibc_version='2.11.3'
  Dynamic Linking:
    dlsrc=dl_dlopen.xs, dlext=so, d_dlsymun=undef, ccdlflags='-Wl,-E'
    cccdlflags='-fPIC', lddlflags='-shared -O2 -L/usr/local/lib -fstack-protector'


Characteristics of this binary (from libperl): 
  Compile-time options: HAS_TIMES PERLIO_LAYERS PERL_DONT_CREATE_GVSV
                        PERL_HASH_FUNC_ONE_AT_A_TIME_HARD PERL_MALLOC_WRAP
                        PERL_NEW_COPY_ON_WRITE PERL_PRESERVE_IVUV
                        PERL_USE_DEVEL USE_64_BIT_ALL USE_64_BIT_INT
                        USE_LARGE_FILES USE_LOCALE USE_LOCALE_COLLATE
                        USE_LOCALE_CTYPE USE_LOCALE_NUMERIC USE_PERLIO
                        USE_PERL_ATOF
  Built under linux
  Compiled at Apr 26 2014 15:05:12
  %ENV:
    PERL5LIB=""
    PERL5OPT=""
    PERL5_CPANPLUS_IS_RUNNING="14400"
    PERL5_CPAN_IS_RUNNING="14400"
    PERL5_CPAN_IS_RUNNING_IN_RECURSION="22522,14400"
    PERLDOC="-MPod::Perldoc::ToTextOverstrike"
    PERL_BATCH="yes"
    PERL_CPAN_REPORTER_CONFIG="/var/tmp/cpansmoker-1001/hXKCKMSBzm_config.ini"
    PERL_CPAN_REPORTER_DIR="/home/eserte/var/ctps/51911linux/config/perl-5.19.11/cpanreporter"
    PERL_EXTUTILS_AUTOINSTALL="--defaultdeps"
    PERL_HTML_DISPLAY_CLASS="HTML::Display::Mozilla"
    PERL_PARALLEL_SMOKER="yes"
    PERL_TEST_UNPATCHED="1"
  @INC:
    /home/eserte/var/ctps/51911linux/install/perl-5.19.11/lib/site_perl/5.19.11/x86_64-linux
    /home/eserte/var/ctps/51911linux/install/perl-5.19.11/lib/site_perl/5.19.11
    /home/eserte/var/ctps/51911linux/install/perl-5.19.11/lib/5.19.11/x86_64-linux
    /home/eserte/var/ctps/51911linux/install/perl-5.19.11/lib/5.19.11
    .