Report for Internals-CountObjects-0.05

Back
From: metabase:user:322078bc-2aae-11df-837a-5e0a49663a4f
Subject: PASS Internals-CountObjects-0.05 v5.10.0 Dragonfly BSD
Date: 2011-06-14T02:16:04Z

This distribution has been tested as part of the CPAN Testers
project, supporting the Perl programming language.  See
http://wiki.cpantesters.org/ for more information or email
questions to cpan-testers-discuss@perl.org


--

Dear JJORE,

This is a computer-generated error report created automatically by
CPANPLUS, version 0.9105. Testers personal comments may appear
at the end of this report.

MAKE TEST passed: PERL_DL_NONLAZY=1 /usr/home/cpan/pit/bare/perl-5.10.0/bin/perl "-MExtUtils::Command::MM" "-e" "test_harness(0, 'blib/lib', 'blib/arch')" t/*.t
# $objects1 = {
#               'ARRAY' => 1277,
#               'CODE' => 349,
#               'Config' => 1,
#               'Does::Not::Exist' => 1,
#               'FORMAT' => 2,
#               'GLOB' => 689,
#               'HASH' => 114,
#               'IO::Handle' => 6,
#               'LVALUE' => 5,
#               'REF' => 140,
#               'Test::Builder' => 1,
#               'double' => 1,
#               'integer' => 5578,
#               'scalar + misc magic' => 223,
#               'string' => 2749,
#               'string/double' => 765,
#               'string/integer' => 9,
#               'undef' => 8435,
#               'version' => 14
#             };
t/basic.t ................. ok
t/release-pod-coverage.t .. skipped: these tests are for release candidate testing
t/release-pod-syntax.t .... skipped: these tests are for release candidate testing
All tests successful.
Files=3, Tests=4,  1 wallclock secs ( 0.04 usr  0.09 sys +  0.05 cusr  0.18 csys =  0.36 CPU)
Result: PASS

[MSG] [Tue Jun 14 03:15:35 2011] Sending test report for 'Internals-CountObjects-0.05'

This report was machine-generated by CPANPLUS::Dist::YACSmoke 0.62.
Powered by minismokebox version 0.54

------------------------------
ENVIRONMENT AND OTHER CONTEXT
------------------------------

Environment variables:

    AUTOMATED_TESTING = 1
    PATH = /sbin:/bin:/usr/sbin:/usr/bin:/usr/games:/usr/pkg/sbin:/usr/pkg/bin:/usr/pkg/xorg/bin:/usr/local/sbin:/usr/local/bin:/home/cpan/bin
    PERL5LIB = :/usr/home/cpan/pit/bare/conf/perl-5.10.0/.cpanplus/5.10.0/build/Internals-CountObjects-0.05/blib/lib:/usr/home/cpan/pit/bare/conf/perl-5.10.0/.cpanplus/5.10.0/build/Internals-CountObjects-0.05/blib/arch
    PERL5_CPANPLUS_IS_RUNNING = 67825
    PERL5_CPANPLUS_IS_VERSION = 0.9105
    PERL5_MINISMOKEBOX = 0.54
    PERL5_YACSMOKE_BASE = /usr/home/cpan/pit/bare/conf/perl-5.10.0
    PERL_EXTUTILS_AUTOINSTALL = --defaultdeps
    PERL_MM_USE_DEFAULT = 1
    SHELL = /usr/pkg/bin/bash
    TERM = screen

Perl special variables (and OS-specific diagnostics, for MSWin32):

    Perl: $^X = /usr/home/cpan/pit/bare/perl-5.10.0/bin/perl
    UID:  $<  = 1002
    EUID: $>  = 1002
    GID:  $(  = 1003 1003
    EGID: $)  = 1003 1003


-------------------------------


--

Summary of my perl5 (revision 5 version 10 subversion 0) configuration:
  Platform:
    osname=dragonfly, osvers=2.10-release, archname=x86_64-dragonfly
    uname='dragonfly donkey.bingosnet.co.uk 2.10-release dragonfly v2.10.1.1.gf7ba0-release #3: mon apr 25 12:49:45 pdt 2011 root@pkgbox64.dragonflybsd.org:usrobjusrsrcsysx86_64_generic x86_64 '
    config_args='-des -Dprefix=/usr/home/cpan/pit/bare/perl-5.10.0'
    hint=recommended, useposix=true, d_sigaction=define
    useithreads=undef, usemultiplicity=undef
    useperlio=define, d_sfio=undef, uselargefiles=define, usesocks=undef
    use64bitint=define, use64bitall=define, uselongdouble=undef
    usemymalloc=n, bincompat5005=undef
  Compiler:
    cc='cc', ccflags ='-DHAS_FPSETMASK -DHAS_FLOATINGPOINT_H -fno-strict-aliasing -pipe -I/usr/local/include',
    optimize='-O',
    cppflags='-DHAS_FPSETMASK -DHAS_FLOATINGPOINT_H -fno-strict-aliasing -pipe -I/usr/local/include'
    ccversion='', gccversion='4.4.5', gccosandvers=''
    intsize=4, longsize=8, ptrsize=8, doublesize=8, byteorder=12345678
    d_longlong=define, longlongsize=8, d_longdbl=define, longdblsize=16
    ivtype='long', ivsize=8, nvtype='double', nvsize=8, Off_t='off_t', lseeksize=8
    alignbytes=8, prototype=define
  Linker and Libraries:
    ld='cc', ldflags ='-Wl,-E  -L/usr/local/lib'
    libpth=/usr/lib /usr/local/lib
    libs=-lgdbm -lm -lcrypt -lutil -lc
    perllibs=-lm -lcrypt -lutil -lc
    libc=, so=so, useshrplib=false, libperl=libperl.a
    gnulibc_version=''
  Dynamic Linking:
    dlsrc=dl_dlopen.xs, dlext=so, d_dlsymun=undef, ccdlflags=' '
    cccdlflags='-DPIC -fPIC', lddlflags='-shared  -L/usr/local/lib'


Characteristics of this binary (from libperl): 
  Compile-time options: PERL_DONT_CREATE_GVSV PERL_MALLOC_WRAP USE_64_BIT_ALL
                        USE_64_BIT_INT USE_LARGE_FILES USE_PERLIO
  Built under dragonfly
  Compiled at Jun  8 2011 11:23:19
  %ENV:
    PERL5LIB=":/usr/home/cpan/pit/bare/conf/perl-5.10.0/.cpanplus/5.10.0/build/Internals-CountObjects-0.05/blib/lib:/usr/home/cpan/pit/bare/conf/perl-5.10.0/.cpanplus/5.10.0/build/Internals-CountObjects-0.05/blib/arch"
    PERL5_CPANPLUS_IS_RUNNING="67825"
    PERL5_CPANPLUS_IS_VERSION="0.9105"
    PERL5_MINISMOKEBOX="0.54"
    PERL5_YACSMOKE_BASE="/usr/home/cpan/pit/bare/conf/perl-5.10.0"
    PERL_EXTUTILS_AUTOINSTALL="--defaultdeps"
    PERL_MM_USE_DEFAULT="1"
  @INC:
    /usr/home/cpan/pit/bare/conf/perl-5.10.0/.cpanplus/5.10.0/build/Internals-CountObjects-0.05/blib/lib
    /usr/home/cpan/pit/bare/conf/perl-5.10.0/.cpanplus/5.10.0/build/Internals-CountObjects-0.05/blib/arch
    /usr/home/cpan/pit/bare/perl-5.10.0/lib/5.10.0/x86_64-dragonfly
    /usr/home/cpan/pit/bare/perl-5.10.0/lib/5.10.0
    /usr/home/cpan/pit/bare/perl-5.10.0/lib/site_perl/5.10.0/x86_64-dragonfly
    /usr/home/cpan/pit/bare/perl-5.10.0/lib/site_perl/5.10.0
    .