DateTime v1.66 Perl 5 v5.40.0 darwin-2level

Status
Pass
From
Philip Sharman
Dist
DateTime v1.66
Platform
Perl 5 v5.40.0 darwin-2level
Date
2025-03-30 21:23:41
ID
40d78bc8-0dad-11f0-89d1-dfa7517338be
This distribution has been tested as part of the CPAN Testers
project, supporting the Perl programming language.  See
http://wiki.cpantesters.org/ for more information or email
questions to cpan-testers-discuss@perl.org


--
Dear Dave Rolsky,

This is a computer-generated report for DateTime-1.66
on perl 5.40.0, created by CPAN-Reporter-1.2020.

Thank you for uploading your work to CPAN.  Congratulations!
All tests were successful.

Sections of this report:

    * Tester comments
    * Program output
    * Prerequisites
    * Environment and other context

------------------------------
TESTER COMMENTS
------------------------------

Additional comments from tester:

none provided

------------------------------
PROGRAM OUTPUT
------------------------------

Output from '/usr/bin/make test':

"/Users/philip/perl5/perlbrew/perls/perl-5.40.0/bin/perl" -MExtUtils::Command::MM -e 'cp_nonempty' -- DateTime.bs blib/arch/auto/DateTime/DateTime.bs 644
PERL_DL_NONLAZY=1 "/Users/philip/perl5/perlbrew/perls/perl-5.40.0/bin/perl" "-MExtUtils::Command::MM" "-MTest::Harness" "-e" "undef *Test::Harness::Switches; test_harness(0, 'blib/lib', 'blib/arch')" t/*.t
# 
# Versions for all modules listed in MYMETA.json (including optional ones):
# 
# === Configure Requires ===
# 
#     Module               Want Have
#     -------------------- ---- ----
#     Dist::CheckConflicts 0.02 0.11
#     ExtUtils::MakeMaker   any 7.70
# 
# === Configure Suggests ===
# 
#     Module      Want Have
#     -------- ------- ----
#     JSON::PP 2.27300 4.16
# 
# === Build Requires ===
# 
#     Module              Want Have
#     ------------------- ---- ----
#     ExtUtils::MakeMaker  any 7.70
# 
# === Test Requires ===
# 
#     Module                    Want     Have
#     ------------------------ ----- --------
#     CPAN::Meta::Check        0.011    0.018
#     CPAN::Meta::Requirements   any    2.143
#     ExtUtils::MakeMaker        any     7.70
#     File::Spec                 any     3.90
#     Storable                   any     3.32
#     Term::ANSIColor            any     5.01
#     Test::Fatal                any    0.017
#     Test::More                0.96 1.302209
#     Test::Warnings           0.005    0.038
#     Test::Without::Module      any     0.23
#     utf8                       any     1.25
# 
# === Test Recommends ===
# 
#     Module         Want     Have
#     ---------- -------- --------
#     CPAN::Meta 2.120900 2.150010
# 
# === Runtime Requires ===
# 
#     Module                         Want     Have
#     -------------------------- -------- --------
#     Carp                            any     1.54
#     DateTime::Locale               1.06     1.44
#     DateTime::TimeZone             2.44     2.64
#     Dist::CheckConflicts           0.02     0.11
#     POSIX                           any     2.20
#     Params::ValidationCompiler     0.26     0.31
#     Scalar::Util                    any     1.68
#     Specio                         0.50     0.50
#     Specio::Declare                 any     0.50
#     Specio::Exporter                any     0.50
#     Specio::Library::Builtins       any     0.50
#     Specio::Library::Numeric        any     0.50
#     Specio::Library::String         any     0.50
#     Specio::Subs                    any     0.50
#     Try::Tiny                       any     0.32
#     XSLoader                        any     0.32
#     integer                         any     1.01
#     namespace::autoclean           0.19     0.31
#     overload                        any     1.37
#     parent                          any    0.244
#     perl                       5.008004 5.040000
#     strict                          any     1.13
#     warnings                        any     1.70
#     warnings::register              any     1.06
# 
t/00-report-prereqs.t .... ok
t/00load.t ............... ok
t/01sanity.t ............. ok
t/02last-day.t ........... ok
t/03components.t ......... ok
t/04epoch.t .............. ok
t/05set.t ................ ok
t/06add.t ................ ok
t/07compare.t ............ ok
t/09greg.t ............... ok
t/10subtract.t ........... ok
t/11duration.t ........... ok
t/12week.t ............... ok
t/13strftime.t ........... ok
t/14locale.t ............. ok
t/15jd.t ................. ok
t/16truncate.t ........... ok
t/17set-return.t ......... ok
t/18today.t .............. ok
t/19leap-second.t ........ ok
t/20infinite.t ........... ok
t/21bad-params.t ......... ok
t/22from-doy.t ........... ok
t/23storable.t ........... ok
t/24from-object.t ........ ok
t/25add-subtract.t ....... ok
t/26dt-leapsecond-pm.t ... ok
t/27delta.t .............. ok
t/28dow.t ................ ok
t/29overload.t ........... ok
t/30future-tz.t .......... ok
t/31formatter.t .......... ok
t/32leap-second2.t ....... ok
t/33seconds-offset.t ..... ok
t/34set-tz.t ............. ok
t/35rd-values.t .......... ok
t/36invalid-local.t ...... ok
t/37local-add.t .......... ok
t/38local-subtract.t ..... ok
t/39no-so.t .............. ok
t/40leap-years.t ......... ok
t/41cldr-format.t ........ ok
t/42duration-class.t ..... ok
t/43new-params.t ......... ok
t/44set-formatter.t ...... ok
t/45core-time.t .......... ok
t/46warnings.t ........... ok
t/47default-time-zone.t .. ok
t/48rt-115983.t .......... ok
t/49-without-sub-util.t .. ok
t/zzz-check-breaks.t ..... ok
All tests successful.
Files=51, Tests=3589, 30 wallclock secs ( 0.52 usr  0.18 sys + 25.24 cusr  2.40 csys = 28.34 CPU)
Result: PASS

------------------------------
PREREQUISITES
------------------------------

Prerequisite modules loaded:

requires:

    Module                     Need     Have    
    -------------------------- -------- --------
    Carp                       0        1.54    
    DateTime::Locale           1.06     1.44    
    DateTime::TimeZone         2.44     2.64    
    Dist::CheckConflicts       0.02     0.11    
    integer                    0        1.01    
    namespace::autoclean       0.19     0.31    
    overload                   0        1.37    
    Params::ValidationCompiler 0.26     0.31    
    parent                     0        0.244   
    perl                       5.008004 5.040000
    POSIX                      0        2.20    
    Scalar::Util               0        1.68    
    Specio                     0.50     0.50    
    Specio::Declare            0        0.50    
    Specio::Exporter           0        0.50    
    Specio::Library::Builtins  0        0.50    
    Specio::Library::Numeric   0        0.50    
    Specio::Library::String    0        0.50    
    Specio::Subs               0        0.50    
    strict                     0        1.13    
    Try::Tiny                  0        0.32    
    warnings                   0        1.70    
    warnings::register         0        1.06    
    XSLoader                   0        0.32    

build_requires:

    Module                     Need     Have    
    -------------------------- -------- --------
    CPAN::Meta::Check          0.011    0.018   
    CPAN::Meta::Requirements   0        2.143   
    ExtUtils::MakeMaker        0        7.70    
    File::Spec                 0        3.90    
    Storable                   0        3.32    
    Term::ANSIColor            0        5.01    
    Test::Fatal                0        0.017   
    Test::More                 0.96     1.302209
    Test::Warnings             0.005    0.038   
    Test::Without::Module      0        0.23    
    utf8                       0        1.25    

configure_requires:

    Module                     Need     Have    
    -------------------------- -------- --------
    Dist::CheckConflicts       0.02     0.11    
    ExtUtils::MakeMaker        0        7.70    

opt_build_requires:

    Module                     Need     Have    
    -------------------------- -------- --------
    CPAN::Meta                 2.120900 2.150010


------------------------------
ENVIRONMENT AND OTHER CONTEXT
------------------------------

Environment variables:

    LANG = en_CA.UTF-8
    NONINTERACTIVE_TESTING = 1
    PATH = /opt/local/bin:/opt/local/sbin:/usr/local/opt/ruby/bin:/usr/local/sbin:/Users/philip/perl5/perlbrew/bin:/Users/philip/perl5/perlbrew/perls/perl-5.40.0/bin:/usr/local/bin:/usr/bin:/bin:/usr/sbin:/sbin:/Applications/VMware Fusion.app/Contents/Public:/Applications/Little Snitch.app/Contents/Components:/opt/X11/bin:/Library/Apple/usr/bin
    PERL5LIB = 
    PERL5OPT = 
    PERL5_CPANPLUS_IS_RUNNING = 26165
    PERL5_CPAN_IS_RUNNING = 26165
    PERLBREW_HOME = /Users/philip/.perlbrew
    PERLBREW_MANPATH = /Users/philip/perl5/perlbrew/perls/perl-5.40.0/man
    PERLBREW_PATH = /Users/philip/perl5/perlbrew/bin:/Users/philip/perl5/perlbrew/perls/perl-5.40.0/bin
    PERLBREW_PERL = perl-5.40.0
    PERLBREW_ROOT = /Users/philip/perl5/perlbrew
    PERLBREW_SHELLRC_VERSION = 0.95
    PERLBREW_VERSION = 0.95
    PERL_MM_USE_DEFAULT = 1
    PERL_USE_UNSAFE_INC = 1
    SHELL = /usr/local/bin/bash
    TERM = xterm-256color
    TMPDIR = /var/folders/06/jdftkz7977sgdq6w4087fn4c0000gn/T/

Perl special variables (and OS-specific diagnostics, for MSWin32):

    $^X = /Users/philip/perl5/perlbrew/perls/perl-5.40.0/bin/perl
    $UID/$EUID = 501 / 501
    $GID = 20 20 12 61 79 80 81 98 701 33 100 204 250 395 398 399 400
    $EGID = 20 20 12 61 79 80 81 98 701 33 100 204 250 395 398 399 400

Perl module toolchain versions installed:

    Module              Have    
    ------------------- --------
    CPAN                2.38    
    CPAN::Meta          2.150010
    Cwd                 3.90    
    ExtUtils::CBuilder  0.280240
    ExtUtils::Command   7.70    
    ExtUtils::Install   2.22    
    ExtUtils::MakeMaker 7.70    
    ExtUtils::Manifest  1.75    
    ExtUtils::ParseXS   3.51    
    File::Spec          3.90    
    JSON                4.10    
    JSON::PP            4.16    
    Module::Build       0.4234  
    Module::Signature   n/a     
    Parse::CPAN::Meta   2.150010
    Test2               1.302209
    Test::Harness       3.50    
    Test::More          1.302209
    YAML                1.31    
    YAML::Syck          n/a     
    version             0.9933  


--

Summary of my perl5 (revision 5 version 40 subversion 0) configuration:
   
  Platform:
    osname=darwin
    osvers=20.6.0
    archname=darwin-2level
    uname='darwin imac3.local 20.6.0 darwin kernel version 20.6.0: thu jul 6 22:12:47 pdt 2023; root:xnu-7195.141.49.702.12~1release_x86_64 x86_64 '
    config_args='-de -Dprefix=/Users/philip/perl5/perlbrew/perls/perl-5.40.0 -Aeval:scriptdir=/Users/philip/perl5/perlbrew/perls/perl-5.40.0/bin'
    hint=recommended
    useposix=true
    d_sigaction=define
    useithreads=undef
    usemultiplicity=undef
    use64bitint=define
    use64bitall=define
    uselongdouble=undef
    usemymalloc=n
    default_inc_excludes_dot=define
  Compiler:
    cc='cc'
    ccflags ='-fno-common -DPERL_DARWIN -mmacosx-version-min=11.7 -DNO_THREAD_SAFE_QUERYLOCALE -DNO_POSIX_2008_LOCALE -fno-strict-aliasing -pipe -fstack-protector-strong -I/usr/local/include -I/opt/local/include'
    optimize='-O3'
    cppflags='-fno-common -DPERL_DARWIN -mmacosx-version-min=11.7 -DNO_THREAD_SAFE_QUERYLOCALE -DNO_POSIX_2008_LOCALE -fno-strict-aliasing -pipe -fstack-protector-strong -I/usr/local/include -I/opt/local/include'
    ccversion=''
    gccversion='Apple LLVM 13.0.0 (clang-1300.0.29.30)'
    gccosandvers=''
    intsize=4
    longsize=8
    ptrsize=8
    doublesize=8
    byteorder=12345678
    doublekind=3
    d_longlong=define
    longlongsize=8
    d_longdbl=define
    longdblsize=16
    longdblkind=3
    ivtype='long'
    ivsize=8
    nvtype='double'
    nvsize=8
    Off_t='off_t'
    lseeksize=8
    alignbytes=8
    prototype=define
  Linker and Libraries:
    ld='cc'
    ldflags =' -mmacosx-version-min=11.7 -fstack-protector-strong -L/usr/local/lib -L/opt/local/lib'
    libpth=/usr/local/lib /Applications/Xcode.app/Contents/Developer/Toolchains/XcodeDefault.xctoolchain/usr/lib/clang/13.0.0/lib /Applications/Xcode.app/Contents/Developer/Platforms/MacOSX.platform/Developer/SDKs/MacOSX.sdk/usr/lib /Applications/Xcode.app/Contents/Developer/Toolchains/XcodeDefault.xctoolchain/usr/lib /opt/local/lib /usr/lib
    libs=-lgdbm
    perllibs=
    libc=
    so=dylib
    useshrplib=false
    libperl=libperl.a
    gnulibc_version=''
  Dynamic Linking:
    dlsrc=dl_dlopen.xs
    dlext=bundle
    d_dlsymun=undef
    ccdlflags=' '
    cccdlflags=' '
    lddlflags=' -mmacosx-version-min=11.7 -bundle -undefined dynamic_lookup -L/usr/local/lib -L/opt/local/lib -fstack-protector-strong'


Characteristics of this binary (from libperl): 
  Compile-time options:
    HAS_LONG_DOUBLE
    HAS_STRTOLD
    HAS_TIMES
    PERLIO_LAYERS
    PERL_COPY_ON_WRITE
    PERL_DONT_CREATE_GVSV
    PERL_HASH_FUNC_SIPHASH13
    PERL_HASH_USE_SBOX32
    PERL_MALLOC_WRAP
    PERL_OP_PARENT
    PERL_PRESERVE_IVUV
    PERL_USE_SAFE_PUTENV
    USE_64_BIT_ALL
    USE_64_BIT_INT
    USE_LARGE_FILES
    USE_LOCALE
    USE_LOCALE_COLLATE
    USE_LOCALE_CTYPE
    USE_LOCALE_NUMERIC
    USE_LOCALE_TIME
    USE_PERLIO
    USE_PERL_ATOF
  Built under darwin
  Compiled at Jun 20 2024 17:31:28
  %ENV:
    PERL5LIB=""
    PERL5OPT=""
    PERL5_CPANPLUS_IS_RUNNING="26165"
    PERL5_CPAN_IS_RUNNING="26165"
    PERLBREW_HOME="/Users/philip/.perlbrew"
    PERLBREW_MANPATH="/Users/philip/perl5/perlbrew/perls/perl-5.40.0/man"
    PERLBREW_PATH="/Users/philip/perl5/perlbrew/bin:/Users/philip/perl5/perlbrew/perls/perl-5.40.0/bin"
    PERLBREW_PERL="perl-5.40.0"
    PERLBREW_ROOT="/Users/philip/perl5/perlbrew"
    PERLBREW_SHELLRC_VERSION="0.95"
    PERLBREW_VERSION="0.95"
    PERL_MM_USE_DEFAULT="1"
    PERL_USE_UNSAFE_INC="1"
  @INC:
    /Users/philip/perl5/perlbrew/perls/perl-5.40.0/lib/site_perl/5.40.0/darwin-2level
    /Users/philip/perl5/perlbrew/perls/perl-5.40.0/lib/site_perl/5.40.0
    /Users/philip/perl5/perlbrew/perls/perl-5.40.0/lib/5.40.0/darwin-2level
    /Users/philip/perl5/perlbrew/perls/perl-5.40.0/lib/5.40.0
    .