Back
From: metabase:user:322078bc-2aae-11df-837a-5e0a49663a4f
Subject: PASS HTML-FormatExternal-20 v5.14.0 OpenBSD
Date: 2013-06-13T03:13:43Z
This distribution has been tested as part of the CPAN Testers
project, supporting the Perl programming language. See
http://wiki.cpantesters.org/ for more information or email
questions to cpan-testers-discuss@perl.org
--
Dear KRYDE,
This is a computer-generated error report created automatically by
CPANPLUS, version 0.9136. Testers personal comments may appear
at the end of this report.
Thank you for uploading your work to CPAN. Congratulations!
All tests were successful.
TEST RESULTS:
Below is the error stack from stage 'make test':
PERL_DL_NONLAZY=1 /home/cpan/pit/thr/perl-5.14.0/bin/perl "-MExtUtils::Command::MM" "-e" "test_harness(0, 'blib/lib', 'blib/arch')" t/*.t
t/Elinks.t .......... ok
# HTML::FormatText::Elinks
# HTML::FormatText::Elinks program_full_version $VAR1 = undef;
# HTML::FormatText::Elinks program_version $VAR1 = undef;
# HTML::FormatText::Html2text
# HTML::FormatText::Html2text program_full_version $VAR1 = undef;
# HTML::FormatText::Html2text program_version $VAR1 = undef;
# HTML::FormatText::Html2text _have_ascii() no
# HTML::FormatText::Links
# HTML::FormatText::Links program_full_version $VAR1 = undef;
# HTML::FormatText::Links program_version $VAR1 = undef;
# HTML::FormatText::Links _have_html_margin() no
# HTML::FormatText::Lynx
# HTML::FormatText::Lynx program_full_version $VAR1 = 'Lynx Version 2.8.7rel.2 (21 Jun 2010)
# libwww-FM 2.14, SSL-MM 1.4.1, OpenSSL 1.0.0f, ncurses 5.7.20081102(wide)
# Built on openbsd5.1 Feb 12 2012 09:12:25
#
# Copyrights held by the Lynx Developers Group,
# the University of Kansas, CERN, and other contributors.
# Distributed under the GNU General Public License (Version 2).
# See http://lynx.isc.org/ and the online help for more information.
#
# See http://www.openssl.org/ for information about OpenSSL.
# ';
# HTML::FormatText::Lynx program_version $VAR1 = '2.8.7rel.2';
# HTML::FormatText::Lynx _have_nomargins() yes
# $output = "\n123 567 9012\nabc def ghij\n";
# HTML::FormatText::Netrik
# HTML::FormatText::Netrik program_full_version $VAR1 = undef;
# HTML::FormatText::Netrik program_version $VAR1 = undef;
# HTML::FormatText::W3m
# HTML::FormatText::W3m program_full_version $VAR1 = undef;
# HTML::FormatText::W3m program_version $VAR1 = undef;
# HTML::FormatText::Zen
# HTML::FormatText::Zen program_full_version $VAR1 = undef;
# HTML::FormatText::Zen program_version $VAR1 = undef;
t/FormatExternal.t .. ok
t/Links.t ........... ok
All tests successful.
Files=3, Tests=289, 2 wallclock secs ( 0.06 usr 0.08 sys + 0.46 cusr 0.33 csys = 0.93 CPU)
Result: PASS
PREREQUISITES:
Here is a list of prerequisites you specified and versions we
managed to load:
Module Name Have Want
Encode 2.42 0
ExtUtils::MakeMaker 6.66 0
File::Spec 3.40 0.8
File::Temp 0.2301 0.18
IPC::Run 0.92 0
Test::More 0.98 0
URI::file 4.21 0.08
Perl module toolchain versions installed:
Module Name Have
CPANPLUS 0.9136
CPANPLUS::Dist::Build 0.70
Cwd 3.40
ExtUtils::CBuilder 0.280205
ExtUtils::Command 1.17
ExtUtils::Install 1.56
ExtUtils::MakeMaker 6.66
ExtUtils::Manifest 1.61
ExtUtils::ParseXS 3.18
File::Spec 3.40
Module::Build 0.4005
Pod::Parser 1.37
Pod::Simple 3.16
Test::Harness 3.28
Test::More 0.98
version 0.9902
******************************** NOTE ********************************
The comments above are created mechanically, possibly without manual
checking by the sender. As there are many people performing automatic
tests on each upload to CPAN, it is likely that you will receive
identical messages about the same problem.
If you believe that the message is mistaken, please reply to the first
one with correction and/or additional informations, and do not take
it personally. We appreciate your patience. :)
**********************************************************************
Additional comments:
This report was machine-generated by CPANPLUS::Dist::YACSmoke 0.86.
Powered by minismokebox version 0.56
------------------------------
ENVIRONMENT AND OTHER CONTEXT
------------------------------
Environment variables:
AUTOMATED_TESTING = 1
PATH = /home/cpan/bin:/bin:/sbin:/usr/bin:/usr/sbin:/usr/X11R6/bin:/usr/local/bin:/usr/local/sbin:/usr/games:.
PERL5LIB = :/home/cpan/pit/thr/conf/perl-5.14.0/.cpanplus/5.14.0/build/IPC-Run-0.92/blib/lib:/home/cpan/pit/thr/conf/perl-5.14.0/.cpanplus/5.14.0/build/IPC-Run-0.92/blib/arch:/home/cpan/pit/thr/conf/perl-5.14.0/.cpanplus/5.14.0/build/URI-1.60/blib/lib:/home/cpan/pit/thr/conf/perl-5.14.0/.cpanplus/5.14.0/build/URI-1.60/blib/arch:/home/cpan/pit/thr/conf/perl-5.14.0/.cpanplus/5.14.0/build/HTML-FormatExternal-20/blib/lib:/home/cpan/pit/thr/conf/perl-5.14.0/.cpanplus/5.14.0/build/HTML-FormatExternal-20/blib/arch
PERL5_CPANPLUS_IS_RUNNING = 11278
PERL5_CPANPLUS_IS_VERSION = 0.9136
PERL5_MINISMOKEBOX = 0.56
PERL5_YACSMOKE_BASE = /home/cpan/pit/thr/conf/perl-5.14.0
PERL_EXTUTILS_AUTOINSTALL = --defaultdeps
PERL_MM_USE_DEFAULT = 1
SHELL = /usr/local/bin/bash
TERM = screen
Perl special variables (and OS-specific diagnostics, for MSWin32):
Perl: $^X = /home/cpan/pit/thr/perl-5.14.0/bin/perl
UID: $< = 1001
EUID: $> = 1001
GID: $( = 1001 1001
EGID: $) = 1001 1001
-------------------------------
--
Summary of my perl5 (revision 5 version 14 subversion 0) configuration:
Platform:
osname=openbsd, osvers=5.1, archname=OpenBSD.i386-openbsd-thread-multi
uname='openbsd oatcake.bingosnet.co.uk 5.1 generic#160 i386 '
config_args='-des -Dprefix=/home/cpan/pit/thr/perl-5.14.0 -Dusethreads'
hint=recommended, useposix=true, d_sigaction=define
useithreads=define, usemultiplicity=define
useperlio=define, d_sfio=undef, uselargefiles=define, usesocks=undef
use64bitint=undef, use64bitall=undef, uselongdouble=undef
usemymalloc=y, bincompat5005=undef
Compiler:
cc='cc', ccflags ='-pthread -fno-strict-aliasing -pipe -fstack-protector -I/usr/local/include',
optimize='-O2',
cppflags='-pthread -fno-strict-aliasing -pipe -fstack-protector -I/usr/local/include'
ccversion='', gccversion='4.2.1 20070719 ', gccosandvers='openbsd5.1'
intsize=4, longsize=4, ptrsize=4, doublesize=8, byteorder=1234
d_longlong=define, longlongsize=8, d_longdbl=define, longdblsize=12
ivtype='long', ivsize=4, nvtype='double', nvsize=8, Off_t='off_t', lseeksize=8
alignbytes=4, prototype=define
Linker and Libraries:
ld='cc', ldflags ='-pthread -Wl,-E -fstack-protector -L/usr/local/lib'
libpth=/usr/local/lib /usr/lib
libs=-lgdbm -lm -lutil -lc
perllibs=-lm -lutil -lc
libc=/usr/lib/libc.so.62.0, so=so, useshrplib=false, libperl=libperl.a
gnulibc_version=''
Dynamic Linking:
dlsrc=dl_dlopen.xs, dlext=so, d_dlsymun=undef, ccdlflags=' '
cccdlflags='-DPIC -fPIC ', lddlflags='-shared -fPIC -L/usr/local/lib -fstack-protector'
Characteristics of this binary (from libperl):
Compile-time options: MULTIPLICITY MYMALLOC PERL_DONT_CREATE_GVSV
PERL_IMPLICIT_CONTEXT PERL_MALLOC_WRAP
PERL_PRESERVE_IVUV USE_ITHREADS USE_LARGE_FILES
USE_PERLIO USE_PERL_ATOF USE_REENTRANT_API
Built under openbsd
Compiled at May 4 2012 00:01:51
%ENV:
PERL5LIB=":/home/cpan/pit/thr/conf/perl-5.14.0/.cpanplus/5.14.0/build/IPC-Run-0.92/blib/lib:/home/cpan/pit/thr/conf/perl-5.14.0/.cpanplus/5.14.0/build/IPC-Run-0.92/blib/arch:/home/cpan/pit/thr/conf/perl-5.14.0/.cpanplus/5.14.0/build/URI-1.60/blib/lib:/home/cpan/pit/thr/conf/perl-5.14.0/.cpanplus/5.14.0/build/URI-1.60/blib/arch:/home/cpan/pit/thr/conf/perl-5.14.0/.cpanplus/5.14.0/build/HTML-FormatExternal-20/blib/lib:/home/cpan/pit/thr/conf/perl-5.14.0/.cpanplus/5.14.0/build/HTML-FormatExternal-20/blib/arch"
PERL5_CPANPLUS_IS_RUNNING="11278"
PERL5_CPANPLUS_IS_VERSION="0.9136"
PERL5_MINISMOKEBOX="0.56"
PERL5_YACSMOKE_BASE="/home/cpan/pit/thr/conf/perl-5.14.0"
PERL_EXTUTILS_AUTOINSTALL="--defaultdeps"
PERL_MM_USE_DEFAULT="1"
@INC:
/home/cpan/pit/thr/conf/perl-5.14.0/.cpanplus/5.14.0/build/IPC-Run-0.92/blib/lib
/home/cpan/pit/thr/conf/perl-5.14.0/.cpanplus/5.14.0/build/IPC-Run-0.92/blib/arch
/home/cpan/pit/thr/conf/perl-5.14.0/.cpanplus/5.14.0/build/URI-1.60/blib/lib
/home/cpan/pit/thr/conf/perl-5.14.0/.cpanplus/5.14.0/build/URI-1.60/blib/arch
/home/cpan/pit/thr/conf/perl-5.14.0/.cpanplus/5.14.0/build/HTML-FormatExternal-20/blib/lib
/home/cpan/pit/thr/conf/perl-5.14.0/.cpanplus/5.14.0/build/HTML-FormatExternal-20/blib/arch
/home/cpan/pit/thr/perl-5.14.0/lib/site_perl/5.14.0/OpenBSD.i386-openbsd-thread-multi
/home/cpan/pit/thr/perl-5.14.0/lib/site_perl/5.14.0
/home/cpan/pit/thr/perl-5.14.0/lib/5.14.0/OpenBSD.i386-openbsd-thread-multi
/home/cpan/pit/thr/perl-5.14.0/lib/5.14.0
.