Crypt-SSLeay v0.72 Perl 5 v5.22.4 amd64-freebsd

Status
Pass
From
Nigel Horne
Dist
Crypt-SSLeay v0.72
Platform
Perl 5 v5.22.4 amd64-freebsd
Date
2018-06-04 13:14:46
ID
409ea1a2-67f9-11e8-bb70-85ebb7d57a06
This distribution has been tested as part of the CPAN Testers
project, supporting the Perl programming language.  See
http://wiki.cpantesters.org/ for more information or email
questions to cpan-testers-discuss@perl.org


--
Dear A. Sinan Unur,

This is a computer-generated report for Crypt-SSLeay-0.72
on perl 5.22.4, created by CPAN-Reporter-1.2018.

Thank you for uploading your work to CPAN.  Congratulations!
All tests were successful.

Sections of this report:

    * Tester comments
    * Program output
    * Prerequisites
    * Environment and other context

------------------------------
TESTER COMMENTS
------------------------------

Additional comments from tester:

none provided

------------------------------
PROGRAM OUTPUT
------------------------------

Output from '/usr/bin/make test':

Running Mkbootstrap for Crypt::SSLeay ()
chmod 644 "SSLeay.bs"
PERL_DL_NONLAZY=1 "/usr/home/njh/perl5/perlbrew/perls/perl-5.22.4/bin/perl" "-MExtUtils::Command::MM" "-MTest::Harness" "-e" "undef *Test::Harness::Switches; test_harness(0, 'blib/lib', 'blib/arch')" t/*.t
t/00-basic.t ..... ok
t/01-connect.t ... ok
# Reading configuration from 'test.config' on freebsd
# network_tests : 0
t/02-live.t ...... skipped: Network tests disabled
t/03-version.t ... ok
t/boilerplate.t .. ok
t/manifest.t ..... skipped: Author tests not required for installation
All tests successful.
Files=6, Tests=43,  0 wallclock secs ( 0.02 usr  0.02 sys +  0.42 cusr  0.05 csys =  0.52 CPU)
Result: PASS

------------------------------
PREREQUISITES
------------------------------

Prerequisite modules loaded:

requires:

    Module               Need     Have    
    -------------------- -------- --------
    LWP::Protocol::https 6.02     6.07    
    MIME::Base64         0        3.15    
    perl                 5.006    5.022004

build_requires:

    Module               Need     Have    
    -------------------- -------- --------
    ExtUtils::MakeMaker  0        7.04_02 
    Test::More           0.19     1.302136
    Try::Tiny            0.19     0.30    

configure_requires:

    Module               Need     Have    
    -------------------- -------- --------
    ExtUtils::CBuilder   0.280205 0.280221
    Getopt::Long         0        2.45    
    Path::Class          0.26     0.37    
    Try::Tiny            0.19     0.30    


------------------------------
ENVIRONMENT AND OTHER CONTEXT
------------------------------

Environment variables:

    LANG = 
    PATH = /home/njh/perl5/perlbrew/bin:/home/njh/perl5/perlbrew/perls/perl-5.22.4/bin:/sbin:/bin:/usr/sbin:/usr/bin:/usr/local/sbin:/usr/local/bin:/home/njh/bin
    PERL5LIB = 
    PERL5OPT = 
    PERL5_CPANPLUS_IS_RUNNING = 24568
    PERL5_CPAN_IS_RUNNING = 24568
    PERLBREW_HOME = /home/njh/.perlbrew
    PERLBREW_MANPATH = /home/njh/perl5/perlbrew/perls/perl-5.22.4/man
    PERLBREW_PATH = /home/njh/perl5/perlbrew/bin:/home/njh/perl5/perlbrew/perls/perl-5.22.4/bin
    PERLBREW_PERL = perl-5.22.4
    PERLBREW_ROOT = /home/njh/perl5/perlbrew
    PERLBREW_SHELLRC_VERSION = 0.83
    PERLBREW_VERSION = 0.83
    SHELL = /usr/local/bin/bash
    TERM = xterm-256color
    TMPDIR = /tmp

Perl special variables (and OS-specific diagnostics, for MSWin32):

    $^X = /usr/home/njh/perl5/perlbrew/perls/perl-5.22.4/bin/perl
    $UID/$EUID = 1000 / 1000
    $GID = 1000 1000 0
    $EGID = 1000 1000 0

Perl module toolchain versions installed:

    Module              Have      
    ------------------- ----------
    CPAN                2.16      
    CPAN::Meta          2.150001  
    Cwd                 3.56_02   
    ExtUtils::CBuilder  0.280221  
    ExtUtils::Command   1.20_01   
    ExtUtils::Install   2.04      
    ExtUtils::MakeMaker 7.04_02   
    ExtUtils::Manifest  1.70      
    ExtUtils::ParseXS   3.28      
    File::Spec          3.56_02   
    JSON                2.97001   
    JSON::PP            2.27300_01
    Module::Build       0.4224    
    Module::Signature   n/a       
    Parse::CPAN::Meta   1.4414_001
    Test::Harness       3.35_01   
    Test::More          1.302136  
    YAML                1.26      
    YAML::Syck          1.30      
    version             0.9909    


--

Summary of my perl5 (revision 5 version 22 subversion 4) configuration:
   
  Platform:
    osname=freebsd, osvers=11.1-release-p4, archname=amd64-freebsd
    uname='freebsd njh3.vultr.com 11.1-release-p4 freebsd 11.1-release-p4 #0: tue nov 14 06:12:40 utc 2017 root@amd64-builder.daemonology.net:usrobjusrsrcsysgeneric amd64 '
    config_args='-de -Dprefix=/home/njh/perl5/perlbrew/perls/perl-5.22.4 -Aeval:scriptdir=/home/njh/perl5/perlbrew/perls/perl-5.22.4/bin'
    hint=recommended, useposix=true, d_sigaction=define
    useithreads=undef, usemultiplicity=undef
    use64bitint=define, use64bitall=define, uselongdouble=undef
    usemymalloc=n, bincompat5005=undef
  Compiler:
    cc='cc', ccflags ='-DHAS_FPSETMASK -DHAS_FLOATINGPOINT_H -fno-strict-aliasing -pipe -fstack-protector-strong -I/usr/local/include -D_FORTIFY_SOURCE=2',
    optimize='-O',
    cppflags='-DHAS_FPSETMASK -DHAS_FLOATINGPOINT_H -fno-strict-aliasing -pipe -fstack-protector-strong -I/usr/local/include'
    ccversion='', gccversion='4.2.1 Compatible FreeBSD Clang 4.0.0 (tags/RELEASE_400/final 297347)', gccosandvers=''
    intsize=4, longsize=8, ptrsize=8, doublesize=8, byteorder=12345678, doublekind=3
    d_longlong=define, longlongsize=8, d_longdbl=define, longdblsize=16, longdblkind=3
    ivtype='long', ivsize=8, nvtype='double', nvsize=8, Off_t='off_t', lseeksize=8
    alignbytes=8, prototype=define
  Linker and Libraries:
    ld='cc', ldflags ='-Wl,-E  -fstack-protector-strong -L/usr/local/lib'
    libpth=/usr/lib /usr/local/lib /usr/bin/../lib/clang/4.0.0/lib /usr/lib
    libs=-lpthread -lm -lcrypt -lutil -lc
    perllibs=-lpthread -lm -lcrypt -lutil -lc
    libc=, so=so, useshrplib=false, libperl=libperl.a
    gnulibc_version=''
  Dynamic Linking:
    dlsrc=dl_dlopen.xs, dlext=so, d_dlsymun=undef, ccdlflags=' '
    cccdlflags='-DPIC -fPIC', lddlflags='-shared  -L/usr/local/lib -fstack-protector-strong'


Characteristics of this binary (from libperl): 
  Compile-time options: HAS_TIMES PERLIO_LAYERS PERL_DONT_CREATE_GVSV
                        PERL_HASH_FUNC_ONE_AT_A_TIME_HARD PERL_MALLOC_WRAP
                        PERL_NEW_COPY_ON_WRITE PERL_PRESERVE_IVUV
                        USE_64_BIT_ALL USE_64_BIT_INT USE_LARGE_FILES
                        USE_LOCALE USE_LOCALE_COLLATE USE_LOCALE_CTYPE
                        USE_LOCALE_NUMERIC USE_LOCALE_TIME USE_PERLIO
                        USE_PERL_ATOF
  Locally applied patches:
	Devel::PatchPerl 1.48
  Built under freebsd
  Compiled at Jun  3 2018 17:12:33
  %ENV:
    PERL5LIB=""
    PERL5OPT=""
    PERL5_CPANPLUS_IS_RUNNING="24568"
    PERL5_CPAN_IS_RUNNING="24568"
    PERLBREW_HOME="/home/njh/.perlbrew"
    PERLBREW_MANPATH="/home/njh/perl5/perlbrew/perls/perl-5.22.4/man"
    PERLBREW_PATH="/home/njh/perl5/perlbrew/bin:/home/njh/perl5/perlbrew/perls/perl-5.22.4/bin"
    PERLBREW_PERL="perl-5.22.4"
    PERLBREW_ROOT="/home/njh/perl5/perlbrew"
    PERLBREW_SHELLRC_VERSION="0.83"
    PERLBREW_VERSION="0.83"
  @INC:
    /home/njh/perl5/perlbrew/perls/perl-5.22.4/lib/site_perl/5.22.4/amd64-freebsd
    /home/njh/perl5/perlbrew/perls/perl-5.22.4/lib/site_perl/5.22.4
    /home/njh/perl5/perlbrew/perls/perl-5.22.4/lib/5.22.4/amd64-freebsd
    /home/njh/perl5/perlbrew/perls/perl-5.22.4/lib/5.22.4
    .